{"text_format":"1","workbook":"xlsx","n_sheets":7,"sheets":["CALCULADORA","Características","Flujos","TIR de Tenencia","Tabla de Amortizacion","Tablas","Exclusión"],"not_rendered":{"charts":0,"images":3,"macros":1,"external_links":1,"defined_names":4,"comments":0,"pivot_tables":0},"unopened":[],"bounds":{"document_bytes":16777216,"sheet_cells":100000,"rows_first":2000,"rows_last":500,"rows_between":2000,"halvings":0,"cell_chars":16384,"cell_head_chars":4096},"cells_cut":0,"cells_raw":0,"read":"whole","date_system":"1900"}

{"sheet":"CALCULADORA","index":0,"n_rows":43,"n_cols":8,"rows_kept":43,"cut":false,"hidden":false,"merged":[[58,7,58,8],[10,1,10,2],[38,7,38,8],[6,1,6,2],[21,1,21,2],[25,1,25,2],[38,10,38,11],[21,3,23,4]]}
[null,"Exclusión de responsabilidad",null,null,null,null,null,"Valor nominal negociado"]
[null,null,null,null,null,null,null,"TIPS N13 A"]
[null,null,null,null,null,null,null,"TIPS N14 A"]
[null,null,null,null,null,null,null,"TIPS N15 A"]
[null,null,null,null,null,null,null,"TIPS N16 A"]
[null,null,null,null,null,null,null,"TIPS N17 A "]
[null,"Calculadora Emisiones TIPS en Pesos",null,null,null,null,null,"TIPS N18 A 2034"]
[null,null,null,null,null,null,null,"TIPS N19 A 2034"]
[null,"Emisión","TIPS N21 A",null,"Seleccionar la Emisión a Calcular",null,null,"TIPS N20 A 2034"]
[null,null,null,null,null,null,null,"TIPS N21 A"]
[null,"Características"]
[null,"Identificación titulo (Nemotécnico)",{"$f":"+HLOOKUP(C9,Características!B1:J7,2,FALSE)","v":"INST13240634"},null,null,91.808000000000007]
[null,"Fecha de Emisión ",{"$f":"+HLOOKUP(C9,Características!B1:J7,4,FALSE)","v":"2021-06-24"},null,null,97.997]
[null,"Fecha de Vencimiento Contractual",{"$f":"+HLOOKUP(C9,Características!B1:J7,5,FALSE)","v":"2034-06-24"}]
[null,"Fecha estimada para el pago del 100% del título",{"$f":"+VLOOKUP(0,Flujos!D2:J182,6,FALSE)","v":"2032-01-24"}]
[null,"Tasa Facial Efectiva Anual",{"$f":"+HLOOKUP(C9,Características!B1:J7,6,FALSE)","v":6.0600000000000001E-2}]
[null,"Tasa Facial Nominal Anual ",{"$f":"+ROUND(((1+C16)^(1/12)-1)*12,6)","v":5.8978999999999997E-2}]
[null,"Duración Macaulay",{"$f":"+SUMPRODUCT(Flujos!B2:B182,Flujos!H2:H182)/Flujos!H183/365","v":2.4207784865620279}]
[null,"Nominal Inicial  (Nominal del título al momento de la emisión)",{"$f":"Flujos!L2","v":128567217.78505512}]
[]
[]
[null,"Datos de Compra",null,"Fecha de Compra y Valor de Compra son datos opcionales deben incluirse solo para calcular la TIR de Tenencia"]
[null,"Fecha de Compra","2021-06-24"]
[null,"Valor de Compra (COP)",128567217]
[]
[null,"Datos de Venta"]
[null,"Fecha de Venta ","2024-02-08",null,"Incluir los datos de las celdas grises"]
[null,"Valor nominal a negociar (COP)",69165580]
[null,"Tasa de negociación / tasa de valoración",9.7799999999999998E-2]
[null,"Precio Limpio (sin incluir intereses causados)"]
[null,"Precio sucio (incluyendo intereses causados)",92.037000000000006]
[{"$f":"+Flujos!C183*100","v":53.797213000000013},"Porcentaje del nominal inicial que falta por pagar del capital",{"$f":"+Flujos!C183*100/100","v":0.5379721300000001}]
[null,"Valor de Giro (COP)",{"$f":"+Características!B32","v":63657925}]
[]
[null,"TIR de Tenencia en COP*",{"$f":"+'TIR de Tenencia'!K2","v":3.7503728270530709E-2}]
[]
[null,"Oficina de Atención a Inversionistas al 601 618 3030 ext 258 - 239, o al correo  smoreno@titularizadora.com - josorio@titularizadora.com"]
[]
[]
[]
[]
[]
[null,null,1]

{"sheet":"Características","index":1,"n_rows":39,"n_cols":10,"rows_kept":39,"cut":false,"hidden":true,"merged":[[8,0,8,1],[26,0,26,1]]}
["Serie","TIPS N13 A","TIPS N14 A","TIPS N15 A","TIPS N16 A","TIPS N17 A ","TIPS N18 A 2034","TIPS N19 A 2034","TIPS N20 A 2034","TIPS N21 A"]
["Nemo MEC","INST10011226","INST10080327","INST10270627","INST10061227","INST10150328","INST15040434","INST15230534","INST15041034","INST13240634"]
["ISIN"]
["Emisión","2016-12-01","2017-03-08","2017-06-27","2017-12-06","2018-03-15","2019-04-04","2019-05-23","2019-10-04","2021-06-24"]
["Vencimiento contractual","2026-12-01","2027-03-08","2042-03-08","2027-12-06","2033-03-15","2034-04-04","2034-05-23","2034-10-04","2034-06-24"]
["Cupón EA",8.3699999999999997E-2,7.7499999999999999E-2,6.9000000000000006E-2,6.3799999999999996E-2,6.5699999999999995E-2,6.83E-2,6.8900000000000003E-2,6.0400000000000002E-2,6.0600000000000001E-2]
["Moneda","COP","COP","COP","COP","COP","COP","COP","COP","COP"]
[]
["Cálculo de tasa y precio sucio a partir del limpio"]
["Fecha de liquidación",{"$f":"+CALCULADORA!C27","v":"2024-02-08"}]
["Fecha último pago cupón",{"$f":"+VLOOKUP(B10,Flujos!$A$2:$A$182,1)","v":"2024-01-24"}]
["Valor Par",{"$f":"+VLOOKUP(B11,Flujos!$A$2:$D$182,4)","v":53.797212999999999}]
["Próximo pago de interés",{"$f":"+VLOOKUP(EDATE(B10,1),Flujos!$A$2:$F$182,6)","v":0.26441300000000001}]
["Días corridos",{"$f":"+DAYS360(B11,B10,TRUE)","v":14}]
["Días entre flujos",30]
["Cupón corrido",{"$f":"ROUND(B13/B12*B14/B15*100,4)","v":0.22939999999999999}]
["Precio limpio",{"$f":"+TRUNC(Flujos!H183/VLOOKUP(CALCULADORA!C27,Flujos!A:D,4)*100,3)","v":92.037000000000006}]
["Nominal",{"$f":"+CALCULADORA!C28","v":69165580}]
["Moneda",1]
["Contravalor",{"$f":"ROUND(B18*B19*(B17+B16)/100,0)","v":63816591}]
["Precio unitario",{"$f":"TRUNC(B20/B18,5)","v":0.92266000000000004}]
["Precio sucio MEC",{"$f":"TRUNC(B21/B19*100,3)","v":92.266000000000005}]
["Precio sucio modelo",{"$f":"+B22","v":92.266000000000005}]
["Diferencia",{"$f":"+B22-B23","v":0}]
["Tasa de descuento equivalente",{"$f":"TRUNC(CALCULADORA!C29,5)","v":9.7799999999999998E-2}]
[]
["Cálculo de precio limpio y sucio a partir de tasa"]
["Tasa de descuento",{"$f":"TRUNC(CALCULADORA!C29,5)","v":9.7799999999999998E-2}]
["Precio sucio modelo",{"$f":"TRUNC(Flujos!H183/VLOOKUP(CALCULADORA!C27,Flujos!A2:D182,4)*100,3)","v":92.037000000000006}]
["Moneda",{"$f":"+CALCULADORA!$C$43","v":1}]
["Nominal",{"$f":"+CALCULADORA!C28","v":69165580}]
["Contravalor",{"$f":"+ROUND(B29/100*B31*B30,0)","v":63657925}]
["Valor Par",{"$f":"+VLOOKUP(B11,Flujos!$A$2:$D$182,4)","v":53.797212999999999}]
["Próximo pago de interés",{"$f":"+VLOOKUP(EDATE(B10,1),Flujos!$A$2:$F$182,6)","v":0.26441300000000001}]
["Días corridos",{"$f":"+DAYS360(B11,B10,TRUE)","v":14}]
["Días entre flujos",30]
["Precio unitario",{"$f":"TRUNC(B32/(B30*B31),5)","v":0.92037000000000002}]
["Cupón corrido",{"$f":"ROUND(B34/B33*B35/B36,6)*100","v":0.22939999999999999}]
["Precio limpio",{"$f":"ROUND((B37-(B38/100))*100,3)","v":91.808000000000007}]

{"sheet":"Flujos","index":2,"n_rows":183,"n_cols":15,"rows_kept":183,"cut":false,"hidden":false,"merged":[]}
["Fecha","Días 365 / Days 365","Amortización / Amortization","Factor Saldo","Factor Capital","Factor Intereses","Factor Total","VPN","Control","Mes inicial","Días iniciales","Saldo / Balance","Pago de Capital","Pago de Intereses","Pago Total"]
[{"$f":"+CALCULADORA!C13","v":"2021-06-24"},{"$f":"IF(DIAS365(CALCULADORA!$C$27,A2)<0,0,DIAS365(CALCULADORA!$C$27,A2))","v":0},0,{"$f":"+CALCULADORA!A32/Flujos!C183","v":100},0,0,{"$f":"F2+E2","v":0},{"$f":"IF($B2<0,0,G2/POWER(1+CALCULADORA!$C$29,Flujos!$B2/365))","v":0},{"$f":"+A2","v":"2021-06-24"},0,0,{"$f":"+Características!B18/Flujos!C183","v":128567217.78505512},0,0,{"$f":"+N2+M2","v":0}]
[{"$f":"EDATE(A2,1)","v":"2021-07-24"},{"$f":"IF(DIAS365(CALCULADORA!$C$27,A3)<0,0,DIAS365(CALCULADORA!$C$27,A3))","v":0},{"$f":"+HLOOKUP(CALCULADORA!$C$9,Tablas!B:B,Flujos!J3+1,FALSE)","v":1.952549E-2},{"$f":"+ROUND(D2-E3,6)","v":98.047450999999995},{"$f":"ROUND(C3*$D$2,6)","v":1.9525490000000001},{"$f":"ROUND(D2*ROUND(((1+CALCULADORA!$C$16)^(1/12)-1),6),6)","v":0.49149999999999999},{"$f":"F3+E3","v":2.4440490000000001},{"$f":"IF($B3=0,0,G3/POWER(1+CALCULADORA!$C$29,Flujos!$B3/365))","v":0},{"$f":"+A3","v":"2021-07-24"},1,{"$f":"+DIAS365($A$2,A3)","v":30},{"$f":"+L2-M3","v":126056879.8598652},{"$f":"+$L$2*C3","v":2510337.9251899156},{"$f":"+L2*$F$3%","v":631907.87541354587},{"$f":"+N3+M3","v":3142245.8006034615}]
[{"$f":"EDATE(A3,1)","v":"2021-08-24"},{"$f":"IF(DIAS365(CALCULADORA!$C$27,A4)<0,0,DIAS365(CALCULADORA!$C$27,A4))","v":0},{"$f":"+HLOOKUP(CALCULADORA!$C$9,Tablas!B:B,Flujos!J4+1,FALSE)","v":2.8349989999999999E-2},{"$f":"+ROUND(D3-E4,6)","v":95.212451999999999},{"$f":"ROUND(C4*$D$2,6)","v":2.8349989999999998},{"$f":"ROUND(D3*ROUND(((1+CALCULADORA!$C$16)^(1/12)-1),6),6)","v":0.48190300000000003},{"$f":"F4+E4","v":3.3169019999999998},{"$f":"IF($B4=0,0,G4/POWER(1+CALCULADORA!$C$29,Flujos!$B4/365))","v":0},"2021-08-24",2,{"$f":"+DIAS365($A$2,A4)","v":61},{"$f":"+L3-M4","v":122412000.52133107},{"$f":"+$L$2*C4","v":3644879.3385341344},{"$f":"+L3*$F$3%","v":619569.56451123743},{"$f":"+N4+M4","v":4264448.9030453721}]
["2021-09-24",{"$f":"IF(DIAS365(CALCULADORA!$C$27,A5)<0,0,DIAS365(CALCULADORA!$C$27,A5))","v":0},{"$f":"+HLOOKUP(CALCULADORA!$C$9,Tablas!B:B,Flujos!J5+1,FALSE)","v":2.6544970000000001E-2},{"$f":"+ROUND(D4-E5,6)","v":92.557955000000007},2.6544970000000001,{"$f":"ROUND(D4*ROUND(((1+CALCULADORA!$C$16)^(1/12)-1),6),6)","v":0.46796900000000002},3.1224660000000002,{"$f":"IF($B5=0,0,G5/POWER(1+CALCULADORA!$C$29,Flujos!$B5/365))","v":0},"2021-09-24",3,{"$f":"+DIAS365($A$2,A5)","v":92},118999187.58224332,3412812.9390877546,601654.98256234219,4014467.9216500968]
["2021-10-24",{"$f":"IF(DIAS365(CALCULADORA!$C$27,A6)<0,0,DIAS365(CALCULADORA!$C$27,A6))","v":0},{"$f":"+HLOOKUP(CALCULADORA!$C$9,Tablas!B:B,Flujos!J6+1,FALSE)","v":2.6772089999999998E-2},89.880746000000002,2.6772089999999999,{"$f":"ROUND(D5*ROUND(((1+CALCULADORA!$C$16)^(1/12)-1),6),6)","v":0.45492199999999999},3.1321309999999998,{"$f":"IF($B6=0,0,G6/POWER(1+CALCULADORA!$C$29,Flujos!$B6/365))","v":0},"2021-10-24",4,{"$f":"+DIAS365($A$2,A6)","v":122},115557174.45665222,3442013.125591096,584881.00696672592,4026894.1325578219]
["2021-11-24",{"$f":"IF(DIAS365(CALCULADORA!$C$27,A7)<0,0,DIAS365(CALCULADORA!$C$27,A7))","v":0},{"$f":"+HLOOKUP(CALCULADORA!$C$9,Tablas!B:B,Flujos!J7+1,FALSE)","v":2.1764450000000001E-2},87.704301000000001,2.1764450000000002,{"$f":"ROUND(D6*ROUND(((1+CALCULADORA!$C$16)^(1/12)-1),6),6)","v":0.44176399999999999},2.6182090000000002,{"$f":"IF($B7=0,0,G7/POWER(1+CALCULADORA!$C$29,Flujos!$B7/365))","v":0},"2021-11-24",5,{"$f":"+DIAS365($A$2,A7)","v":153},112758979.67353028,2798194.783121943,567963.51245444571,3366158.2955763889]
["2021-12-24",{"$f":"IF(DIAS365(CALCULADORA!$C$27,A8)<0,0,DIAS365(CALCULADORA!$C$27,A8))","v":0},{"$f":"+HLOOKUP(CALCULADORA!$C$9,Tablas!B:B,Flujos!J8+1,FALSE)","v":1.8318210000000001E-2},85.872479999999996,1.8318209999999999,{"$f":"ROUND(D7*ROUND(((1+CALCULADORA!$C$16)^(1/12)-1),6),6)","v":0.43106699999999998},2.2628879999999998,{"$f":"IF($B8=0,0,G8/POWER(1+CALCULADORA!$C$29,Flujos!$B8/365))","v":0},"2021-12-24",6,{"$f":"+DIAS365($A$2,A8)","v":183},110403858.3790279,2355121.2945023747,554210.38509540132,2909331.6795977759]
["2022-01-24",{"$f":"IF(DIAS365(CALCULADORA!$C$27,A9)<0,0,DIAS365(CALCULADORA!$C$27,A9))","v":0},{"$f":"+HLOOKUP(CALCULADORA!$C$9,Tablas!B:B,Flujos!J9+1,FALSE)","v":1.7947040000000001E-2},84.077776,1.7947040000000001,{"$f":"ROUND(D8*ROUND(((1+CALCULADORA!$C$16)^(1/12)-1),6),6)","v":0.42206300000000002},2.2167669999999999,{"$f":"IF($B9=0,0,G9/POWER(1+CALCULADORA!$C$29,Flujos!$B9/365))","v":0},"2022-01-24",7,{"$f":"+DIAS365($A$2,A9)","v":214},108096457.3787508,2307401.0002770955,542634.96393292211,2850035.9642100176]
["2022-02-24",{"$f":"IF(DIAS365(CALCULADORA!$C$27,A10)<0,0,DIAS365(CALCULADORA!$C$27,A10))","v":0},{"$f":"+HLOOKUP(CALCULADORA!$C$9,Tablas!B:B,Flujos!J10+1,FALSE)","v":1.6100360000000001E-2},82.467740000000006,1.610036,{"$f":"ROUND(D9*ROUND(((1+CALCULADORA!$C$16)^(1/12)-1),6),6)","v":0.413242},2.0232779999999999,{"$f":"IF($B10=0,0,G10/POWER(1+CALCULADORA!$C$29,Flujos!$B10/365))","v":0},"2022-02-24",8,{"$f":"+DIAS365($A$2,A10)","v":245},106026478.88821301,2069978.4905377901,531294.08801656018,2601272.5785543504]
["2022-03-24",{"$f":"IF(DIAS365(CALCULADORA!$C$27,A11)<0,0,DIAS365(CALCULADORA!$C$27,A11))","v":0},{"$f":"+HLOOKUP(CALCULADORA!$C$9,Tablas!B:B,Flujos!J11+1,FALSE)","v":1.46862E-2},80.999120000000005,1.46862,{"$f":"ROUND(D10*ROUND(((1+CALCULADORA!$C$16)^(1/12)-1),6),6)","v":0.40532899999999999},1.8739490000000001,{"$f":"IF($B11=0,0,G11/POWER(1+CALCULADORA!$C$29,Flujos!$B11/365))","v":0},"2022-03-24",9,{"$f":"+DIAS365($A$2,A11)","v":273},104138315.01437813,1888163.8738348763,521120.14373556693,2409284.0175704435]
["2022-04-24",{"$f":"IF(DIAS365(CALCULADORA!$C$27,A12)<0,0,DIAS365(CALCULADORA!$C$27,A12))","v":0},{"$f":"+HLOOKUP(CALCULADORA!$C$9,Tablas!B:B,Flujos!J12+1,FALSE)","v":1.427731E-2},79.571388999999996,1.4277310000000001,{"$f":"ROUND(D11*ROUND(((1+CALCULADORA!$C$16)^(1/12)-1),6),6)","v":0.39811099999999999},1.8258420000000002,{"$f":"IF($B12=0,0,G12/POWER(1+CALCULADORA!$C$29,Flujos!$B12/365))","v":0},"2022-04-24",10,{"$f":"+DIAS365($A$2,A12)","v":304},102302720.99022338,1835594.0241547453,511839.81829566852,2347433.8424504139]
["2022-05-24",{"$f":"IF(DIAS365(CALCULADORA!$C$27,A13)<0,0,DIAS365(CALCULADORA!$C$27,A13))","v":0},{"$f":"+HLOOKUP(CALCULADORA!$C$9,Tablas!B:B,Flujos!J13+1,FALSE)","v":1.730595E-2},77.840794000000002,1.7305950000000001,{"$f":"ROUND(D12*ROUND(((1+CALCULADORA!$C$16)^(1/12)-1),6),6)","v":0.39109300000000002},2.1216880000000002,{"$f":"IF($B13=0,0,G13/POWER(1+CALCULADORA!$C$29,Flujos!$B13/365))","v":0},"2022-05-24",11,{"$f":"+DIAS365($A$2,A13)","v":334},100077743.14759611,2224977.8426272748,502817.87366694794,2727795.7162942225]
["2022-06-24",{"$f":"IF(DIAS365(CALCULADORA!$C$27,A14)<0,0,DIAS365(CALCULADORA!$C$27,A14))","v":0},{"$f":"+HLOOKUP(CALCULADORA!$C$9,Tablas!B:B,Flujos!J14+1,FALSE)","v":1.3769160000000001E-2},76.463877999999994,1.376916,{"$f":"ROUND(D13*ROUND(((1+CALCULADORA!$C$16)^(1/12)-1),6),6)","v":0.38258799999999998},1.759504,{"$f":"IF($B14=0,0,G14/POWER(1+CALCULADORA!$C$29,Flujos!$B14/365))","v":0},"2022-06-24",12,{"$f":"+DIAS365($A$2,A14)","v":365},98307480.555158839,1770262.5924372696,491882.10757043486,2262144.7000077046]
["2022-07-24",{"$f":"IF(DIAS365(CALCULADORA!$C$27,A15)<0,0,DIAS365(CALCULADORA!$C$27,A15))","v":0},{"$f":"+HLOOKUP(CALCULADORA!$C$9,Tablas!B:B,Flujos!J15+1,FALSE)","v":1.483369E-2},74.980508999999998,1.4833689999999999,{"$f":"ROUND(D14*ROUND(((1+CALCULADORA!$C$16)^(1/12)-1),6),6)","v":0.37581999999999999},1.859189,{"$f":"IF($B15=0,0,G15/POWER(1+CALCULADORA!$C$29,Flujos!$B15/365))","v":0},"2022-07-24",13,{"$f":"+DIAS365($A$2,A15)","v":395},96400354.302372843,1907126.2527859942,483181.26692860568,2390307.5197145999]
["2022-08-24",{"$f":"IF(DIAS365(CALCULADORA!$C$27,A16)<0,0,DIAS365(CALCULADORA!$C$27,A16))","v":0},{"$f":"+HLOOKUP(CALCULADORA!$C$9,Tablas!B:B,Flujos!J16+1,FALSE)","v":1.2893119999999999E-2},73.691197000000003,1.289312,{"$f":"ROUND(D15*ROUND(((1+CALCULADORA!$C$16)^(1/12)-1),6),6)","v":0.368529},1.6578409999999999,{"$f":"IF($B16=0,0,G16/POWER(1+CALCULADORA!$C$29,Flujos!$B16/365))","v":0},"2022-08-24",14,{"$f":"+DIAS365($A$2,A16)","v":426},94742721.735404,1657632.5669688496,473807.74139616254,2131440.3083650121]
["2022-09-24",{"$f":"IF(DIAS365(CALCULADORA!$C$27,A17)<0,0,DIAS365(CALCULADORA!$C$27,A17))","v":0},{"$f":"+HLOOKUP(CALCULADORA!$C$9,Tablas!B:B,Flujos!J17+1,FALSE)","v":1.178352E-2},72.512844999999999,1.1783520000000001,{"$f":"ROUND(D16*ROUND(((1+CALCULADORA!$C$16)^(1/12)-1),6),6)","v":0.36219200000000001},1.5405440000000001,{"$f":"IF($B17=0,0,G17/POWER(1+CALCULADORA!$C$29,Flujos!$B17/365))","v":0},"2022-09-24",15,{"$f":"+DIAS365($A$2,A17)","v":457},93227747.35328944,1514974.3821145527,465660.47732951067,1980634.8594440634]
["2022-10-24",{"$f":"IF(DIAS365(CALCULADORA!$C$27,A18)<0,0,DIAS365(CALCULADORA!$C$27,A18))","v":0},{"$f":"+HLOOKUP(CALCULADORA!$C$9,Tablas!B:B,Flujos!J18+1,FALSE)","v":1.0406540000000001E-2},71.472190999999995,1.040654,{"$f":"ROUND(D17*ROUND(((1+CALCULADORA!$C$16)^(1/12)-1),6),6)","v":0.35640100000000002},1.3970549999999999,{"$f":"IF($B18=0,0,G18/POWER(1+CALCULADORA!$C$29,Flujos!$B18/365))","v":0},"2022-10-24",16,{"$f":"+DIAS365($A$2,A18)","v":487},91889807.45872055,1337939.8945688875,458214.37824141758,1796154.272810305]
["2022-11-24",{"$f":"IF(DIAS365(CALCULADORA!$C$27,A19)<0,0,DIAS365(CALCULADORA!$C$27,A19))","v":0},{"$f":"+HLOOKUP(CALCULADORA!$C$9,Tablas!B:B,Flujos!J19+1,FALSE)","v":1.3268179999999999E-2},70.145373000000006,1.3268180000000001,{"$f":"ROUND(D18*ROUND(((1+CALCULADORA!$C$16)^(1/12)-1),6),6)","v":0.35128599999999999},1.678104,{"$f":"IF($B19=0,0,G19/POWER(1+CALCULADORA!$C$29,Flujos!$B19/365))","v":0},"2022-11-24",17,{"$f":"+DIAS365($A$2,A19)","v":518},90183954.471049234,1705852.9876713124,451638.40365961153,2157491.3913309239]
["2022-12-24",{"$f":"IF(DIAS365(CALCULADORA!$C$27,A20)<0,0,DIAS365(CALCULADORA!$C$27,A20))","v":0},{"$f":"+HLOOKUP(CALCULADORA!$C$9,Tablas!B:B,Flujos!J20+1,FALSE)","v":1.4011529999999999E-2},68.744219999999999,1.4011530000000001,{"$f":"ROUND(D19*ROUND(((1+CALCULADORA!$C$16)^(1/12)-1),6),6)","v":0.34476499999999999},1.7459180000000001,{"$f":"IF($B20=0,0,G20/POWER(1+CALCULADORA!$C$29,Flujos!$B20/365))","v":0},"2022-12-24",18,{"$f":"+DIAS365($A$2,A20)","v":548},88382531.042037398,1801423.4290118332,443254.13622520701,2244677.5652370402]
["2023-01-24",{"$f":"IF(DIAS365(CALCULADORA!$C$27,A21)<0,0,DIAS365(CALCULADORA!$C$27,A21))","v":0},{"$f":"+HLOOKUP(CALCULADORA!$C$9,Tablas!B:B,Flujos!J21+1,FALSE)","v":1.3735590000000001E-2},67.370660999999998,1.373559,{"$f":"ROUND(D20*ROUND(((1+CALCULADORA!$C$16)^(1/12)-1),6),6)","v":0.33787800000000001},1.7114370000000001,{"$f":"IF($B21=0,0,G21/POWER(1+CALCULADORA!$C$29,Flujos!$B21/365))","v":0},"2023-01-24",19,{"$f":"+DIAS365($A$2,A21)","v":579},86616584.451101169,1765946.5909362254,434400.14007161383,2200346.7310078391]
["2023-02-24",{"$f":"IF(DIAS365(CALCULADORA!$C$27,A22)<0,0,DIAS365(CALCULADORA!$C$27,A22))","v":0},{"$f":"+HLOOKUP(CALCULADORA!$C$9,Tablas!B:B,Flujos!J22+1,FALSE)","v":1.4403030000000001E-2},{"$f":"+ROUND(D21-E22,6)","v":65.930357999999998},1.4403030000000001,{"$f":"ROUND(D21*ROUND(((1+CALCULADORA!$C$16)^(1/12)-1),6),6)","v":0.331127},1.7714300000000001,{"$f":"IF($B22=0,0,G22/POWER(1+CALCULADORA!$C$29,Flujos!$B22/365))","v":0},"2023-02-24",20,{"$f":"+DIAS365($A$2,A22)","v":610},84764826.956326485,1851757.4947746824,425720.51257716224,2277478.0073518446]
["2023-03-24",{"$f":"IF(DIAS365(CALCULADORA!$C$27,A23)<0,0,DIAS365(CALCULADORA!$C$27,A23))","v":0},{"$f":"+HLOOKUP(CALCULADORA!$C$9,Tablas!B:B,Flujos!J23+1,FALSE)","v":1.2226229999999999E-2},64.707735,1.222623,{"$f":"ROUND(D22*ROUND(((1+CALCULADORA!$C$16)^(1/12)-1),6),6)","v":0.324048},1.5466709999999999,{"$f":"IF($B23=0,0,G23/POWER(1+CALCULADORA!$C$29,Flujos!$B23/365))","v":0},"2023-03-24",21,{"$f":"+DIAS365($A$2,A23)","v":638},83192934.581226304,1571892.3751001742,416619.12449034466,1988511.4995905189]
["2023-04-24",{"$f":"IF(DIAS365(CALCULADORA!$C$27,A24)<0,0,DIAS365(CALCULADORA!$C$27,A24))","v":0},{"$f":"+HLOOKUP(CALCULADORA!$C$9,Tablas!B:B,Flujos!J24+1,FALSE)","v":1.260328E-2},63.447406999999998,1.2603279999999999,{"$f":"ROUND(D23*ROUND(((1+CALCULADORA!$C$16)^(1/12)-1),6),6)","v":0.31803900000000002},1.5783669999999999,{"$f":"IF($B24=0,0,G24/POWER(1+CALCULADORA!$C$29,Flujos!$B24/365))","v":0},"2023-04-24",22,{"$f":"+DIAS365($A$2,A24)","v":669},81572565.936660275,1620368.6445660293,408893.27346672729,2029261.9180327565]
["2023-05-24",{"$f":"IF(DIAS365(CALCULADORA!$C$27,A25)<0,0,DIAS365(CALCULADORA!$C$27,A25))","v":0},{"$f":"+HLOOKUP(CALCULADORA!$C$9,Tablas!B:B,Flujos!J25+1,FALSE)","v":1.0628820000000001E-2},62.384524999999996,1.0628820000000001,{"$f":"ROUND(D24*ROUND(((1+CALCULADORA!$C$16)^(1/12)-1),6),6)","v":0.31184400000000001},1.3747260000000001,{"$f":"IF($B25=0,0,G25/POWER(1+CALCULADORA!$C$29,Flujos!$B25/365))","v":0},"2023-05-24",23,{"$f":"+DIAS365($A$2,A25)","v":699},80206048.120922118,1366517.8157381497,400929.16157868528,1767446.977316835]
["2023-06-24",{"$f":"IF(DIAS365(CALCULADORA!$C$27,A26)<0,0,DIAS365(CALCULADORA!$C$27,A26))","v":0},{"$f":"+HLOOKUP(CALCULADORA!$C$9,Tablas!B:B,Flujos!J26+1,FALSE)","v":9.7083499999999993E-3},61.413690000000003,0.970835,{"$f":"ROUND(D25*ROUND(((1+CALCULADORA!$C$16)^(1/12)-1),6),6)","v":0.30662},1.277455,{"$f":"IF($B26=0,0,G26/POWER(1+CALCULADORA!$C$29,Flujos!$B26/365))","v":0},"2023-06-24",24,{"$f":"+DIAS365($A$2,A26)","v":730},78957872.572138578,1248175.5487835398,394212.72651433223,1642388.275297872]
["2023-07-24",{"$f":"IF(DIAS365(CALCULADORA!$C$27,A27)<0,0,DIAS365(CALCULADORA!$C$27,A27))","v":0},{"$f":"+HLOOKUP(CALCULADORA!$C$9,Tablas!B:B,Flujos!J27+1,FALSE)","v":9.1862799999999998E-3},60.495061999999997,0.918628,{"$f":"ROUND(D26*ROUND(((1+CALCULADORA!$C$16)^(1/12)-1),6),6)","v":0.30184800000000001},1.2204760000000001,{"$f":"IF($B27=0,0,G27/POWER(1+CALCULADORA!$C$29,Flujos!$B27/365))","v":0},"2023-07-24",25,{"$f":"+DIAS365($A$2,A27)","v":760},77776818.110744089,1181054.461394496,388077.94369206112,1569132.4050865571]
["2023-08-24",{"$f":"IF(DIAS365(CALCULADORA!$C$27,A28)<0,0,DIAS365(CALCULADORA!$C$27,A28))","v":0},{"$f":"+HLOOKUP(CALCULADORA!$C$9,Tablas!B:B,Flujos!J28+1,FALSE)","v":1.3526109999999999E-2},59.142451000000001,1.352611,{"$f":"ROUND(D27*ROUND(((1+CALCULADORA!$C$16)^(1/12)-1),6),6)","v":0.29733300000000001},1.6499440000000001,{"$f":"IF($B28=0,0,G28/POWER(1+CALCULADORA!$C$29,Flujos!$B28/365))","v":0},"2023-08-24",26,{"$f":"+DIAS365($A$2,A28)","v":791},76037803.780589476,1739014.3301546117,382273.0610143072,2121287.3911689189]
["2023-09-24",{"$f":"IF(DIAS365(CALCULADORA!$C$27,A29)<0,0,DIAS365(CALCULADORA!$C$27,A29))","v":0},{"$f":"+HLOOKUP(CALCULADORA!$C$9,Tablas!B:B,Flujos!J29+1,FALSE)","v":1.1434740000000001E-2},57.998976999999996,1.1434740000000001,{"$f":"ROUND(D28*ROUND(((1+CALCULADORA!$C$16)^(1/12)-1),6),6)","v":0.29068500000000003},1.4341590000000002,{"$f":"IF($B29=0,0,G29/POWER(1+CALCULADORA!$C$29,Flujos!$B29/365))","v":0},"2023-09-24",27,{"$f":"+DIAS365($A$2,A29)","v":822},74567671.072693989,1470132.7078954813,373725.80558159726,1843858.5134770786]
["2023-10-24",{"$f":"IF(DIAS365(CALCULADORA!$C$27,A30)<0,0,DIAS365(CALCULADORA!$C$27,A30))","v":0},{"$f":"+HLOOKUP(CALCULADORA!$C$9,Tablas!B:B,Flujos!J30+1,FALSE)","v":8.3203400000000007E-3},57.166943000000003,0.83203400000000005,{"$f":"ROUND(D29*ROUND(((1+CALCULADORA!$C$16)^(1/12)-1),6),6)","v":0.28506500000000001},1.1170990000000001,{"$f":"IF($B30=0,0,G30/POWER(1+CALCULADORA!$C$29,Flujos!$B30/365))","v":0},"2023-10-24",28,{"$f":"+DIAS365($A$2,A30)","v":852},73497948.107868284,1069722.9648257056,366500.10332229099,1436223.0681479967]
["2023-11-24",{"$f":"IF(DIAS365(CALCULADORA!$C$27,A31)<0,0,DIAS365(CALCULADORA!$C$27,A31))","v":0},{"$f":"+HLOOKUP(CALCULADORA!$C$9,Tablas!B:B,Flujos!J31+1,FALSE)","v":1.294797E-2},55.872146000000001,1.294797,{"$f":"ROUND(D30*ROUND(((1+CALCULADORA!$C$16)^(1/12)-1),6),6)","v":0.280976},1.5757729999999999,{"$f":"IF($B31=0,0,G31/POWER(1+CALCULADORA!$C$29,Flujos!$B31/365))","v":0},"2023-11-24",29,{"$f":"+DIAS365($A$2,A31)","v":883},71833263.629003927,1664684.4788643601,361242.41495017265,2025926.8938145328]
["2023-12-24",{"$f":"IF(DIAS365(CALCULADORA!$C$27,A32)<0,0,DIAS365(CALCULADORA!$C$27,A32))","v":0},{"$f":"+HLOOKUP(CALCULADORA!$C$9,Tablas!B:B,Flujos!J32+1,FALSE)","v":9.2125000000000002E-3},54.950896,0.92125000000000001,{"$f":"ROUND(D31*ROUND(((1+CALCULADORA!$C$16)^(1/12)-1),6),6)","v":0.27461200000000002},1.195862,{"$f":"IF($B32=0,0,G32/POWER(1+CALCULADORA!$C$29,Flujos!$B32/365))","v":0},"2023-12-24",30,{"$f":"+DIAS365($A$2,A32)","v":913},70648838.135159105,1184425.4938448202,353060.49073655432,1537485.9845813746]
["2024-01-24",{"$f":"IF(DIAS365(CALCULADORA!$C$27,A33)<0,0,DIAS365(CALCULADORA!$C$27,A33))","v":0},{"$f":"+HLOOKUP(CALCULADORA!$C$9,Tablas!B:B,Flujos!J33+1,FALSE)","v":1.153683E-2},53.797212999999999,1.153683,{"$f":"ROUND(D32*ROUND(((1+CALCULADORA!$C$16)^(1/12)-1),6),6)","v":0.27008399999999999},1.423767,{"$f":"IF($B33=0,0,G33/POWER(1+CALCULADORA!$C$29,Flujos!$B33/365))","v":0},"2024-01-24",31,{"$f":"+DIAS365($A$2,A33)","v":944},69165579.99999994,1483258.1351591574,347239.03943430702,1830497.1745934645]
["2024-02-24",{"$f":"IF(DIAS365(CALCULADORA!$C$27,A34)<0,0,DIAS365(CALCULADORA!$C$27,A34))","v":16},{"$f":"+HLOOKUP(CALCULADORA!$C$9,Tablas!B:B,Flujos!J34+1,FALSE)","v":1.000793E-2},52.796419999999998,1.000793,{"$f":"ROUND(D33*ROUND(((1+CALCULADORA!$C$16)^(1/12)-1),6),6)","v":0.26441300000000001},1.2652060000000001,{"$f":"IF($B34=0,0,G34/POWER(1+CALCULADORA!$C$29,Flujos!$B34/365))","v":1.260041596240737},"2024-02-24",32,{"$f":"+DIAS365($A$2,A34)","v":975},67878888.284112349,1286691.7158875866,339948.8256999997,1626640.5415875863]
[{"$f":"EDATE(A34,1)","v":"2024-03-24"},{"$f":"IF(DIAS365(CALCULADORA!$C$27,A35)<0,0,DIAS365(CALCULADORA!$C$27,A35))","v":44},{"$f":"+HLOOKUP(CALCULADORA!$C$9,Tablas!B:B,Flujos!J35+1,FALSE)","v":9.8681800000000007E-3},51.809601999999998,0.98681799999999997,{"$f":"ROUND(D34*ROUND(((1+CALCULADORA!$C$16)^(1/12)-1),6),6)","v":0.259494},1.2463120000000001,{"$f":"IF($B35=0,0,G35/POWER(1+CALCULADORA!$C$29,Flujos!$B35/365))","v":1.2323718936385784},"2024-03-24",33,{"$f":"+DIAS365($A$2,A35)","v":1003},66610163.836910225,1268724.4472021253,333624.7359164122,1602349.1831185375]
["2024-04-24",{"$f":"IF(DIAS365(CALCULADORA!$C$27,A36)<0,0,DIAS365(CALCULADORA!$C$27,A36))","v":75},{"$f":"+HLOOKUP(CALCULADORA!$C$9,Tablas!B:B,Flujos!J36+1,FALSE)","v":9.8306799999999996E-3},50.826534000000002,0.98306800000000005,{"$f":"ROUND(D35*ROUND(((1+CALCULADORA!$C$16)^(1/12)-1),6),6)","v":0.25464399999999998},1.2377120000000001,{"$f":"IF($B36=0,0,G36/POWER(1+CALCULADORA!$C$29,Flujos!$B36/365))","v":1.2142075002528268},"2024-04-24",34,{"$f":"+DIAS365($A$2,A36)","v":1034},65346260.660375036,1263903.1765351857,327388.95525841374,1591292.1317935993]
["2024-05-24",{"$f":"IF(DIAS365(CALCULADORA!$C$27,A37)<0,0,DIAS365(CALCULADORA!$C$27,A37))","v":105},{"$f":"+HLOOKUP(CALCULADORA!$C$9,Tablas!B:B,Flujos!J37+1,FALSE)","v":9.7187200000000001E-3},49.854661999999998,0.97187199999999996,{"$f":"ROUND(D36*ROUND(((1+CALCULADORA!$C$16)^(1/12)-1),6),6)","v":0.24981200000000001},1.221684,{"$f":"IF($B37=0,0,G37/POWER(1+CALCULADORA!$C$29,Flujos!$B37/365))","v":1.189327660743124},"2024-05-24",35,{"$f":"+DIAS365($A$2,A37)","v":1064},64096751.869543068,1249508.790831971,321176.87114574329,1570685.6619777144]
["2024-06-24",{"$f":"IF(DIAS365(CALCULADORA!$C$27,A38)<0,0,DIAS365(CALCULADORA!$C$27,A38))","v":136},{"$f":"+HLOOKUP(CALCULADORA!$C$9,Tablas!B:B,Flujos!J38+1,FALSE)","v":9.4589199999999991E-3},48.908769999999997,0.94589199999999996,{"$f":"ROUND(D37*ROUND(((1+CALCULADORA!$C$16)^(1/12)-1),6),6)","v":0.245036},1.190928,{"$f":"IF($B38=0,0,G38/POWER(1+CALCULADORA!$C$29,Flujos!$B38/365))","v":1.1502346358142232},"2024-06-24",36,{"$f":"+DIAS365($A$2,A38)","v":1095},62880644.841891654,1216107.0276514133,315035.53543880419,1531142.5630902175]
["2024-07-24",{"$f":"IF(DIAS365(CALCULADORA!$C$27,A39)<0,0,DIAS365(CALCULADORA!$C$27,A39))","v":166},{"$f":"+HLOOKUP(CALCULADORA!$C$9,Tablas!B:B,Flujos!J39+1,FALSE)","v":9.5384900000000002E-3},47.954920999999999,0.95384899999999995,{"$f":"ROUND(D38*ROUND(((1+CALCULADORA!$C$16)^(1/12)-1),6),6)","v":0.24038699999999999},1.1942359999999999,{"$f":"IF($B39=0,0,G39/POWER(1+CALCULADORA!$C$29,Flujos!$B39/365))","v":1.1446175945888324},"2024-07-24",37,{"$f":"+DIAS365($A$2,A39)","v":1125},61654307.720721081,1226337.1211705704,309058.36939789751,1535395.4905684679]
["2024-08-24",{"$f":"IF(DIAS365(CALCULADORA!$C$27,A40)<0,0,DIAS365(CALCULADORA!$C$27,A40))","v":197},{"$f":"+HLOOKUP(CALCULADORA!$C$9,Tablas!B:B,Flujos!J40+1,FALSE)","v":9.4232399999999994E-3},{"$f":"+ROUND(D39-E40,6)","v":47.012597},{"$f":"ROUND(C40*$D$2,6)","v":0.94232400000000005},{"$f":"ROUND(D39*ROUND(((1+CALCULADORA!$C$16)^(1/12)-1),6),6)","v":0.23569799999999999},{"$f":"F40+E40","v":1.1780220000000001},{"$f":"IF($B40=0,0,G40/POWER(1+CALCULADORA!$C$29,Flujos!$B40/365))","v":1.1201649026842178},{"$f":"+A40","v":"2024-08-24"},38,{"$f":"+DIAS365($A$2,A40)","v":1156},60442787.971400239,1211519.7493208428,303030.92244734411,1514550.6717681868]
["2024-09-24",{"$f":"IF(DIAS365(CALCULADORA!$C$27,A41)<0,0,DIAS365(CALCULADORA!$C$27,A41))","v":228},{"$f":"+HLOOKUP(CALCULADORA!$C$9,Tablas!B:B,Flujos!J41+1,FALSE)","v":9.3414699999999993E-3},46.078449999999997,0.93414699999999995,{"$f":"ROUND(D40*ROUND(((1+CALCULADORA!$C$16)^(1/12)-1),6),6)","v":0.23106699999999999},1.165214,{"$f":"IF($B41=0,0,G41/POWER(1+CALCULADORA!$C$29,Flujos!$B41/365))","v":1.0992400806364886},"2024-09-24",39,{"$f":"+DIAS365($A$2,A41)","v":1187},59241781.163477682,1201006.8079225586,297076.30287943216,1498083.1108019908]
["2024-10-24",{"$f":"IF(DIAS365(CALCULADORA!$C$27,A42)<0,0,DIAS365(CALCULADORA!$C$27,A42))","v":258},{"$f":"+HLOOKUP(CALCULADORA!$C$9,Tablas!B:B,Flujos!J42+1,FALSE)","v":9.2238000000000007E-3},45.15607,0.92237999999999998,{"$f":"ROUND(D41*ROUND(((1+CALCULADORA!$C$16)^(1/12)-1),6),6)","v":0.22647600000000001},1.1488559999999999,{"$f":"IF($B42=0,0,G42/POWER(1+CALCULADORA!$C$29,Flujos!$B42/365))","v":1.0755281503107299},"2024-10-24",40,{"$f":"+DIAS365($A$2,A42)","v":1217},58055902.86007189,1185878.3034057915,291173.35441849282,1477051.6578242844]
["2024-11-24",{"$f":"IF(DIAS365(CALCULADORA!$C$27,A43)<0,0,DIAS365(CALCULADORA!$C$27,A43))","v":289},{"$f":"+HLOOKUP(CALCULADORA!$C$9,Tablas!B:B,Flujos!J43+1,FALSE)","v":9.1362800000000001E-3},44.242441999999997,0.913628,{"$f":"ROUND(D42*ROUND(((1+CALCULADORA!$C$16)^(1/12)-1),6),6)","v":0.221942},1.13557,{"$f":"IF($B43=0,0,G43/POWER(1+CALCULADORA!$C$29,Flujos!$B43/365))","v":1.0546986668938219},"2024-11-24",41,{"$f":"+DIAS365($A$2,A43)","v":1248},56881276.75956665,1174626.1005052433,285344.76255725336,1459970.8630624968]
["2024-12-24",{"$f":"IF(DIAS365(CALCULADORA!$C$27,A44)<0,0,DIAS365(CALCULADORA!$C$27,A44))","v":319},{"$f":"+HLOOKUP(CALCULADORA!$C$9,Tablas!B:B,Flujos!J44+1,FALSE)","v":9.0608100000000007E-3},43.336360999999997,0.90608100000000003,{"$f":"ROUND(D43*ROUND(((1+CALCULADORA!$C$16)^(1/12)-1),6),6)","v":0.21745200000000001},1.1235330000000001,{"$f":"IF($B44=0,0,G44/POWER(1+CALCULADORA!$C$29,Flujos!$B44/365))","v":1.0355465907079706},"2024-12-24",42,{"$f":"+DIAS365($A$2,A44)","v":1278},55716353.626987644,1164923.1325790053,279571.4752732701,1444494.6078522755]
["2025-01-24",{"$f":"IF(DIAS365(CALCULADORA!$C$27,A45)<0,0,DIAS365(CALCULADORA!$C$27,A45))","v":350},{"$f":"+HLOOKUP(CALCULADORA!$C$9,Tablas!B:B,Flujos!J45+1,FALSE)","v":8.9694400000000004E-3},42.439416999999999,0.89694399999999996,{"$f":"ROUND(D44*ROUND(((1+CALCULADORA!$C$16)^(1/12)-1),6),6)","v":0.21299799999999999},1.109942,{"$f":"IF($B45=0,0,G45/POWER(1+CALCULADORA!$C$29,Flujos!$B45/365))","v":1.0149447395261926},"2025-01-24",43,{"$f":"+DIAS365($A$2,A45)","v":1309},54563177.681097656,1153175.9458899847,273845.87807664427,1427021.8239666289]
["2025-02-24",{"$f":"IF(DIAS365(CALCULADORA!$C$27,A46)<0,0,DIAS365(CALCULADORA!$C$27,A46))","v":381},{"$f":"+HLOOKUP(CALCULADORA!$C$9,Tablas!B:B,Flujos!J46+1,FALSE)","v":8.9177700000000002E-3},41.547640000000001,0.89177700000000004,{"$f":"ROUND(D45*ROUND(((1+CALCULADORA!$C$16)^(1/12)-1),6),6)","v":0.20859},1.1003670000000001,{"$f":"IF($B46=0,0,G46/POWER(1+CALCULADORA!$C$29,Flujos!$B46/365))","v":0.99824690040411024},"2025-02-24",44,{"$f":"+DIAS365($A$2,A46)","v":1340},53416644.803350627,1146532.8777470309,268178.01830259501,1414710.8960496259]
["2025-03-24",{"$f":"IF(DIAS365(CALCULADORA!$C$27,A47)<0,0,DIAS365(CALCULADORA!$C$27,A47))","v":409},{"$f":"+HLOOKUP(CALCULADORA!$C$9,Tablas!B:B,Flujos!J47+1,FALSE)","v":8.7990599999999992E-3},40.667734000000003,0.87990599999999997,{"$f":"ROUND(D46*ROUND(((1+CALCULADORA!$C$16)^(1/12)-1),6),6)","v":0.204207},1.0841129999999999,{"$f":"IF($B47=0,0,G47/POWER(1+CALCULADORA!$C$29,Flujos!$B47/365))","v":0.97648670370944735},"2025-03-24",45,{"$f":"+DIAS365($A$2,A47)","v":1368},52285374.14002686,1131270.663323767,262542.80920846836,1393813.4725322353]
["2025-04-24",{"$f":"IF(DIAS365(CALCULADORA!$C$27,A48)<0,0,DIAS365(CALCULADORA!$C$27,A48))","v":440},{"$f":"+HLOOKUP(CALCULADORA!$C$9,Tablas!B:B,Flujos!J48+1,FALSE)","v":8.7516899999999995E-3},39.792565000000003,0.87516899999999997,{"$f":"ROUND(D47*ROUND(((1+CALCULADORA!$C$16)^(1/12)-1),6),6)","v":0.199882},1.075051,{"$f":"IF($B48=0,0,G48/POWER(1+CALCULADORA!$C$29,Flujos!$B48/365))","v":0.96068088767644477},"2025-04-24",46,{"$f":"+DIAS365($A$2,A48)","v":1399},51160193.705809571,1125180.4342172889,256982.61389823203,1382163.048115521]
["2025-05-24",{"$f":"IF(DIAS365(CALCULADORA!$C$27,A49)<0,0,DIAS365(CALCULADORA!$C$27,A49))","v":470},{"$f":"+HLOOKUP(CALCULADORA!$C$9,Tablas!B:B,Flujos!J49+1,FALSE)","v":8.6479899999999995E-3},38.927765999999998,0.86479899999999998,{"$f":"ROUND(D48*ROUND(((1+CALCULADORA!$C$16)^(1/12)-1),6),6)","v":0.19558},1.060379,{"$f":"IF($B49=0,0,G49/POWER(1+CALCULADORA!$C$29,Flujos!$B49/365))","v":0.9403305053322083},"2025-05-24",47,{"$f":"+DIAS365($A$2,A49)","v":1429},50048345.692076594,1111848.0137329788,251452.35206405405,1363300.3657970328]
["2025-06-24",{"$f":"IF(DIAS365(CALCULADORA!$C$27,A50)<0,0,DIAS365(CALCULADORA!$C$27,A50))","v":501},{"$f":"+HLOOKUP(CALCULADORA!$C$9,Tablas!B:B,Flujos!J50+1,FALSE)","v":8.3958499999999998E-3},38.088180999999999,0.83958500000000003,{"$f":"ROUND(D49*ROUND(((1+CALCULADORA!$C$16)^(1/12)-1),6),6)","v":0.19133},1.030915,{"$f":"IF($B50=0,0,G50/POWER(1+CALCULADORA!$C$29,Flujos!$B50/365))","v":0.90698596582703361},"2025-06-24",48,{"$f":"+DIAS365($A$2,A50)","v":1460},48968914.616635941,1079431.075440655,245987.61907655647,1325418.6945172115]
["2025-07-24",{"$f":"IF(DIAS365(CALCULADORA!$C$27,A51)<0,0,DIAS365(CALCULADORA!$C$27,A51))","v":531},{"$f":"+HLOOKUP(CALCULADORA!$C$9,Tablas!B:B,Flujos!J51+1,FALSE)","v":8.5091100000000003E-3},37.237270000000002,0.85091099999999997,{"$f":"ROUND(D50*ROUND(((1+CALCULADORA!$C$16)^(1/12)-1),6),6)","v":0.18720300000000001},1.038114,{"$f":"IF($B51=0,0,G51/POWER(1+CALCULADORA!$C$29,Flujos!$B51/365))","v":0.90634194671691681},"2025-07-24",49,{"$f":"+DIAS365($A$2,A51)","v":1490},47874922.018108949,1093992.5985269903,240682.21534076566,1334674.8138677559]
["2025-08-24",{"$f":"IF(DIAS365(CALCULADORA!$C$27,A52)<0,0,DIAS365(CALCULADORA!$C$27,A52))","v":562},{"$f":"+HLOOKUP(CALCULADORA!$C$9,Tablas!B:B,Flujos!J52+1,FALSE)","v":8.46009E-3},36.391261,0.84600900000000001,{"$f":"ROUND(D51*ROUND(((1+CALCULADORA!$C$16)^(1/12)-1),6),6)","v":0.18302099999999999},1.0290300000000001,{"$f":"IF($B52=0,0,G52/POWER(1+CALCULADORA!$C$29,Flujos!$B52/365))","v":0.89131942154025556},"2025-08-24",50,{"$f":"+DIAS365($A$2,A52)","v":1521},46787231.784597784,1087690.2335111669,235305.24171900548,1322995.4752301723]
["2025-09-24",{"$f":"IF(DIAS365(CALCULADORA!$C$27,A53)<0,0,DIAS365(CALCULADORA!$C$27,A53))","v":593},{"$f":"+HLOOKUP(CALCULADORA!$C$9,Tablas!B:B,Flujos!J53+1,FALSE)","v":8.3696399999999994E-3},35.554296999999998,0.83696400000000004,{"$f":"ROUND(D52*ROUND(((1+CALCULADORA!$C$16)^(1/12)-1),6),6)","v":0.17886299999999999},1.015827,{"$f":"IF($B53=0,0,G53/POWER(1+CALCULADORA!$C$29,Flujos!$B53/365))","v":0.8729379748749434},"2025-09-24",51,{"$f":"+DIAS365($A$2,A53)","v":1552},45711170.455935277,1076061.3286625086,229959.24422129811,1306020.5728838067]
["2025-10-24",{"$f":"IF(DIAS365(CALCULADORA!$C$27,A54)<0,0,DIAS365(CALCULADORA!$C$27,A54))","v":623},{"$f":"+HLOOKUP(CALCULADORA!$C$9,Tablas!B:B,Flujos!J54+1,FALSE)","v":8.2812700000000003E-3},34.726170000000003,0.82812699999999995,{"$f":"ROUND(D53*ROUND(((1+CALCULADORA!$C$16)^(1/12)-1),6),6)","v":0.17474899999999999},1.0028759999999999,{"$f":"IF($B54=0,0,G54/POWER(1+CALCULADORA!$C$29,Flujos!$B54/365))","v":0.85522462435461966},"2025-10-24",52,{"$f":"+DIAS365($A$2,A54)","v":1582},44646470.612308435,1064699.8436268435,224670.40279092189,1289370.2464177655]
["2025-11-24",{"$f":"IF(DIAS365(CALCULADORA!$C$27,A55)<0,0,DIAS365(CALCULADORA!$C$27,A55))","v":654},{"$f":"+HLOOKUP(CALCULADORA!$C$9,Tablas!B:B,Flujos!J55+1,FALSE)","v":8.2385600000000007E-3},33.902313999999997,0.82385600000000003,{"$f":"ROUND(D54*ROUND(((1+CALCULADORA!$C$16)^(1/12)-1),6),6)","v":0.170679},0.99453500000000006,{"$f":"IF($B55=0,0,G55/POWER(1+CALCULADORA!$C$29,Flujos!$B55/365))","v":0.84141709554261102},"2025-11-24",53,{"$f":"+DIAS365($A$2,A55)","v":1613},43587261.874553189,1059208.7377552437,219437.40305949596,1278646.1408147397]
["2025-12-24",{"$f":"IF(DIAS365(CALCULADORA!$C$27,A56)<0,0,DIAS365(CALCULADORA!$C$27,A56))","v":684},{"$f":"+HLOOKUP(CALCULADORA!$C$9,Tablas!B:B,Flujos!J56+1,FALSE)","v":8.1326899999999997E-3},33.089044999999999,0.81326900000000002,{"$f":"ROUND(D55*ROUND(((1+CALCULADORA!$C$16)^(1/12)-1),6),6)","v":0.16663},0.97989900000000008,{"$f":"IF($B56=0,0,G56/POWER(1+CALCULADORA!$C$29,Flujos!$B56/365))","v":0.82270075967661238},"2025-12-24",54,{"$f":"+DIAS365($A$2,A56)","v":1643},42541664.548144847,1045597.3264083399,214231.39211342891,1259828.7185217687]
["2026-01-24",{"$f":"IF(DIAS365(CALCULADORA!$C$27,A57)<0,0,DIAS365(CALCULADORA!$C$27,A57))","v":715},{"$f":"+HLOOKUP(CALCULADORA!$C$9,Tablas!B:B,Flujos!J57+1,FALSE)","v":8.0575500000000001E-3},32.283290000000001,0.805755,{"$f":"ROUND(D56*ROUND(((1+CALCULADORA!$C$16)^(1/12)-1),6),6)","v":0.162633},0.96838800000000003,{"$f":"IF($B57=0,0,G57/POWER(1+CALCULADORA!$C$29,Flujos!$B57/365))","v":0.80661869666326269},"2026-01-24",55,{"$f":"+DIAS365($A$2,A57)","v":1674},41505727.762480877,1035936.7856639709,209092.28125413193,1245029.0669181028]
["2026-02-24",{"$f":"IF(DIAS365(CALCULADORA!$C$27,A58)<0,0,DIAS365(CALCULADORA!$C$27,A58))","v":746},{"$f":"+HLOOKUP(CALCULADORA!$C$9,Tablas!B:B,Flujos!J58+1,FALSE)","v":7.9679799999999995E-3},31.486491999999998,0.79679800000000001,{"$f":"ROUND(D57*ROUND(((1+CALCULADORA!$C$16)^(1/12)-1),6),6)","v":0.15867200000000001},0.95547000000000004,{"$f":"IF($B58=0,0,G58/POWER(1+CALCULADORA!$C$29,Flujos!$B58/365))","v":0.78957655093626056},"2026-02-24",56,{"$f":"+DIAS365($A$2,A58)","v":1705},40481306.742513917,1024421.0199669634,204000.65195259353,1228421.671919557]
["2026-03-24",{"$f":"IF(DIAS365(CALCULADORA!$C$27,A59)<0,0,DIAS365(CALCULADORA!$C$27,A59))","v":774},{"$f":"+HLOOKUP(CALCULADORA!$C$9,Tablas!B:B,Flujos!J59+1,FALSE)","v":7.8977200000000004E-3},30.696719999999999,0.78977200000000003,{"$f":"ROUND(D58*ROUND(((1+CALCULADORA!$C$16)^(1/12)-1),6),6)","v":0.154756},0.94452800000000003,{"$f":"IF($B59=0,0,G59/POWER(1+CALCULADORA!$C$29,Flujos!$B59/365))","v":0.77496732604720242},"2026-03-24",57,{"$f":"+DIAS365($A$2,A59)","v":1733},39465918.855268531,1015387.8872453856,198965.62263945592,1214353.5098848415]
["2026-04-24",{"$f":"IF(DIAS365(CALCULADORA!$C$27,A60)<0,0,DIAS365(CALCULADORA!$C$27,A60))","v":805},{"$f":"+HLOOKUP(CALCULADORA!$C$9,Tablas!B:B,Flujos!J60+1,FALSE)","v":7.8342299999999993E-3},29.913297,0.78342299999999998,{"$f":"ROUND(D59*ROUND(((1+CALCULADORA!$C$16)^(1/12)-1),6),6)","v":0.15087400000000001},0.93429699999999993,{"$f":"IF($B60=0,0,G60/POWER(1+CALCULADORA!$C$29,Flujos!$B60/365))","v":0.76052205159318143},"2026-04-24",58,{"$f":"+DIAS365($A$2,A60)","v":1764},38458693.700680315,1007225.1545882123,193974.99117364484,1201200.145761857]
["2026-05-24",{"$f":"IF(DIAS365(CALCULADORA!$C$27,A61)<0,0,DIAS365(CALCULADORA!$C$27,A61))","v":835},{"$f":"+HLOOKUP(CALCULADORA!$C$9,Tablas!B:B,Flujos!J61+1,FALSE)","v":7.7531700000000002E-3},29.137979999999999,0.77531700000000003,{"$f":"ROUND(D60*ROUND(((1+CALCULADORA!$C$16)^(1/12)-1),6),6)","v":0.14702399999999999},0.92234100000000008,{"$f":"IF($B61=0,0,G61/POWER(1+CALCULADORA!$C$29,Flujos!$B61/365))","v":0.74505390443992547},"2026-05-24",59,{"$f":"+DIAS365($A$2,A61)","v":1794},37461890.204765759,996803.49591455585,189024.47953884376,1185827.9754533996]
["2026-06-24",{"$f":"IF(DIAS365(CALCULADORA!$C$27,A62)<0,0,DIAS365(CALCULADORA!$C$27,A62))","v":866},{"$f":"+HLOOKUP(CALCULADORA!$C$9,Tablas!B:B,Flujos!J62+1,FALSE)","v":7.4618599999999998E-3},28.391794000000001,0.74618600000000002,{"$f":"ROUND(D61*ROUND(((1+CALCULADORA!$C$16)^(1/12)-1),6),6)","v":0.14321300000000001},0.88939900000000005,{"$f":"IF($B62=0,0,G62/POWER(1+CALCULADORA!$C$29,Flujos!$B62/365))","v":0.71277280068376603},"2026-06-24",60,{"$f":"+DIAS365($A$2,A62)","v":1825},36502539.625064164,959350.5797015914,184125.1903564237,1143475.7700580151]
["2026-07-24",{"$f":"IF(DIAS365(CALCULADORA!$C$27,A63)<0,0,DIAS365(CALCULADORA!$C$27,A63))","v":896},{"$f":"+HLOOKUP(CALCULADORA!$C$9,Tablas!B:B,Flujos!J63+1,FALSE)","v":7.6206299999999998E-3},27.629731,0.76206300000000005,{"$f":"ROUND(D62*ROUND(((1+CALCULADORA!$C$16)^(1/12)-1),6),6)","v":0.139546},0.9016090000000001,{"$f":"IF($B63=0,0,G63/POWER(1+CALCULADORA!$C$29,Flujos!$B63/365))","v":0.71703778860214684},"2026-07-24",61,{"$f":"+DIAS365($A$2,A63)","v":1855},35522776.428194843,979763.19686932454,179409.98225719036,1159173.1791265148]
["2026-08-24",{"$f":"IF(DIAS365(CALCULADORA!$C$27,A64)<0,0,DIAS365(CALCULADORA!$C$27,A64))","v":927},{"$f":"+HLOOKUP(CALCULADORA!$C$9,Tablas!B:B,Flujos!J64+1,FALSE)","v":7.5654299999999997E-3},26.873187999999999,0.75654299999999997,{"$f":"ROUND(D63*ROUND(((1+CALCULADORA!$C$16)^(1/12)-1),6),6)","v":0.1358},0.892343,{"$f":"IF($B64=0,0,G64/POWER(1+CALCULADORA!$C$29,Flujos!$B64/365))","v":0.70406690121666737},"2026-08-24",62,{"$f":"+DIAS365($A$2,A64)","v":1886},34550110.141747251,972666.28644758952,174594.44614457767,1147260.7325921671]
["2026-09-24",{"$f":"IF(DIAS365(CALCULADORA!$C$27,A65)<0,0,DIAS365(CALCULADORA!$C$27,A65))","v":958},{"$f":"+HLOOKUP(CALCULADORA!$C$9,Tablas!B:B,Flujos!J65+1,FALSE)","v":7.4853599999999999E-3},26.124652000000001,0.74853599999999998,{"$f":"ROUND(D64*ROUND(((1+CALCULADORA!$C$16)^(1/12)-1),6),6)","v":0.132082},0.88061800000000001,{"$f":"IF($B65=0,0,G65/POWER(1+CALCULADORA!$C$29,Flujos!$B65/365))","v":0.68933124923404321},"2026-09-24",63,{"$f":"+DIAS365($A$2,A65)","v":1917},33587738.232427709,962371.90931954014,169813.79134668774,1132185.7006662278]
["2026-10-24",{"$f":"IF(DIAS365(CALCULADORA!$C$27,A66)<0,0,DIAS365(CALCULADORA!$C$27,A66))","v":988},{"$f":"+HLOOKUP(CALCULADORA!$C$9,Tablas!B:B,Flujos!J66+1,FALSE)","v":7.4242800000000001E-3},25.382224000000001,0.74242799999999998,{"$f":"ROUND(D65*ROUND(((1+CALCULADORA!$C$16)^(1/12)-1),6),6)","v":0.12840299999999999},0.87083099999999991,{"$f":"IF($B66=0,0,G66/POWER(1+CALCULADORA!$C$29,Flujos!$B66/365))","v":0.67646232351711832},"2026-10-24",64,{"$f":"+DIAS365($A$2,A66)","v":1947},32633219.20877048,954519.02365722903,165083.73341238219,1119602.7570696112]
[{"$f":"EDATE(A66,1)","v":"2026-11-24"},{"$f":"IF(DIAS365(CALCULADORA!$C$27,A67)<0,0,DIAS365(CALCULADORA!$C$27,A67))","v":1019},{"$f":"+HLOOKUP(CALCULADORA!$C$9,Tablas!B:B,Flujos!J67+1,FALSE)","v":7.3604100000000004E-3},24.646183000000001,0.73604099999999995,{"$f":"ROUND(D66*ROUND(((1+CALCULADORA!$C$16)^(1/12)-1),6),6)","v":0.124754},0.86079499999999998,{"$f":"IF($B67=0,0,G67/POWER(1+CALCULADORA!$C$29,Flujos!$B67/365))","v":0.66338824125806173},{"$f":"+A67","v":"2026-11-24"},65,{"$f":"+DIAS365($A$2,A67)","v":1978},31686911.773313183,946307.4354572976,160392.27241110691,1106699.7078684045]
["2026-12-24",{"$f":"IF(DIAS365(CALCULADORA!$C$27,A68)<0,0,DIAS365(CALCULADORA!$C$27,A68))","v":1049},{"$f":"+HLOOKUP(CALCULADORA!$C$9,Tablas!B:B,Flujos!J68+1,FALSE)","v":7.2930699999999996E-3},{"$f":"+ROUND(D67-E68,6)","v":23.916875999999998},{"$f":"ROUND(C68*$D$2,6)","v":0.72930700000000004},{"$f":"ROUND(D67*ROUND(((1+CALCULADORA!$C$16)^(1/12)-1),6),6)","v":0.12113599999999999},{"$f":"F68+E68","v":0.85044300000000006},{"$f":"IF($B68=0,0,G68/POWER(1+CALCULADORA!$C$29,Flujos!$B68/365))","v":0.65040304860258524},"2026-12-24",66,{"$f":"+DIAS365($A$2,A68)","v":2008},{"$f":"+L67-M68","v":30749262.05430153},{"$f":"+$L$2*C68","v":937649.71901165182},{"$f":"+L67*$F$3%","v":155741.17136583431},{"$f":"+N68+M68","v":1093390.8903774861}]
["2027-01-24",{"$f":"IF(DIAS365(CALCULADORA!$C$27,A69)<0,0,DIAS365(CALCULADORA!$C$27,A69))","v":1080},{"$f":"+HLOOKUP(CALCULADORA!$C$9,Tablas!B:B,Flujos!J69+1,FALSE)","v":7.23458E-3},23.193418000000001,0.72345800000000005,{"$f":"ROUND(D68*ROUND(((1+CALCULADORA!$C$16)^(1/12)-1),6),6)","v":0.117551},0.84100900000000001,{"$f":"IF($B69=0,0,G69/POWER(1+CALCULADORA!$C$29,Flujos!$B69/365))","v":0.63811110419039063},"2027-01-24",67,{"$f":"+DIAS365($A$2,A69)","v":2039},29819132.231858127,930129.822443404,151132.62299689202,1081262.4454402961]
["2027-02-24",{"$f":"IF(DIAS365(CALCULADORA!$C$27,A70)<0,0,DIAS365(CALCULADORA!$C$27,A70))","v":1111},{"$f":"+HLOOKUP(CALCULADORA!$C$9,Tablas!B:B,Flujos!J70+1,FALSE)","v":7.1574500000000001E-3},22.477672999999999,0.71574499999999996,{"$f":"ROUND(D69*ROUND(((1+CALCULADORA!$C$16)^(1/12)-1),6),6)","v":0.113996},0.82974099999999995,{"$f":"IF($B70=0,0,G70/POWER(1+CALCULADORA!$C$29,Flujos!$B70/365))","v":0.62459213395416824},"2027-02-24",68,{"$f":"+DIAS365($A$2,A70)","v":2070},28898918.798922483,920213.43293564278,146561.03491958269,1066774.4678552256]
["2027-03-24",{"$f":"IF(DIAS365(CALCULADORA!$C$27,A71)<0,0,DIAS365(CALCULADORA!$C$27,A71))","v":1139},{"$f":"+HLOOKUP(CALCULADORA!$C$9,Tablas!B:B,Flujos!J71+1,FALSE)","v":7.09467E-3},21.768205999999999,0.70946699999999996,{"$f":"ROUND(D70*ROUND(((1+CALCULADORA!$C$16)^(1/12)-1),6),6)","v":0.11047800000000001},0.81994499999999992,{"$f":"IF($B71=0,0,G71/POWER(1+CALCULADORA!$C$29,Flujos!$B71/365))","v":0.6128159366756859},"2027-03-24",69,{"$f":"+DIAS365($A$2,A71)","v":2098},27986776.815919384,912141.983003097,142038.185896704,1054180.1688998011]
["2027-04-24",{"$f":"IF(DIAS365(CALCULADORA!$C$27,A72)<0,0,DIAS365(CALCULADORA!$C$27,A72))","v":1170},{"$f":"+HLOOKUP(CALCULADORA!$C$9,Tablas!B:B,Flujos!J72+1,FALSE)","v":7.0158199999999999E-3},21.066624000000001,0.70158200000000004,{"$f":"ROUND(D71*ROUND(((1+CALCULADORA!$C$16)^(1/12)-1),6),6)","v":0.106991},0.80857299999999999,{"$f":"IF($B72=0,0,G72/POWER(1+CALCULADORA!$C$29,Flujos!$B72/365))","v":0.59954649100412205},"2027-04-24",70,{"$f":"+DIAS365($A$2,A72)","v":2129},27084772.358038638,902004.45788074541,137555.00805024378,1039559.4659309892]
["2027-05-24",{"$f":"IF(DIAS365(CALCULADORA!$C$27,A73)<0,0,DIAS365(CALCULADORA!$C$27,A73))","v":1200},{"$f":"+HLOOKUP(CALCULADORA!$C$9,Tablas!B:B,Flujos!J73+1,FALSE)","v":6.9453700000000002E-3},20.372087000000001,0.69453699999999996,{"$f":"ROUND(D72*ROUND(((1+CALCULADORA!$C$16)^(1/12)-1),6),6)","v":0.103542},0.79807899999999998,{"$f":"IF($B73=0,0,G73/POWER(1+CALCULADORA!$C$29,Flujos!$B73/365))","v":0.5872443370288134},"2027-05-24",71,{"$f":"+DIAS365($A$2,A73)","v":2159},26191825.46065085,892946.89738778828,133121.6561397599,1026068.5535275482]
["2027-06-24",{"$f":"IF(DIAS365(CALCULADORA!$C$27,A74)<0,0,DIAS365(CALCULADORA!$C$27,A74))","v":1231},{"$f":"+HLOOKUP(CALCULADORA!$C$9,Tablas!B:B,Flujos!J74+1,FALSE)","v":6.6182200000000002E-3},19.710265,0.66182200000000002,{"$f":"ROUND(D73*ROUND(((1+CALCULADORA!$C$16)^(1/12)-1),6),6)","v":0.100129},0.76195100000000004,{"$f":"IF($B74=0,0,G74/POWER(1+CALCULADORA!$C$29,Flujos!$B74/365))","v":0.55623498247446512},"2027-06-24",72,{"$f":"+DIAS365($A$2,A74)","v":2190},25340939.328561444,850886.13208940753,128732.82213909893,979618.95422850642]
["2027-07-24",{"$f":"IF(DIAS365(CALCULADORA!$C$27,A75)<0,0,DIAS365(CALCULADORA!$C$27,A75))","v":1261},{"$f":"+HLOOKUP(CALCULADORA!$C$9,Tablas!B:B,Flujos!J75+1,FALSE)","v":6.7881399999999998E-3},19.031451000000001,0.67881400000000003,{"$f":"ROUND(D74*ROUND(((1+CALCULADORA!$C$16)^(1/12)-1),6),6)","v":9.6876000000000004E-2},0.77568999999999999,{"$f":"IF($B75=0,0,G75/POWER(1+CALCULADORA!$C$29,Flujos!$B75/365))","v":0.56193847945976094},"2027-07-24",73,{"$f":"+DIAS365($A$2,A75)","v":2220},24468207.054825999,872732.27373544406,124550.7167998795,997282.99053532351]
["2027-08-24",{"$f":"IF(DIAS365(CALCULADORA!$C$27,A76)<0,0,DIAS365(CALCULADORA!$C$27,A76))","v":1292},{"$f":"+HLOOKUP(CALCULADORA!$C$9,Tablas!B:B,Flujos!J76+1,FALSE)","v":6.7206399999999999E-3},18.359387000000002,0.67206399999999999,{"$f":"ROUND(D75*ROUND(((1+CALCULADORA!$C$16)^(1/12)-1),6),6)","v":9.3539999999999998E-2},0.76560399999999995,{"$f":"IF($B76=0,0,G76/POWER(1+CALCULADORA!$C$29,Flujos!$B76/365))","v":0.55025383041910236},"2027-08-24",74,{"$f":"+DIAS365($A$2,A76)","v":2251},23604153.068291046,864053.98653495277,120261.23767446978,984315.22420942259]
["2027-09-24",{"$f":"IF(DIAS365(CALCULADORA!$C$27,A77)<0,0,DIAS365(CALCULADORA!$C$27,A77))","v":1323},{"$f":"+HLOOKUP(CALCULADORA!$C$9,Tablas!B:B,Flujos!J77+1,FALSE)","v":6.6494400000000004E-3},17.694443,0.66494399999999998,{"$f":"ROUND(D76*ROUND(((1+CALCULADORA!$C$16)^(1/12)-1),6),6)","v":9.0235999999999997E-2},0.75517999999999996,{"$f":"IF($B77=0,0,G77/POWER(1+CALCULADORA!$C$29,Flujos!$B77/365))","v":0.53847762448618031},"2027-09-24",75,{"$f":"+DIAS365($A$2,A77)","v":2282},22749253.067662388,854900.00062865694,116014.41233065049,970914.41295930743]
["2027-10-24",{"$f":"IF(DIAS365(CALCULADORA!$C$27,A78)<0,0,DIAS365(CALCULADORA!$C$27,A78))","v":1353},{"$f":"+HLOOKUP(CALCULADORA!$C$9,Tablas!B:B,Flujos!J78+1,FALSE)","v":6.5808899999999998E-3},17.036353999999999,0.65808900000000004,{"$f":"ROUND(D77*ROUND(((1+CALCULADORA!$C$16)^(1/12)-1),6),6)","v":8.6968000000000004E-2},0.74505700000000008,{"$f":"IF($B78=0,0,G78/POWER(1+CALCULADORA!$C$29,Flujos!$B78/365))","v":0.52720073272071133},"2027-10-24",76,{"$f":"+DIAS365($A$2,A78)","v":2312},21903166.349812895,846086.7178494914,111812.57882756065,957899.29667705204]
["2027-11-24",{"$f":"IF(DIAS365(CALCULADORA!$C$27,A79)<0,0,DIAS365(CALCULADORA!$C$27,A79))","v":1384},{"$f":"+HLOOKUP(CALCULADORA!$C$9,Tablas!B:B,Flujos!J79+1,FALSE)","v":6.5202200000000002E-3},16.384332000000001,0.65202199999999999,{"$f":"ROUND(D78*ROUND(((1+CALCULADORA!$C$16)^(1/12)-1),6),6)","v":8.3734000000000003E-2},0.73575599999999997,{"$f":"IF($B79=0,0,G79/POWER(1+CALCULADORA!$C$29,Flujos!$B79/365))","v":0.5165098636332609},"2027-11-24",77,{"$f":"+DIAS365($A$2,A79)","v":2343},21064879.805066422,838286.54474647203,107654.06260933039,945940.60735580244]
["2027-12-24",{"$f":"IF(DIAS365(CALCULADORA!$C$27,A80)<0,0,DIAS365(CALCULADORA!$C$27,A80))","v":1414},{"$f":"+HLOOKUP(CALCULADORA!$C$9,Tablas!B:B,Flujos!J80+1,FALSE)","v":6.4465800000000004E-3},15.739674000000001,0.64465799999999995,{"$f":"ROUND(D79*ROUND(((1+CALCULADORA!$C$16)^(1/12)-1),6),6)","v":8.0529000000000003E-2},0.72518699999999992,{"$f":"IF($B80=0,0,G80/POWER(1+CALCULADORA!$C$29,Flujos!$B80/365))","v":0.50520092973404529},"2027-12-24",78,{"$f":"+DIAS365($A$2,A80)","v":2373},20236060.950237639,828818.85482878063,103533.88424190147,932352.73907068209]
["2028-01-24",{"$f":"IF(DIAS365(CALCULADORA!$C$27,A81)<0,0,DIAS365(CALCULADORA!$C$27,A81))","v":1445},{"$f":"+HLOOKUP(CALCULADORA!$C$9,Tablas!B:B,Flujos!J81+1,FALSE)","v":6.3814400000000004E-3},15.10153,0.63814400000000004,{"$f":"ROUND(D80*ROUND(((1+CALCULADORA!$C$16)^(1/12)-1),6),6)","v":7.7359999999999998E-2},0.71550400000000003,{"$f":"IF($B81=0,0,G81/POWER(1+CALCULADORA!$C$29,Flujos!$B81/365))","v":0.49452072616637732},"2028-01-24",79,{"$f":"+DIAS365($A$2,A81)","v":2404},19415616.963975377,820443.98626226222,99460.239570417994,919904.22583268024]
["2028-02-24",{"$f":"IF(DIAS365(CALCULADORA!$C$27,A82)<0,0,DIAS365(CALCULADORA!$C$27,A82))","v":1476},{"$f":"+HLOOKUP(CALCULADORA!$C$9,Tablas!B:B,Flujos!J82+1,FALSE)","v":6.3100600000000001E-3},14.470523999999999,0.63100599999999996,{"$f":"ROUND(D81*ROUND(((1+CALCULADORA!$C$16)^(1/12)-1),6),6)","v":7.4223999999999998E-2},0.70522999999999991,{"$f":"IF($B82=0,0,G82/POWER(1+CALCULADORA!$C$29,Flujos!$B82/365))","v":0.48357240753999614},"2028-02-24",80,{"$f":"+DIAS365($A$2,A82)","v":2435},18604350.105718613,811266.85825676494,95427.757377938979,906694.61563470389]
["2028-03-24",{"$f":"IF(DIAS365(CALCULADORA!$C$27,A83)<0,0,DIAS365(CALCULADORA!$C$27,A83))","v":1504},{"$f":"+HLOOKUP(CALCULADORA!$C$9,Tablas!B:B,Flujos!J83+1,FALSE)","v":6.2444600000000003E-3},13.846078,0.62444599999999995,{"$f":"ROUND(D82*ROUND(((1+CALCULADORA!$C$16)^(1/12)-1),6),6)","v":7.1123000000000006E-2},0.69556899999999999,{"$f":"IF($B83=0,0,G83/POWER(1+CALCULADORA!$C$29,Flujos!$B83/365))","v":0.47354616161509538},"2028-03-24",81,{"$f":"+DIAS365($A$2,A83)","v":2463},17801517.256948546,802832.84877006535,91440.380769606985,894273.22953967238]
["2028-04-24",{"$f":"IF(DIAS365(CALCULADORA!$C$27,A84)<0,0,DIAS365(CALCULADORA!$C$27,A84))","v":1535},{"$f":"+HLOOKUP(CALCULADORA!$C$9,Tablas!B:B,Flujos!J84+1,FALSE)","v":6.1725299999999999E-3},13.228825000000001,0.61725300000000005,{"$f":"ROUND(D83*ROUND(((1+CALCULADORA!$C$16)^(1/12)-1),6),6)","v":6.8053000000000002E-2},0.68530600000000008,{"$f":"IF($B84=0,0,G84/POWER(1+CALCULADORA!$C$29,Flujos!$B84/365))","v":0.46287629279551079},"2028-04-24",82,{"$f":"+DIAS365($A$2,A84)","v":2494},17007932.248153761,793585.00879478629,87494.45731790211,881079.46611268842]
["2028-05-24",{"$f":"IF(DIAS365(CALCULADORA!$C$27,A85)<0,0,DIAS365(CALCULADORA!$C$27,A85))","v":1565},{"$f":"+HLOOKUP(CALCULADORA!$C$9,Tablas!B:B,Flujos!J85+1,FALSE)","v":6.11044E-3},12.617781000000001,0.61104400000000003,{"$f":"ROUND(D84*ROUND(((1+CALCULADORA!$C$16)^(1/12)-1),6),6)","v":6.5019999999999994E-2},0.676064,{"$f":"IF($B85=0,0,G85/POWER(1+CALCULADORA!$C$29,Flujos!$B85/365))","v":0.45314536100435115},"2028-05-24",83,{"$f":"+DIAS365($A$2,A85)","v":2524},16222329.977911249,785602.27024251223,83593.986999675733,869196.25724218797]
["2028-06-24",{"$f":"IF(DIAS365(CALCULADORA!$C$27,A86)<0,0,DIAS365(CALCULADORA!$C$27,A86))","v":1596},{"$f":"+HLOOKUP(CALCULADORA!$C$9,Tablas!B:B,Flujos!J86+1,FALSE)","v":5.7880700000000002E-3},12.038974,0.57880699999999996,{"$f":"ROUND(D85*ROUND(((1+CALCULADORA!$C$16)^(1/12)-1),6),6)","v":6.2016000000000002E-2},0.64082299999999992,{"$f":"IF($B86=0,0,G86/POWER(1+CALCULADORA!$C$29,Flujos!$B86/365))","v":0.42613393436366676},"2028-06-24",84,{"$f":"+DIAS365($A$2,A86)","v":2555},15478173.921666104,744156.05624514399,79732.751841433783,823888.8080865778]
["2028-07-24",{"$f":"IF(DIAS365(CALCULADORA!$C$27,A87)<0,0,DIAS365(CALCULADORA!$C$27,A87))","v":1626},{"$f":"+HLOOKUP(CALCULADORA!$C$9,Tablas!B:B,Flujos!J87+1,FALSE)","v":5.9616299999999999E-3},11.442811000000001,0.596163,{"$f":"ROUND(D86*ROUND(((1+CALCULADORA!$C$16)^(1/12)-1),6),6)","v":5.9172000000000002E-2},0.655335,{"$f":"IF($B87=0,0,G87/POWER(1+CALCULADORA!$C$29,Flujos!$B87/365))","v":0.43245479429741424},"2028-07-24",85,{"$f":"+DIAS365($A$2,A87)","v":2585},14711703.739102187,766470.18256391806,76075.224824988909,842545.40738890693]
["2028-08-24",{"$f":"IF(DIAS365(CALCULADORA!$C$27,A88)<0,0,DIAS365(CALCULADORA!$C$27,A88))","v":1657},{"$f":"+HLOOKUP(CALCULADORA!$C$9,Tablas!B:B,Flujos!J88+1,FALSE)","v":5.8868999999999996E-3},10.854120999999999,0.58869000000000005,{"$f":"ROUND(D87*ROUND(((1+CALCULADORA!$C$16)^(1/12)-1),6),6)","v":5.6240999999999999E-2},0.64493100000000003,{"$f":"IF($B88=0,0,G88/POWER(1+CALCULADORA!$C$29,Flujos!$B88/365))","v":0.42222982467549336},"2028-08-24",86,{"$f":"+DIAS365($A$2,A88)","v":2616},13954841.384723347,756862.35437884089,72308.023877687243,829170.37825652817]
["2028-09-24",{"$f":"IF(DIAS365(CALCULADORA!$C$27,A89)<0,0,DIAS365(CALCULADORA!$C$27,A89))","v":1688},{"$f":"+HLOOKUP(CALCULADORA!$C$9,Tablas!B:B,Flujos!J89+1,FALSE)","v":5.7971899999999998E-3},10.274402,0.57971899999999998,{"$f":"ROUND(D88*ROUND(((1+CALCULADORA!$C$16)^(1/12)-1),6),6)","v":5.3348E-2},0.63306699999999994,{"$f":"IF($B89=0,0,G89/POWER(1+CALCULADORA!$C$29,Flujos!$B89/365))","v":0.4111910290279448},"2028-09-24",87,{"$f":"+DIAS365($A$2,A89)","v":2647},13209512.795452002,745328.58927134366,68588.045405915254,813916.6346772589]
["2028-10-24",{"$f":"IF(DIAS365(CALCULADORA!$C$27,A90)<0,0,DIAS365(CALCULADORA!$C$27,A90))","v":1718},{"$f":"+HLOOKUP(CALCULADORA!$C$9,Tablas!B:B,Flujos!J90+1,FALSE)","v":5.72939E-3},9.7014630000000004,0.57293899999999998,{"$f":"ROUND(D89*ROUND(((1+CALCULADORA!$C$16)^(1/12)-1),6),6)","v":5.0499000000000002E-2},0.62343799999999994,{"$f":"IF($B90=0,0,G90/POWER(1+CALCULADORA!$C$29,Flujos!$B90/365))","v":0.40184313133005378},"2028-10-24",88,{"$f":"+DIAS365($A$2,A90)","v":2677},12472901.063546486,736611.73190551694,64924.755389646591,801536.48729516356]
["2028-11-24",{"$f":"IF(DIAS365(CALCULADORA!$C$27,A91)<0,0,DIAS365(CALCULADORA!$C$27,A91))","v":1749},{"$f":"+HLOOKUP(CALCULADORA!$C$9,Tablas!B:B,Flujos!J91+1,FALSE)","v":5.6566999999999997E-3},9.1357929999999996,0.56567000000000001,{"$f":"ROUND(D90*ROUND(((1+CALCULADORA!$C$16)^(1/12)-1),6),6)","v":4.7683000000000003E-2},0.61335300000000004,{"$f":"IF($B91=0,0,G91/POWER(1+CALCULADORA!$C$29,Flujos!$B91/365))","v":0.39222211252943684},"2028-11-24",89,{"$f":"+DIAS365($A$2,A91)","v":2708},11745634.882701766,727266.18084472127,61304.308727330979,788570.48957205226]
["2028-12-24",{"$f":"IF(DIAS365(CALCULADORA!$C$27,A92)<0,0,DIAS365(CALCULADORA!$C$27,A92))","v":1779},{"$f":"+HLOOKUP(CALCULADORA!$C$9,Tablas!B:B,Flujos!J92+1,FALSE)","v":5.5871999999999996E-3},8.5770730000000004,0.55871999999999999,{"$f":"ROUND(D91*ROUND(((1+CALCULADORA!$C$16)^(1/12)-1),6),6)","v":4.4901999999999997E-2},0.60362199999999999,{"$f":"IF($B92=0,0,G92/POWER(1+CALCULADORA!$C$29,Flujos!$B92/365))","v":0.38305043908450742},"2028-12-24",90,{"$f":"+DIAS365($A$2,A92)","v":2738},11027304.123493105,718330.75920865987,57729.795448479177,776060.554657139]
["2029-01-24",{"$f":"IF(DIAS365(CALCULADORA!$C$27,A93)<0,0,DIAS365(CALCULADORA!$C$27,A93))","v":1810},{"$f":"+HLOOKUP(CALCULADORA!$C$9,Tablas!B:B,Flujos!J93+1,FALSE)","v":5.5177500000000001E-3},8.0252979999999994,0.55177500000000002,{"$f":"ROUND(D92*ROUND(((1+CALCULADORA!$C$16)^(1/12)-1),6),6)","v":4.2155999999999999E-2},0.59393099999999999,{"$f":"IF($B93=0,0,G93/POWER(1+CALCULADORA!$C$29,Flujos!$B93/365))","v":0.37392560030247468},"2029-01-24",91,{"$f":"+DIAS365($A$2,A93)","v":2769},10317902.357559618,709401.76593348791,54199.19976696861,763600.96570045652]
["2029-02-24",{"$f":"IF(DIAS365(CALCULADORA!$C$27,A94)<0,0,DIAS365(CALCULADORA!$C$27,A94))","v":1841},{"$f":"+HLOOKUP(CALCULADORA!$C$9,Tablas!B:B,Flujos!J94+1,FALSE)","v":5.4437299999999999E-3},7.480925,0.544373,{"$f":"ROUND(D93*ROUND(((1+CALCULADORA!$C$16)^(1/12)-1),6),6)","v":3.9444E-2},0.58381700000000003,{"$f":"IF($B94=0,0,G94/POWER(1+CALCULADORA!$C$29,Flujos!$B94/365))","v":0.36465673915733621},"2029-02-24",92,{"$f":"+DIAS365($A$2,A94)","v":2800},9618017.1370865796,699885.22047303803,50712.490087405524,750597.71056044358]
["2029-03-24",{"$f":"IF(DIAS365(CALCULADORA!$C$27,A95)<0,0,DIAS365(CALCULADORA!$C$27,A95))","v":1869},{"$f":"+HLOOKUP(CALCULADORA!$C$9,Tablas!B:B,Flujos!J95+1,FALSE)","v":5.3742499999999997E-3},6.9435000000000002,0.53742500000000004,{"$f":"ROUND(D94*ROUND(((1+CALCULADORA!$C$16)^(1/12)-1),6),6)","v":3.6769000000000003E-2},0.57419400000000009,{"$f":"IF($B95=0,0,G95/POWER(1+CALCULADORA!$C$29,Flujos!$B95/365))","v":0.35608815393772453},"2029-03-24",93,{"$f":"+DIAS365($A$2,A95)","v":2828},8927064.7669052463,690952.37018133246,47272.554228780537,738224.92441011302]
["2029-04-24",{"$f":"IF(DIAS365(CALCULADORA!$C$27,A96)<0,0,DIAS365(CALCULADORA!$C$27,A96))","v":1900},{"$f":"+HLOOKUP(CALCULADORA!$C$9,Tablas!B:B,Flujos!J96+1,FALSE)","v":5.2991100000000001E-3},6.413589,0.52991100000000002,{"$f":"ROUND(D95*ROUND(((1+CALCULADORA!$C$16)^(1/12)-1),6),6)","v":3.4126999999999998E-2},0.56403800000000004,{"$f":"IF($B96=0,0,G96/POWER(1+CALCULADORA!$C$29,Flujos!$B96/365))","v":0.34702881829399612},"2029-04-24",94,{"$f":"+DIAS365($A$2,A96)","v":2859},8245772.9374682829,681291.82943696342,43876.523329339288,725168.35276630276]
["2029-05-24",{"$f":"IF(DIAS365(CALCULADORA!$C$27,A97)<0,0,DIAS365(CALCULADORA!$C$27,A97))","v":1930},{"$f":"+HLOOKUP(CALCULADORA!$C$9,Tablas!B:B,Flujos!J97+1,FALSE)","v":5.2249599999999998E-3},5.8910929999999997,0.52249599999999996,{"$f":"ROUND(D96*ROUND(((1+CALCULADORA!$C$16)^(1/12)-1),6),6)","v":3.1523000000000002E-2},0.55401899999999993,{"$f":"IF($B97=0,0,G97/POWER(1+CALCULADORA!$C$29,Flujos!$B97/365))","v":0.33826040172471461},"2029-05-24",95,{"$f":"+DIAS365($A$2,A97)","v":2889},7574014.367230081,671758.57023820153,40527.973987656609,712286.54422585818]
["2029-06-24",{"$f":"IF(DIAS365(CALCULADORA!$C$27,A98)<0,0,DIAS365(CALCULADORA!$C$27,A98))","v":1961},{"$f":"+HLOOKUP(CALCULADORA!$C$9,Tablas!B:B,Flujos!J98+1,FALSE)","v":4.8848499999999996E-3},5.4026079999999999,0.488485,{"$f":"ROUND(D97*ROUND(((1+CALCULADORA!$C$16)^(1/12)-1),6),6)","v":2.8955000000000002E-2},0.51744000000000001,{"$f":"IF($B98=0,0,G98/POWER(1+CALCULADORA!$C$29,Flujos!$B98/365))","v":0.31343305866139326},"2029-06-24",96,{"$f":"+DIAS365($A$2,A98)","v":2920},6945982.7934327545,628031.57379732642,37226.280614935851,665257.85441226233]
[{"$f":"EDATE(A98,1)","v":"2029-07-24"},{"$f":"IF(DIAS365(CALCULADORA!$C$27,A99)<0,0,DIAS365(CALCULADORA!$C$27,A99))","v":1991},{"$f":"+HLOOKUP(CALCULADORA!$C$9,Tablas!B:B,Flujos!J99+1,FALSE)","v":5.0578899999999998E-3},4.8968189999999998,0.50578900000000004,{"$f":"ROUND(D98*ROUND(((1+CALCULADORA!$C$16)^(1/12)-1),6),6)","v":2.6554000000000001E-2},0.53234300000000001,{"$f":"IF($B99=0,0,G99/POWER(1+CALCULADORA!$C$29,Flujos!$B99/365))","v":0.3199968285870794},"2029-07-24",97,{"$f":"+DIAS365($A$2,A99)","v":2950},6295703.9482699018,650278.84516285243,34139.50542972199,684418.35059257445]
["2029-08-24",{"$f":"IF(DIAS365(CALCULADORA!$C$27,A100)<0,0,DIAS365(CALCULADORA!$C$27,A100))","v":2022},{"$f":"+HLOOKUP(CALCULADORA!$C$9,Tablas!B:B,Flujos!J100+1,FALSE)","v":4.9563699999999999E-3},4.4011820000000004,0.49563699999999999,{"$f":"ROUND(D99*ROUND(((1+CALCULADORA!$C$16)^(1/12)-1),6),6)","v":2.4067999999999999E-2},0.51970499999999997,{"$f":"IF($B100=0,0,G100/POWER(1+CALCULADORA!$C$29,Flujos!$B100/365))","v":0.30993407248759236},"2029-08-24",98,{"$f":"+DIAS365($A$2,A100)","v":2981},5658477.2470565885,637226.70121331362,30943.384905746567,668170.08611906017]
["2029-09-24",{"$f":"IF(DIAS365(CALCULADORA!$C$27,A101)<0,0,DIAS365(CALCULADORA!$C$27,A101))","v":2053},{"$f":"+HLOOKUP(CALCULADORA!$C$9,Tablas!B:B,Flujos!J101+1,FALSE)","v":4.8324300000000004E-3},3.9179390000000001,0.48324299999999998,{"$f":"ROUND(D100*ROUND(((1+CALCULADORA!$C$16)^(1/12)-1),6),6)","v":2.1631999999999998E-2},0.50487499999999996,{"$f":"IF($B101=0,0,G101/POWER(1+CALCULADORA!$C$29,Flujos!$B101/365))","v":0.2987133244498702},"2029-09-24",99,{"$f":"+DIAS365($A$2,A101)","v":3012},5037185.1668155547,621292.08024103392,27811.415669283135,649103.49591031705]
["2029-10-24",{"$f":"IF(DIAS365(CALCULADORA!$C$27,A102)<0,0,DIAS365(CALCULADORA!$C$27,A102))","v":2083},{"$f":"+HLOOKUP(CALCULADORA!$C$9,Tablas!B:B,Flujos!J102+1,FALSE)","v":0},3.9179390000000001,0,{"$f":"ROUND(D101*ROUND(((1+CALCULADORA!$C$16)^(1/12)-1),6),6)","v":1.9257E-2},1.9257E-2,{"$f":"IF($B102=0,0,G102/POWER(1+CALCULADORA!$C$29,Flujos!$B102/365))","v":1.1306512919395087E-2},"2029-10-24",100,{"$f":"+DIAS365($A$2,A102)","v":3042},5037185.1668155547,0,24757.765094898452,24757.765094898452]
["2029-11-24",{"$f":"IF(DIAS365(CALCULADORA!$C$27,A103)<0,0,DIAS365(CALCULADORA!$C$27,A103))","v":2114},{"$f":"+HLOOKUP(CALCULADORA!$C$9,Tablas!B:B,Flujos!J103+1,FALSE)","v":0},3.9179390000000001,0,{"$f":"ROUND(D102*ROUND(((1+CALCULADORA!$C$16)^(1/12)-1),6),6)","v":1.9257E-2},1.9257E-2,{"$f":"IF($B103=0,0,G103/POWER(1+CALCULADORA!$C$29,Flujos!$B103/365))","v":1.1217265122355715E-2},"2029-11-24",101,{"$f":"+DIAS365($A$2,A103)","v":3073},5037185.1668155547,0,24757.765094898452,24757.765094898452]
["2029-12-24",{"$f":"IF(DIAS365(CALCULADORA!$C$27,A104)<0,0,DIAS365(CALCULADORA!$C$27,A104))","v":2144},{"$f":"+HLOOKUP(CALCULADORA!$C$9,Tablas!B:B,Flujos!J104+1,FALSE)","v":0},3.9179390000000001,0,{"$f":"ROUND(D103*ROUND(((1+CALCULADORA!$C$16)^(1/12)-1),6),6)","v":1.9257E-2},1.9257E-2,{"$f":"IF($B104=0,0,G104/POWER(1+CALCULADORA!$C$29,Flujos!$B104/365))","v":1.1131567098735121E-2},"2029-12-24",102,{"$f":"+DIAS365($A$2,A104)","v":3103},5037185.1668155547,0,24757.765094898452,24757.765094898452]
["2030-01-24",{"$f":"IF(DIAS365(CALCULADORA!$C$27,A105)<0,0,DIAS365(CALCULADORA!$C$27,A105))","v":2175},{"$f":"+HLOOKUP(CALCULADORA!$C$9,Tablas!B:B,Flujos!J105+1,FALSE)","v":0},3.9179390000000001,0,{"$f":"ROUND(D104*ROUND(((1+CALCULADORA!$C$16)^(1/12)-1),6),6)","v":1.9257E-2},1.9257E-2,{"$f":"IF($B105=0,0,G105/POWER(1+CALCULADORA!$C$29,Flujos!$B105/365))","v":1.1043700234013824E-2},"2030-01-24",103,{"$f":"+DIAS365($A$2,A105)","v":3134},5037185.1668155547,0,24757.765094898452,24757.765094898452]
["2030-02-24",{"$f":"IF(DIAS365(CALCULADORA!$C$27,A106)<0,0,DIAS365(CALCULADORA!$C$27,A106))","v":2206},{"$f":"+HLOOKUP(CALCULADORA!$C$9,Tablas!B:B,Flujos!J106+1,FALSE)","v":0},3.9179390000000001,0,{"$f":"ROUND(D105*ROUND(((1+CALCULADORA!$C$16)^(1/12)-1),6),6)","v":1.9257E-2},1.9257E-2,{"$f":"IF($B106=0,0,G106/POWER(1+CALCULADORA!$C$29,Flujos!$B106/365))","v":1.0956526945124884E-2},"2030-02-24",104,{"$f":"+DIAS365($A$2,A106)","v":3165},5037185.1668155547,0,24757.765094898452,24757.765094898452]
["2030-03-24",{"$f":"IF(DIAS365(CALCULADORA!$C$27,A107)<0,0,DIAS365(CALCULADORA!$C$27,A107))","v":2234},{"$f":"+HLOOKUP(CALCULADORA!$C$9,Tablas!B:B,Flujos!J107+1,FALSE)","v":0},3.9179390000000001,0,{"$f":"ROUND(D106*ROUND(((1+CALCULADORA!$C$16)^(1/12)-1),6),6)","v":1.9257E-2},1.9257E-2,{"$f":"IF($B107=0,0,G107/POWER(1+CALCULADORA!$C$29,Flujos!$B107/365))","v":1.0878381369466341E-2},"2030-03-24",105,{"$f":"+DIAS365($A$2,A107)","v":3193},5037185.1668155547,0,24757.765094898452,24757.765094898452]
["2030-04-24",{"$f":"IF(DIAS365(CALCULADORA!$C$27,A108)<0,0,DIAS365(CALCULADORA!$C$27,A108))","v":2265},{"$f":"+HLOOKUP(CALCULADORA!$C$9,Tablas!B:B,Flujos!J108+1,FALSE)","v":0},3.9179390000000001,0,{"$f":"ROUND(D107*ROUND(((1+CALCULADORA!$C$16)^(1/12)-1),6),6)","v":1.9257E-2},1.9257E-2,{"$f":"IF($B108=0,0,G108/POWER(1+CALCULADORA!$C$29,Flujos!$B108/365))","v":1.0792513022655926E-2},"2030-04-24",106,{"$f":"+DIAS365($A$2,A108)","v":3224},5037185.1668155547,0,24757.765094898452,24757.765094898452]
["2030-05-24",{"$f":"IF(DIAS365(CALCULADORA!$C$27,A109)<0,0,DIAS365(CALCULADORA!$C$27,A109))","v":2295},{"$f":"+HLOOKUP(CALCULADORA!$C$9,Tablas!B:B,Flujos!J109+1,FALSE)","v":0},3.9179390000000001,0,{"$f":"ROUND(D108*ROUND(((1+CALCULADORA!$C$16)^(1/12)-1),6),6)","v":1.9257E-2},1.9257E-2,{"$f":"IF($B109=0,0,G109/POWER(1+CALCULADORA!$C$29,Flujos!$B109/365))","v":1.071006003381662E-2},"2030-05-24",107,{"$f":"+DIAS365($A$2,A109)","v":3254},5037185.1668155547,0,24757.765094898452,24757.765094898452]
["2030-06-24",{"$f":"IF(DIAS365(CALCULADORA!$C$27,A110)<0,0,DIAS365(CALCULADORA!$C$27,A110))","v":2326},{"$f":"+HLOOKUP(CALCULADORA!$C$9,Tablas!B:B,Flujos!J110+1,FALSE)","v":0},3.9179390000000001,0,{"$f":"ROUND(D109*ROUND(((1+CALCULADORA!$C$16)^(1/12)-1),6),6)","v":1.9257E-2},1.9257E-2,{"$f":"IF($B110=0,0,G110/POWER(1+CALCULADORA!$C$29,Flujos!$B110/365))","v":1.0625520329047174E-2},"2030-06-24",108,{"$f":"+DIAS365($A$2,A110)","v":3285},5037185.1668155547,0,24757.765094898452,24757.765094898452]
["2030-07-24",{"$f":"IF(DIAS365(CALCULADORA!$C$27,A111)<0,0,DIAS365(CALCULADORA!$C$27,A111))","v":2356},{"$f":"+HLOOKUP(CALCULADORA!$C$9,Tablas!B:B,Flujos!J111+1,FALSE)","v":0},3.9179390000000001,0,{"$f":"ROUND(D110*ROUND(((1+CALCULADORA!$C$16)^(1/12)-1),6),6)","v":1.9257E-2},1.9257E-2,{"$f":"IF($B111=0,0,G111/POWER(1+CALCULADORA!$C$29,Flujos!$B111/365))","v":1.0544343136370772E-2},"2030-07-24",109,{"$f":"+DIAS365($A$2,A111)","v":3315},5037185.1668155547,0,24757.765094898452,24757.765094898452]
["2030-08-24",{"$f":"IF(DIAS365(CALCULADORA!$C$27,A112)<0,0,DIAS365(CALCULADORA!$C$27,A112))","v":2387},{"$f":"+HLOOKUP(CALCULADORA!$C$9,Tablas!B:B,Flujos!J112+1,FALSE)","v":0},3.9179390000000001,0,{"$f":"ROUND(D111*ROUND(((1+CALCULADORA!$C$16)^(1/12)-1),6),6)","v":1.9257E-2},1.9257E-2,{"$f":"IF($B112=0,0,G112/POWER(1+CALCULADORA!$C$29,Flujos!$B112/365))","v":1.0461111515546807E-2},"2030-08-24",110,{"$f":"+DIAS365($A$2,A112)","v":3346},5037185.1668155547,0,24757.765094898452,24757.765094898452]
["2030-09-24",{"$f":"IF(DIAS365(CALCULADORA!$C$27,A113)<0,0,DIAS365(CALCULADORA!$C$27,A113))","v":2418},{"$f":"+HLOOKUP(CALCULADORA!$C$9,Tablas!B:B,Flujos!J113+1,FALSE)","v":0},3.9179390000000001,0,{"$f":"ROUND(D112*ROUND(((1+CALCULADORA!$C$16)^(1/12)-1),6),6)","v":1.9257E-2},1.9257E-2,{"$f":"IF($B113=0,0,G113/POWER(1+CALCULADORA!$C$29,Flujos!$B113/365))","v":1.0378536882324194E-2},"2030-09-24",111,{"$f":"+DIAS365($A$2,A113)","v":3377},5037185.1668155547,0,24757.765094898452,24757.765094898452]
["2030-10-24",{"$f":"IF(DIAS365(CALCULADORA!$C$27,A114)<0,0,DIAS365(CALCULADORA!$C$27,A114))","v":2448},{"$f":"+HLOOKUP(CALCULADORA!$C$9,Tablas!B:B,Flujos!J114+1,FALSE)","v":0},3.9179390000000001,0,{"$f":"ROUND(D113*ROUND(((1+CALCULADORA!$C$16)^(1/12)-1),6),6)","v":1.9257E-2},1.9257E-2,{"$f":"IF($B114=0,0,G114/POWER(1+CALCULADORA!$C$29,Flujos!$B114/365))","v":1.029924660174448E-2},"2030-10-24",112,{"$f":"+DIAS365($A$2,A114)","v":3407},5037185.1668155547,0,24757.765094898452,24757.765094898452]
["2030-11-24",{"$f":"IF(DIAS365(CALCULADORA!$C$27,A115)<0,0,DIAS365(CALCULADORA!$C$27,A115))","v":2479},{"$f":"+HLOOKUP(CALCULADORA!$C$9,Tablas!B:B,Flujos!J115+1,FALSE)","v":0},3.9179390000000001,0,{"$f":"ROUND(D114*ROUND(((1+CALCULADORA!$C$16)^(1/12)-1),6),6)","v":1.9257E-2},1.9257E-2,{"$f":"IF($B115=0,0,G115/POWER(1+CALCULADORA!$C$29,Flujos!$B115/365))","v":1.0217949646889884E-2},"2030-11-24",113,{"$f":"+DIAS365($A$2,A115)","v":3438},5037185.1668155547,0,24757.765094898452,24757.765094898452]
["2030-12-24",{"$f":"IF(DIAS365(CALCULADORA!$C$27,A116)<0,0,DIAS365(CALCULADORA!$C$27,A116))","v":2509},{"$f":"+HLOOKUP(CALCULADORA!$C$9,Tablas!B:B,Flujos!J116+1,FALSE)","v":0},3.9179390000000001,0,{"$f":"ROUND(D115*ROUND(((1+CALCULADORA!$C$16)^(1/12)-1),6),6)","v":1.9257E-2},1.9257E-2,{"$f":"IF($B116=0,0,G116/POWER(1+CALCULADORA!$C$29,Flujos!$B116/365))","v":1.013988622584726E-2},"2030-12-24",114,{"$f":"+DIAS365($A$2,A116)","v":3468},5037185.1668155547,0,24757.765094898452,24757.765094898452]
["2031-01-24",{"$f":"IF(DIAS365(CALCULADORA!$C$27,A117)<0,0,DIAS365(CALCULADORA!$C$27,A117))","v":2540},{"$f":"+HLOOKUP(CALCULADORA!$C$9,Tablas!B:B,Flujos!J117+1,FALSE)","v":4.4832999999999999E-4},3.8731059999999999,4.4832999999999998E-2,{"$f":"ROUND(D116*ROUND(((1+CALCULADORA!$C$16)^(1/12)-1),6),6)","v":1.9257E-2},6.4089999999999994E-2,{"$f":"IF($B117=0,0,G117/POWER(1+CALCULADORA!$C$29,Flujos!$B117/365))","v":3.3480583982712649E-2},"2031-01-24",115,{"$f":"+DIAS365($A$2,A117)","v":3499},4979544.6260659806,57640.54074957376,24757.765094898452,82398.305844472212]
["2031-02-24",{"$f":"IF(DIAS365(CALCULADORA!$C$27,A118)<0,0,DIAS365(CALCULADORA!$C$27,A118))","v":2571},{"$f":"+HLOOKUP(CALCULADORA!$C$9,Tablas!B:B,Flujos!J118+1,FALSE)","v":3.5551300000000001E-3},3.5175930000000002,0.35551300000000002,{"$f":"ROUND(D117*ROUND(((1+CALCULADORA!$C$16)^(1/12)-1),6),6)","v":1.9036000000000001E-2},0.37454900000000002,{"$f":"IF($B118=0,0,G118/POWER(1+CALCULADORA!$C$29,Flujos!$B118/365))","v":0.19411973785739325},"2031-02-24",116,{"$f":"+DIAS365($A$2,A118)","v":3530},4522471.453101798,457073.17296418303,24474.461837114297,481547.63480129733]
["2031-03-24",{"$f":"IF(DIAS365(CALCULADORA!$C$27,A119)<0,0,DIAS365(CALCULADORA!$C$27,A119))","v":2599},{"$f":"+HLOOKUP(CALCULADORA!$C$9,Tablas!B:B,Flujos!J119+1,FALSE)","v":3.5076999999999999E-3},3.1668229999999999,0.35077000000000003,{"$f":"ROUND(D118*ROUND(((1+CALCULADORA!$C$16)^(1/12)-1),6),6)","v":1.7288999999999999E-2},0.36805900000000003,{"$f":"IF($B119=0,0,G119/POWER(1+CALCULADORA!$C$29,Flujos!$B119/365))","v":0.18939559114000082},{"$f":"+A119","v":"2031-03-24"},117,{"$f":"+DIAS365($A$2,A119)","v":3558},4071496.22327716,450975.22982463782,22227.947191995336,473203.17701663316]
["2031-04-24",{"$f":"IF(DIAS365(CALCULADORA!$C$27,A120)<0,0,DIAS365(CALCULADORA!$C$27,A120))","v":2630},{"$f":"+HLOOKUP(CALCULADORA!$C$9,Tablas!B:B,Flujos!J120+1,FALSE)","v":3.4688499999999999E-3},2.8199380000000001,0.346885,{"$f":"ROUND(D119*ROUND(((1+CALCULADORA!$C$16)^(1/12)-1),6),6)","v":1.5565000000000001E-2},0.36244999999999999,{"$f":"IF($B120=0,0,G120/POWER(1+CALCULADORA!$C$29,Flujos!$B120/365))","v":0.18503710651115429},{"$f":"+A120","v":"2031-04-24"},118,{"$f":"+DIAS365($A$2,A120)","v":3589},3625515.8298634714,445980.39341368841,20011.403937407242,465991.79735109565]
["2031-05-24",{"$f":"IF(DIAS365(CALCULADORA!$C$27,A121)<0,0,DIAS365(CALCULADORA!$C$27,A121))","v":2660},{"$f":"+HLOOKUP(CALCULADORA!$C$9,Tablas!B:B,Flujos!J121+1,FALSE)","v":3.4330599999999999E-3},2.4766319999999999,0.343306,{"$f":"ROUND(D120*ROUND(((1+CALCULADORA!$C$16)^(1/12)-1),6),6)","v":1.3860000000000001E-2},0.35716599999999998,{"$f":"IF($B121=0,0,G121/POWER(1+CALCULADORA!$C$29,Flujos!$B121/365))","v":0.18094648804840333},"2031-05-24",119,{"$f":"+DIAS365($A$2,A121)","v":3619},3184136.8571743099,441378.97268916131,17819.410303778961,459198.38299294026]
["2031-06-24",{"$f":"IF(DIAS365(CALCULADORA!$C$27,A122)<0,0,DIAS365(CALCULADORA!$C$27,A122))","v":2691},{"$f":"+HLOOKUP(CALCULADORA!$C$9,Tablas!B:B,Flujos!J122+1,FALSE)","v":3.0928000000000001E-3},2.1673520000000002,0.30928,{"$f":"ROUND(D121*ROUND(((1+CALCULADORA!$C$16)^(1/12)-1),6),6)","v":1.2173E-2},0.32145299999999999,{"$f":"IF($B122=0,0,G122/POWER(1+CALCULADORA!$C$29,Flujos!$B122/365))","v":0.16156818001987547},"2031-06-24",120,{"$f":"+DIAS365($A$2,A122)","v":3650},2786504.1660086913,397632.69116561848,15650.032653011733,413282.72381863021]
["2031-07-24",{"$f":"IF(DIAS365(CALCULADORA!$C$27,A123)<0,0,DIAS365(CALCULADORA!$C$27,A123))","v":2721},{"$f":"+HLOOKUP(CALCULADORA!$C$9,Tablas!B:B,Flujos!J123+1,FALSE)","v":3.35498E-3},1.8318540000000001,0.33549800000000002,{"$f":"ROUND(D122*ROUND(((1+CALCULADORA!$C$16)^(1/12)-1),6),6)","v":1.0652999999999999E-2},0.34615100000000004,{"$f":"IF($B123=0,0,G123/POWER(1+CALCULADORA!$C$29,Flujos!$B123/365))","v":0.17265265616930583},"2031-07-24",121,{"$f":"+DIAS365($A$2,A123)","v":3680},2355163.7216841872,431340.44432450423,13695.667975932718,445036.11230043694]
["2031-08-24",{"$f":"IF(DIAS365(CALCULADORA!$C$27,A124)<0,0,DIAS365(CALCULADORA!$C$27,A124))","v":2752},{"$f":"+HLOOKUP(CALCULADORA!$C$9,Tablas!B:B,Flujos!J124+1,FALSE)","v":3.3207800000000002E-3},1.499776,0.33207799999999998,{"$f":"ROUND(D123*ROUND(((1+CALCULADORA!$C$16)^(1/12)-1),6),6)","v":9.0039999999999999E-3},0.341082,{"$f":"IF($B124=0,0,G124/POWER(1+CALCULADORA!$C$29,Flujos!$B124/365))","v":0.16878147415631425},"2031-08-24",122,{"$f":"+DIAS365($A$2,A124)","v":3711},1928220.2762079318,426943.44547625532,11575.62969207778,438519.07516833307]
["2031-09-24",{"$f":"IF(DIAS365(CALCULADORA!$C$27,A125)<0,0,DIAS365(CALCULADORA!$C$27,A125))","v":2783},{"$f":"+HLOOKUP(CALCULADORA!$C$9,Tablas!B:B,Flujos!J125+1,FALSE)","v":3.2857400000000001E-3},1.1712020000000001,0.32857399999999998,{"$f":"ROUND(D124*ROUND(((1+CALCULADORA!$C$16)^(1/12)-1),6),6)","v":7.3709999999999999E-3},0.33594499999999999,{"$f":"IF($B125=0,0,G125/POWER(1+CALCULADORA!$C$29,Flujos!$B125/365))","v":0.16492726529183704},"2031-09-24",123,{"$f":"+DIAS365($A$2,A125)","v":3742},1505781.8260428649,422438.45016506698,9477.2026575619857,431915.65282262897]
["2031-10-24",{"$f":"IF(DIAS365(CALCULADORA!$C$27,A126)<0,0,DIAS365(CALCULADORA!$C$27,A126))","v":2813},{"$f":"+HLOOKUP(CALCULADORA!$C$9,Tablas!B:B,Flujos!J126+1,FALSE)","v":3.24947E-3},0.84625499999999998,0.32494699999999999,{"$f":"ROUND(D125*ROUND(((1+CALCULADORA!$C$16)^(1/12)-1),6),6)","v":5.7559999999999998E-3},0.33070299999999997,{"$f":"IF($B126=0,0,G126/POWER(1+CALCULADORA!$C$29,Flujos!$B126/365))","v":0.16111342669745185},"2031-10-24",124,{"$f":"+DIAS365($A$2,A126)","v":3772},1088006.5088668619,417775.31717600307,7400.9176750006809,425176.23485100374]
["2031-11-24",{"$f":"IF(DIAS365(CALCULADORA!$C$27,A127)<0,0,DIAS365(CALCULADORA!$C$27,A127))","v":2844},{"$f":"+HLOOKUP(CALCULADORA!$C$9,Tablas!B:B,Flujos!J127+1,FALSE)","v":3.2093400000000002E-3},0.52532100000000004,0.320934,{"$f":"ROUND(D126*ROUND(((1+CALCULADORA!$C$16)^(1/12)-1),6),6)","v":4.1590000000000004E-3},0.32509300000000002,{"$f":"IF($B127=0,0,G127/POWER(1+CALCULADORA!$C$29,Flujos!$B127/365))","v":0.15713014800420302},"2031-11-24",125,{"$f":"+DIAS365($A$2,A127)","v":3803},675390.59414057317,412615.91472628881,5347.5519910806261,417963.46671736945]
["2031-12-24",{"$f":"IF(DIAS365(CALCULADORA!$C$27,A128)<0,0,DIAS365(CALCULADORA!$C$27,A128))","v":2874},{"$f":"+HLOOKUP(CALCULADORA!$C$9,Tablas!B:B,Flujos!J128+1,FALSE)","v":3.1749899999999999E-3},0.20782200000000001,0.31749899999999998,{"$f":"ROUND(D127*ROUND(((1+CALCULADORA!$C$16)^(1/12)-1),6),6)","v":2.5820000000000001E-3},0.32008099999999995,{"$f":"IF($B128=0,0,G128/POWER(1+CALCULADORA!$C$29,Flujos!$B128/365))","v":0.1535257120790991},"2031-12-24",126,{"$f":"+DIAS365($A$2,A128)","v":3833},267190.96334520105,408199.63079537213,3319.5447702009174,411519.17556557304]
["2032-01-24",{"$f":"IF(DIAS365(CALCULADORA!$C$27,A129)<0,0,DIAS365(CALCULADORA!$C$27,A129))","v":2905},{"$f":"+HLOOKUP(CALCULADORA!$C$9,Tablas!B:B,Flujos!J129+1,FALSE)","v":2.07822E-3},0,0.20782200000000001,{"$f":"ROUND(D128*ROUND(((1+CALCULADORA!$C$16)^(1/12)-1),6),6)","v":1.021E-3},0.208843,{"$f":"IF($B129=0,0,G129/POWER(1+CALCULADORA!$C$29,Flujos!$B129/365))","v":9.9380104635456504E-2},"2032-01-24",127,{"$f":"+DIAS365($A$2,A129)","v":3864},-5.6170392781496048E-8,267190.96334525722,1313.2435848416633,268504.20693009888]
["2032-02-24",{"$f":"IF(DIAS365(CALCULADORA!$C$27,A130)<0,0,DIAS365(CALCULADORA!$C$27,A130))","v":2936},{"$f":"+HLOOKUP(CALCULADORA!$C$9,Tablas!B:B,Flujos!J130+1,FALSE)","v":0},0,0,{"$f":"ROUND(D129*ROUND(((1+CALCULADORA!$C$16)^(1/12)-1),6),6)","v":0},0,{"$f":"IF($B130=0,0,G130/POWER(1+CALCULADORA!$C$29,Flujos!$B130/365))","v":0},"2032-02-24",128,{"$f":"+DIAS365($A$2,A130)","v":3895},-5.6170392781496048E-8,0,-2.760774805210531E-10,-2.760774805210531E-10]
[{"$f":"EDATE(A130,1)","v":"2032-03-24"},{"$f":"IF(DIAS365(CALCULADORA!$C$27,A131)<0,0,DIAS365(CALCULADORA!$C$27,A131))","v":2964},{"$f":"+HLOOKUP(CALCULADORA!$C$9,Tablas!B:B,Flujos!J131+1,FALSE)","v":0},0,0,{"$f":"ROUND(D130*ROUND(((1+CALCULADORA!$C$16)^(1/12)-1),6),6)","v":0},0,{"$f":"IF($B131=0,0,G131/POWER(1+CALCULADORA!$C$29,Flujos!$B131/365))","v":0},{"$f":"+A131","v":"2032-03-24"},129,{"$f":"+DIAS365($A$2,A131)","v":3923},-5.6170392781496048E-8,0,-2.760774805210531E-10,-2.760774805210531E-10]
["2032-04-24",{"$f":"IF(DIAS365(CALCULADORA!$C$27,A132)<0,0,DIAS365(CALCULADORA!$C$27,A132))","v":2995},{"$f":"+HLOOKUP(CALCULADORA!$C$9,Tablas!B:B,Flujos!J132+1,FALSE)","v":0},{"$f":"+ROUND(D131-E132,6)","v":0},{"$f":"ROUND(C132*$D$2,6)","v":0},{"$f":"ROUND(D131*ROUND(((1+CALCULADORA!$C$16)^(1/12)-1),6),6)","v":0},{"$f":"F132+E132","v":0},{"$f":"IF($B132=0,0,G132/POWER(1+CALCULADORA!$C$29,Flujos!$B132/365))","v":0},"2032-04-24",130,{"$f":"+DIAS365($A$2,A132)","v":3954},{"$f":"+L131-M132","v":-5.6170392781496048E-8},{"$f":"+$L$2*C132","v":0},{"$f":"+L131*$F$3%","v":-2.760774805210531E-10},{"$f":"+N132+M132","v":-2.760774805210531E-10}]
["2032-05-24",{"$f":"IF(DIAS365(CALCULADORA!$C$27,A133)<0,0,DIAS365(CALCULADORA!$C$27,A133))","v":3025},{"$f":"+HLOOKUP(CALCULADORA!$C$9,Tablas!B:B,Flujos!J133+1,FALSE)","v":0},0,0,{"$f":"ROUND(D132*ROUND(((1+CALCULADORA!$C$16)^(1/12)-1),6),6)","v":0},0,{"$f":"IF($B133=0,0,G133/POWER(1+CALCULADORA!$C$29,Flujos!$B133/365))","v":0},"2032-05-24",131,{"$f":"+DIAS365($A$2,A133)","v":3984},-5.6170392781496048E-8,0,-2.760774805210531E-10,-2.760774805210531E-10]
["2032-06-24",{"$f":"IF(DIAS365(CALCULADORA!$C$27,A134)<0,0,DIAS365(CALCULADORA!$C$27,A134))","v":3056},{"$f":"+HLOOKUP(CALCULADORA!$C$9,Tablas!B:B,Flujos!J134+1,FALSE)","v":0},0,0,{"$f":"ROUND(D133*ROUND(((1+CALCULADORA!$C$16)^(1/12)-1),6),6)","v":0},0,{"$f":"IF($B134=0,0,G134/POWER(1+CALCULADORA!$C$29,Flujos!$B134/365))","v":0},"2032-06-24",132,{"$f":"+DIAS365($A$2,A134)","v":4015},-5.6170392781496048E-8,0,-2.760774805210531E-10,-2.760774805210531E-10]
["2032-07-24",{"$f":"IF(DIAS365(CALCULADORA!$C$27,A135)<0,0,DIAS365(CALCULADORA!$C$27,A135))","v":3086},{"$f":"+HLOOKUP(CALCULADORA!$C$9,Tablas!B:B,Flujos!J135+1,FALSE)","v":0},0,0,{"$f":"ROUND(D134*ROUND(((1+CALCULADORA!$C$16)^(1/12)-1),6),6)","v":0},0,{"$f":"IF($B135=0,0,G135/POWER(1+CALCULADORA!$C$29,Flujos!$B135/365))","v":0},"2032-07-24",133,{"$f":"+DIAS365($A$2,A135)","v":4045},-5.6170392781496048E-8,0,-2.760774805210531E-10,-2.760774805210531E-10]
["2032-08-24",{"$f":"IF(DIAS365(CALCULADORA!$C$27,A136)<0,0,DIAS365(CALCULADORA!$C$27,A136))","v":3117},{"$f":"+HLOOKUP(CALCULADORA!$C$9,Tablas!B:B,Flujos!J136+1,FALSE)","v":0},0,0,{"$f":"ROUND(D135*ROUND(((1+CALCULADORA!$C$16)^(1/12)-1),6),6)","v":0},0,{"$f":"IF($B136=0,0,G136/POWER(1+CALCULADORA!$C$29,Flujos!$B136/365))","v":0},"2032-08-24",134,{"$f":"+DIAS365($A$2,A136)","v":4076},-5.6170392781496048E-8,0,-2.760774805210531E-10,-2.760774805210531E-10]
["2032-09-24",{"$f":"IF(DIAS365(CALCULADORA!$C$27,A137)<0,0,DIAS365(CALCULADORA!$C$27,A137))","v":3148},{"$f":"+HLOOKUP(CALCULADORA!$C$9,Tablas!B:B,Flujos!J137+1,FALSE)","v":0},0,0,{"$f":"ROUND(D136*ROUND(((1+CALCULADORA!$C$16)^(1/12)-1),6),6)","v":0},0,{"$f":"IF($B137=0,0,G137/POWER(1+CALCULADORA!$C$29,Flujos!$B137/365))","v":0},"2032-09-24",135,{"$f":"+DIAS365($A$2,A137)","v":4107},-5.6170392781496048E-8,0,-2.760774805210531E-10,-2.760774805210531E-10]
["2032-10-24",{"$f":"IF(DIAS365(CALCULADORA!$C$27,A138)<0,0,DIAS365(CALCULADORA!$C$27,A138))","v":3178},{"$f":"+HLOOKUP(CALCULADORA!$C$9,Tablas!B:B,Flujos!J138+1,FALSE)","v":0},0,0,{"$f":"ROUND(D137*ROUND(((1+CALCULADORA!$C$16)^(1/12)-1),6),6)","v":0},0,{"$f":"IF($B138=0,0,G138/POWER(1+CALCULADORA!$C$29,Flujos!$B138/365))","v":0},"2032-10-24",136,{"$f":"+DIAS365($A$2,A138)","v":4137},-5.6170392781496048E-8,0,-2.760774805210531E-10,-2.760774805210531E-10]
["2032-11-24",{"$f":"IF(DIAS365(CALCULADORA!$C$27,A139)<0,0,DIAS365(CALCULADORA!$C$27,A139))","v":3209},{"$f":"+HLOOKUP(CALCULADORA!$C$9,Tablas!B:B,Flujos!J139+1,FALSE)","v":0},0,0,{"$f":"ROUND(D138*ROUND(((1+CALCULADORA!$C$16)^(1/12)-1),6),6)","v":0},0,{"$f":"IF($B139=0,0,G139/POWER(1+CALCULADORA!$C$29,Flujos!$B139/365))","v":0},"2032-11-24",137,{"$f":"+DIAS365($A$2,A139)","v":4168},-5.6170392781496048E-8,0,-2.760774805210531E-10,-2.760774805210531E-10]
["2032-12-24",{"$f":"IF(DIAS365(CALCULADORA!$C$27,A140)<0,0,DIAS365(CALCULADORA!$C$27,A140))","v":3239},{"$f":"+HLOOKUP(CALCULADORA!$C$9,Tablas!B:B,Flujos!J140+1,FALSE)","v":0},0,0,{"$f":"ROUND(D139*ROUND(((1+CALCULADORA!$C$16)^(1/12)-1),6),6)","v":0},0,{"$f":"IF($B140=0,0,G140/POWER(1+CALCULADORA!$C$29,Flujos!$B140/365))","v":0},"2032-12-24",138,{"$f":"+DIAS365($A$2,A140)","v":4198},-5.6170392781496048E-8,0,-2.760774805210531E-10,-2.760774805210531E-10]
["2033-01-24",{"$f":"IF(DIAS365(CALCULADORA!$C$27,A141)<0,0,DIAS365(CALCULADORA!$C$27,A141))","v":3270},{"$f":"+HLOOKUP(CALCULADORA!$C$9,Tablas!B:B,Flujos!J141+1,FALSE)","v":0},0,0,{"$f":"ROUND(D140*ROUND(((1+CALCULADORA!$C$16)^(1/12)-1),6),6)","v":0},0,{"$f":"IF($B141=0,0,G141/POWER(1+CALCULADORA!$C$29,Flujos!$B141/365))","v":0},"2033-01-24",139,{"$f":"+DIAS365($A$2,A141)","v":4229},-5.6170392781496048E-8,0,-2.760774805210531E-10,-2.760774805210531E-10]
["2033-02-24",{"$f":"IF(DIAS365(CALCULADORA!$C$27,A142)<0,0,DIAS365(CALCULADORA!$C$27,A142))","v":3301},{"$f":"+HLOOKUP(CALCULADORA!$C$9,Tablas!B:B,Flujos!J142+1,FALSE)","v":0},0,0,{"$f":"ROUND(D141*ROUND(((1+CALCULADORA!$C$16)^(1/12)-1),6),6)","v":0},0,{"$f":"IF($B142=0,0,G142/POWER(1+CALCULADORA!$C$29,Flujos!$B142/365))","v":0},"2033-02-24",140,{"$f":"+DIAS365($A$2,A142)","v":4260},-5.6170392781496048E-8,0,-2.760774805210531E-10,-2.760774805210531E-10]
["2033-03-24",{"$f":"IF(DIAS365(CALCULADORA!$C$27,A143)<0,0,DIAS365(CALCULADORA!$C$27,A143))","v":3329},{"$f":"+HLOOKUP(CALCULADORA!$C$9,Tablas!B:B,Flujos!J143+1,FALSE)","v":0},0,0,{"$f":"ROUND(D142*ROUND(((1+CALCULADORA!$C$16)^(1/12)-1),6),6)","v":0},0,{"$f":"IF($B143=0,0,G143/POWER(1+CALCULADORA!$C$29,Flujos!$B143/365))","v":0},"2033-03-24",141,{"$f":"+DIAS365($A$2,A143)","v":4288},-5.6170392781496048E-8,0,-2.760774805210531E-10,-2.760774805210531E-10]
["2033-04-24",{"$f":"IF(DIAS365(CALCULADORA!$C$27,A144)<0,0,DIAS365(CALCULADORA!$C$27,A144))","v":3360},{"$f":"+HLOOKUP(CALCULADORA!$C$9,Tablas!B:B,Flujos!J144+1,FALSE)","v":0},0,0,{"$f":"ROUND(D143*ROUND(((1+CALCULADORA!$C$16)^(1/12)-1),6),6)","v":0},0,{"$f":"IF($B144=0,0,G144/POWER(1+CALCULADORA!$C$29,Flujos!$B144/365))","v":0},"2033-04-24",142,{"$f":"+DIAS365($A$2,A144)","v":4319},-5.6170392781496048E-8,0,-2.760774805210531E-10,-2.760774805210531E-10]
["2033-05-24",{"$f":"IF(DIAS365(CALCULADORA!$C$27,A145)<0,0,DIAS365(CALCULADORA!$C$27,A145))","v":3390},{"$f":"+HLOOKUP(CALCULADORA!$C$9,Tablas!B:B,Flujos!J145+1,FALSE)","v":0},0,0,{"$f":"ROUND(D144*ROUND(((1+CALCULADORA!$C$16)^(1/12)-1),6),6)","v":0},0,{"$f":"IF($B145=0,0,G145/POWER(1+CALCULADORA!$C$29,Flujos!$B145/365))","v":0},"2033-05-24",143,{"$f":"+DIAS365($A$2,A145)","v":4349},-5.6170392781496048E-8,0,-2.760774805210531E-10,-2.760774805210531E-10]
["2033-06-24",{"$f":"IF(DIAS365(CALCULADORA!$C$27,A146)<0,0,DIAS365(CALCULADORA!$C$27,A146))","v":3421},{"$f":"+HLOOKUP(CALCULADORA!$C$9,Tablas!B:B,Flujos!J146+1,FALSE)","v":0},0,0,{"$f":"ROUND(D145*ROUND(((1+CALCULADORA!$C$16)^(1/12)-1),6),6)","v":0},0,{"$f":"IF($B146=0,0,G146/POWER(1+CALCULADORA!$C$29,Flujos!$B146/365))","v":0},"2033-06-24",144,{"$f":"+DIAS365($A$2,A146)","v":4380},-5.6170392781496048E-8,0,-2.760774805210531E-10,-2.760774805210531E-10]
["2033-07-24",{"$f":"IF(DIAS365(CALCULADORA!$C$27,A147)<0,0,DIAS365(CALCULADORA!$C$27,A147))","v":3451},{"$f":"+HLOOKUP(CALCULADORA!$C$9,Tablas!B:B,Flujos!J147+1,FALSE)","v":0},0,0,{"$f":"ROUND(D146*ROUND(((1+CALCULADORA!$C$16)^(1/12)-1),6),6)","v":0},0,{"$f":"IF($B147=0,0,G147/POWER(1+CALCULADORA!$C$29,Flujos!$B147/365))","v":0},"2033-07-24",145,{"$f":"+DIAS365($A$2,A147)","v":4410},-5.6170392781496048E-8,0,-2.760774805210531E-10,-2.760774805210531E-10]
["2033-08-24",{"$f":"IF(DIAS365(CALCULADORA!$C$27,A148)<0,0,DIAS365(CALCULADORA!$C$27,A148))","v":3482},{"$f":"+HLOOKUP(CALCULADORA!$C$9,Tablas!B:B,Flujos!J148+1,FALSE)","v":0},0,0,{"$f":"ROUND(D147*ROUND(((1+CALCULADORA!$C$16)^(1/12)-1),6),6)","v":0},0,{"$f":"IF($B148=0,0,G148/POWER(1+CALCULADORA!$C$29,Flujos!$B148/365))","v":0},"2033-08-24",146,{"$f":"+DIAS365($A$2,A148)","v":4441},-5.6170392781496048E-8,0,-2.760774805210531E-10,-2.760774805210531E-10]
["2033-09-24",{"$f":"IF(DIAS365(CALCULADORA!$C$27,A149)<0,0,DIAS365(CALCULADORA!$C$27,A149))","v":3513},{"$f":"+HLOOKUP(CALCULADORA!$C$9,Tablas!B:B,Flujos!J149+1,FALSE)","v":0},0,0,{"$f":"ROUND(D148*ROUND(((1+CALCULADORA!$C$16)^(1/12)-1),6),6)","v":0},0,{"$f":"IF($B149=0,0,G149/POWER(1+CALCULADORA!$C$29,Flujos!$B149/365))","v":0},"2033-09-24",147,{"$f":"+DIAS365($A$2,A149)","v":4472},-5.6170392781496048E-8,0,-2.760774805210531E-10,-2.760774805210531E-10]
["2033-10-24",{"$f":"IF(DIAS365(CALCULADORA!$C$27,A150)<0,0,DIAS365(CALCULADORA!$C$27,A150))","v":3543},{"$f":"+HLOOKUP(CALCULADORA!$C$9,Tablas!B:B,Flujos!J150+1,FALSE)","v":0},0,0,{"$f":"ROUND(D149*ROUND(((1+CALCULADORA!$C$16)^(1/12)-1),6),6)","v":0},0,{"$f":"IF($B150=0,0,G150/POWER(1+CALCULADORA!$C$29,Flujos!$B150/365))","v":0},"2033-10-24",148,{"$f":"+DIAS365($A$2,A150)","v":4502},-5.6170392781496048E-8,0,-2.760774805210531E-10,-2.760774805210531E-10]
["2033-11-24",{"$f":"IF(DIAS365(CALCULADORA!$C$27,A151)<0,0,DIAS365(CALCULADORA!$C$27,A151))","v":3574},{"$f":"+HLOOKUP(CALCULADORA!$C$9,Tablas!B:B,Flujos!J151+1,FALSE)","v":0},0,0,{"$f":"ROUND(D150*ROUND(((1+CALCULADORA!$C$16)^(1/12)-1),6),6)","v":0},0,{"$f":"IF($B151=0,0,G151/POWER(1+CALCULADORA!$C$29,Flujos!$B151/365))","v":0},"2033-11-24",149,{"$f":"+DIAS365($A$2,A151)","v":4533},-5.6170392781496048E-8,0,-2.760774805210531E-10,-2.760774805210531E-10]
["2033-12-24",{"$f":"IF(DIAS365(CALCULADORA!$C$27,A152)<0,0,DIAS365(CALCULADORA!$C$27,A152))","v":3604},{"$f":"+HLOOKUP(CALCULADORA!$C$9,Tablas!B:B,Flujos!J152+1,FALSE)","v":0},0,0,{"$f":"ROUND(D151*ROUND(((1+CALCULADORA!$C$16)^(1/12)-1),6),6)","v":0},0,{"$f":"IF($B152=0,0,G152/POWER(1+CALCULADORA!$C$29,Flujos!$B152/365))","v":0},"2033-12-24",150,{"$f":"+DIAS365($A$2,A152)","v":4563},-5.6170392781496048E-8,0,-2.760774805210531E-10,-2.760774805210531E-10]
["2034-01-24",{"$f":"IF(DIAS365(CALCULADORA!$C$27,A153)<0,0,DIAS365(CALCULADORA!$C$27,A153))","v":3635},{"$f":"+HLOOKUP(CALCULADORA!$C$9,Tablas!B:B,Flujos!J153+1,FALSE)","v":0},0,0,{"$f":"ROUND(D152*ROUND(((1+CALCULADORA!$C$16)^(1/12)-1),6),6)","v":0},0,{"$f":"IF($B153=0,0,G153/POWER(1+CALCULADORA!$C$29,Flujos!$B153/365))","v":0},"2034-01-24",151,{"$f":"+DIAS365($A$2,A153)","v":4594},-5.6170392781496048E-8,0,-2.760774805210531E-10,-2.760774805210531E-10]
["2034-02-24",{"$f":"IF(DIAS365(CALCULADORA!$C$27,A154)<0,0,DIAS365(CALCULADORA!$C$27,A154))","v":3666},{"$f":"+HLOOKUP(CALCULADORA!$C$9,Tablas!B:B,Flujos!J154+1,FALSE)","v":0},0,0,{"$f":"ROUND(D153*ROUND(((1+CALCULADORA!$C$16)^(1/12)-1),6),6)","v":0},0,{"$f":"IF($B154=0,0,G154/POWER(1+CALCULADORA!$C$29,Flujos!$B154/365))","v":0},"2034-02-24",152,{"$f":"+DIAS365($A$2,A154)","v":4625},-5.6170392781496048E-8,0,-2.760774805210531E-10,-2.760774805210531E-10]
["2034-03-24",{"$f":"IF(DIAS365(CALCULADORA!$C$27,A155)<0,0,DIAS365(CALCULADORA!$C$27,A155))","v":3694},{"$f":"+HLOOKUP(CALCULADORA!$C$9,Tablas!B:B,Flujos!J155+1,FALSE)","v":0},0,0,{"$f":"ROUND(D154*ROUND(((1+CALCULADORA!$C$16)^(1/12)-1),6),6)","v":0},0,{"$f":"IF($B155=0,0,G155/POWER(1+CALCULADORA!$C$29,Flujos!$B155/365))","v":0},"2034-03-24",153,{"$f":"+DIAS365($A$2,A155)","v":4653},-5.6170392781496048E-8,0,-2.760774805210531E-10,-2.760774805210531E-10]
["2034-04-24",{"$f":"IF(DIAS365(CALCULADORA!$C$27,A156)<0,0,DIAS365(CALCULADORA!$C$27,A156))","v":3725},{"$f":"+HLOOKUP(CALCULADORA!$C$9,Tablas!B:B,Flujos!J156+1,FALSE)","v":0},0,0,{"$f":"ROUND(D155*ROUND(((1+CALCULADORA!$C$16)^(1/12)-1),6),6)","v":0},0,{"$f":"IF($B156=0,0,G156/POWER(1+CALCULADORA!$C$29,Flujos!$B156/365))","v":0},"2034-04-24",154,{"$f":"+DIAS365($A$2,A156)","v":4684},-5.6170392781496048E-8,0,-2.760774805210531E-10,-2.760774805210531E-10]
["2034-05-24",{"$f":"IF(DIAS365(CALCULADORA!$C$27,A157)<0,0,DIAS365(CALCULADORA!$C$27,A157))","v":3755},{"$f":"+HLOOKUP(CALCULADORA!$C$9,Tablas!B:B,Flujos!J157+1,FALSE)","v":0},0,0,{"$f":"ROUND(D156*ROUND(((1+CALCULADORA!$C$16)^(1/12)-1),6),6)","v":0},0,{"$f":"IF($B157=0,0,G157/POWER(1+CALCULADORA!$C$29,Flujos!$B157/365))","v":0},"2034-05-24",155,{"$f":"+DIAS365($A$2,A157)","v":4714},-5.6170392781496048E-8,0,-2.760774805210531E-10,-2.760774805210531E-10]
["2034-06-24",{"$f":"IF(DIAS365(CALCULADORA!$C$27,A158)<0,0,DIAS365(CALCULADORA!$C$27,A158))","v":3786},{"$f":"+HLOOKUP(CALCULADORA!$C$9,Tablas!B:B,Flujos!J158+1,FALSE)","v":0},0,0,{"$f":"ROUND(D157*ROUND(((1+CALCULADORA!$C$16)^(1/12)-1),6),6)","v":0},0,{"$f":"IF($B158=0,0,G158/POWER(1+CALCULADORA!$C$29,Flujos!$B158/365))","v":0},"2034-06-24",156,{"$f":"+DIAS365($A$2,A158)","v":4745},-5.6170392781496048E-8,0,-2.760774805210531E-10,-2.760774805210531E-10]
["2034-07-24",{"$f":"IF(DIAS365(CALCULADORA!$C$27,A159)<0,0,DIAS365(CALCULADORA!$C$27,A159))","v":3816},{"$f":"+HLOOKUP(CALCULADORA!$C$9,Tablas!B:B,Flujos!J159+1,FALSE)","v":0},0,0,{"$f":"ROUND(D158*ROUND(((1+CALCULADORA!$C$16)^(1/12)-1),6),6)","v":0},0,{"$f":"IF($B159=0,0,G159/POWER(1+CALCULADORA!$C$29,Flujos!$B159/365))","v":0},"2034-07-24",157,{"$f":"+DIAS365($A$2,A159)","v":4775},-5.6170392781496048E-8,0,-2.760774805210531E-10,-2.760774805210531E-10]
["2034-08-24",{"$f":"IF(DIAS365(CALCULADORA!$C$27,A160)<0,0,DIAS365(CALCULADORA!$C$27,A160))","v":3847},{"$f":"+HLOOKUP(CALCULADORA!$C$9,Tablas!B:B,Flujos!J160+1,FALSE)","v":0},0,0,{"$f":"ROUND(D159*ROUND(((1+CALCULADORA!$C$16)^(1/12)-1),6),6)","v":0},0,{"$f":"IF($B160=0,0,G160/POWER(1+CALCULADORA!$C$29,Flujos!$B160/365))","v":0},"2034-08-24",158,{"$f":"+DIAS365($A$2,A160)","v":4806},-5.6170392781496048E-8,0,-2.760774805210531E-10,-2.760774805210531E-10]
["2034-09-24",{"$f":"IF(DIAS365(CALCULADORA!$C$27,A161)<0,0,DIAS365(CALCULADORA!$C$27,A161))","v":3878},{"$f":"+HLOOKUP(CALCULADORA!$C$9,Tablas!B:B,Flujos!J161+1,FALSE)","v":0},0,0,{"$f":"ROUND(D160*ROUND(((1+CALCULADORA!$C$16)^(1/12)-1),6),6)","v":0},0,{"$f":"IF($B161=0,0,G161/POWER(1+CALCULADORA!$C$29,Flujos!$B161/365))","v":0},"2034-09-24",159,{"$f":"+DIAS365($A$2,A161)","v":4837},-5.6170392781496048E-8,0,-2.760774805210531E-10,-2.760774805210531E-10]
["2034-10-24",{"$f":"IF(DIAS365(CALCULADORA!$C$27,A162)<0,0,DIAS365(CALCULADORA!$C$27,A162))","v":3908},{"$f":"+HLOOKUP(CALCULADORA!$C$9,Tablas!B:B,Flujos!J162+1,FALSE)","v":0},0,0,{"$f":"ROUND(D161*ROUND(((1+CALCULADORA!$C$16)^(1/12)-1),6),6)","v":0},0,{"$f":"IF($B162=0,0,G162/POWER(1+CALCULADORA!$C$29,Flujos!$B162/365))","v":0},"2034-10-24",160,{"$f":"+DIAS365($A$2,A162)","v":4867},-5.6170392781496048E-8,0,-2.760774805210531E-10,-2.760774805210531E-10]
[{"$f":"EDATE(A162,1)","v":"2034-11-24"},{"$f":"IF(DIAS365(CALCULADORA!$C$27,A163)<0,0,DIAS365(CALCULADORA!$C$27,A163))","v":3939},{"$f":"+HLOOKUP(CALCULADORA!$C$9,Tablas!B:B,Flujos!J163+1,FALSE)","v":0},0,0,{"$f":"ROUND(D162*ROUND(((1+CALCULADORA!$C$16)^(1/12)-1),6),6)","v":0},0,{"$f":"IF($B163=0,0,G163/POWER(1+CALCULADORA!$C$29,Flujos!$B163/365))","v":0},"2034-11-24",161,{"$f":"+DIAS365($A$2,A163)","v":4898},-5.6170392781496048E-8,0,-2.760774805210531E-10,-2.760774805210531E-10]
["2034-12-24",{"$f":"IF(DIAS365(CALCULADORA!$C$27,A164)<0,0,DIAS365(CALCULADORA!$C$27,A164))","v":3969},{"$f":"+HLOOKUP(CALCULADORA!$C$9,Tablas!B:B,Flujos!J164+1,FALSE)","v":0},0,0,{"$f":"ROUND(D163*ROUND(((1+CALCULADORA!$C$16)^(1/12)-1),6),6)","v":0},0,{"$f":"IF($B164=0,0,G164/POWER(1+CALCULADORA!$C$29,Flujos!$B164/365))","v":0},"2034-12-24",162,{"$f":"+DIAS365($A$2,A164)","v":4928},-5.6170392781496048E-8,0,-2.760774805210531E-10,-2.760774805210531E-10]
["2035-01-24",{"$f":"IF(DIAS365(CALCULADORA!$C$27,A165)<0,0,DIAS365(CALCULADORA!$C$27,A165))","v":4000},{"$f":"+HLOOKUP(CALCULADORA!$C$9,Tablas!B:B,Flujos!J165+1,FALSE)","v":0},0,0,{"$f":"ROUND(D164*ROUND(((1+CALCULADORA!$C$16)^(1/12)-1),6),6)","v":0},0,{"$f":"IF($B165=0,0,G165/POWER(1+CALCULADORA!$C$29,Flujos!$B165/365))","v":0},"2035-01-24",163,{"$f":"+DIAS365($A$2,A165)","v":4959},-5.6170392781496048E-8,0,-2.760774805210531E-10,-2.760774805210531E-10]
["2035-02-24",{"$f":"IF(DIAS365(CALCULADORA!$C$27,A166)<0,0,DIAS365(CALCULADORA!$C$27,A166))","v":4031},{"$f":"+HLOOKUP(CALCULADORA!$C$9,Tablas!B:B,Flujos!J166+1,FALSE)","v":0},0,0,{"$f":"ROUND(D165*ROUND(((1+CALCULADORA!$C$16)^(1/12)-1),6),6)","v":0},0,{"$f":"IF($B166=0,0,G166/POWER(1+CALCULADORA!$C$29,Flujos!$B166/365))","v":0},"2035-02-24",164,{"$f":"+DIAS365($A$2,A166)","v":4990},-5.6170392781496048E-8,0,-2.760774805210531E-10,-2.760774805210531E-10]
["2035-03-24",{"$f":"IF(DIAS365(CALCULADORA!$C$27,A167)<0,0,DIAS365(CALCULADORA!$C$27,A167))","v":4059},{"$f":"+HLOOKUP(CALCULADORA!$C$9,Tablas!B:B,Flujos!J167+1,FALSE)","v":0},0,0,{"$f":"ROUND(D166*ROUND(((1+CALCULADORA!$C$16)^(1/12)-1),6),6)","v":0},0,{"$f":"IF($B167=0,0,G167/POWER(1+CALCULADORA!$C$29,Flujos!$B167/365))","v":0},"2035-03-24",165,{"$f":"+DIAS365($A$2,A167)","v":5018},-5.6170392781496048E-8,0,-2.760774805210531E-10,-2.760774805210531E-10]
["2035-04-24",{"$f":"IF(DIAS365(CALCULADORA!$C$27,A168)<0,0,DIAS365(CALCULADORA!$C$27,A168))","v":4090},{"$f":"+HLOOKUP(CALCULADORA!$C$9,Tablas!B:B,Flujos!J168+1,FALSE)","v":0},0,0,{"$f":"ROUND(D167*ROUND(((1+CALCULADORA!$C$16)^(1/12)-1),6),6)","v":0},0,{"$f":"IF($B168=0,0,G168/POWER(1+CALCULADORA!$C$29,Flujos!$B168/365))","v":0},"2035-04-24",166,{"$f":"+DIAS365($A$2,A168)","v":5049},-5.6170392781496048E-8,0,-2.760774805210531E-10,-2.760774805210531E-10]
["2035-05-24",{"$f":"IF(DIAS365(CALCULADORA!$C$27,A169)<0,0,DIAS365(CALCULADORA!$C$27,A169))","v":4120},{"$f":"+HLOOKUP(CALCULADORA!$C$9,Tablas!B:B,Flujos!J169+1,FALSE)","v":0},0,0,{"$f":"ROUND(D168*ROUND(((1+CALCULADORA!$C$16)^(1/12)-1),6),6)","v":0},0,{"$f":"IF($B169=0,0,G169/POWER(1+CALCULADORA!$C$29,Flujos!$B169/365))","v":0},"2035-05-24",167,{"$f":"+DIAS365($A$2,A169)","v":5079},-5.6170392781496048E-8,0,-2.760774805210531E-10,-2.760774805210531E-10]
["2035-06-24",{"$f":"IF(DIAS365(CALCULADORA!$C$27,A170)<0,0,DIAS365(CALCULADORA!$C$27,A170))","v":4151},{"$f":"+HLOOKUP(CALCULADORA!$C$9,Tablas!B:B,Flujos!J170+1,FALSE)","v":0},0,0,{"$f":"ROUND(D169*ROUND(((1+CALCULADORA!$C$16)^(1/12)-1),6),6)","v":0},0,{"$f":"IF($B170=0,0,G170/POWER(1+CALCULADORA!$C$29,Flujos!$B170/365))","v":0},"2035-06-24",168,{"$f":"+DIAS365($A$2,A170)","v":5110},-5.6170392781496048E-8,0,-2.760774805210531E-10,-2.760774805210531E-10]
["2035-07-24",{"$f":"IF(DIAS365(CALCULADORA!$C$27,A171)<0,0,DIAS365(CALCULADORA!$C$27,A171))","v":4181},{"$f":"+HLOOKUP(CALCULADORA!$C$9,Tablas!B:B,Flujos!J171+1,FALSE)","v":0},0,0,{"$f":"ROUND(D170*ROUND(((1+CALCULADORA!$C$16)^(1/12)-1),6),6)","v":0},0,{"$f":"IF($B171=0,0,G171/POWER(1+CALCULADORA!$C$29,Flujos!$B171/365))","v":0},"2035-07-24",169,{"$f":"+DIAS365($A$2,A171)","v":5140},-5.6170392781496048E-8,0,-2.760774805210531E-10,-2.760774805210531E-10]
["2035-08-24",{"$f":"IF(DIAS365(CALCULADORA!$C$27,A172)<0,0,DIAS365(CALCULADORA!$C$27,A172))","v":4212},{"$f":"+HLOOKUP(CALCULADORA!$C$9,Tablas!B:B,Flujos!J172+1,FALSE)","v":0},0,0,{"$f":"ROUND(D171*ROUND(((1+CALCULADORA!$C$16)^(1/12)-1),6),6)","v":0},0,{"$f":"IF($B172=0,0,G172/POWER(1+CALCULADORA!$C$29,Flujos!$B172/365))","v":0},"2035-08-24",170,{"$f":"+DIAS365($A$2,A172)","v":5171},-5.6170392781496048E-8,0,-2.760774805210531E-10,-2.760774805210531E-10]
["2035-09-24",{"$f":"IF(DIAS365(CALCULADORA!$C$27,A173)<0,0,DIAS365(CALCULADORA!$C$27,A173))","v":4243},{"$f":"+HLOOKUP(CALCULADORA!$C$9,Tablas!B:B,Flujos!J173+1,FALSE)","v":0},0,0,{"$f":"ROUND(D172*ROUND(((1+CALCULADORA!$C$16)^(1/12)-1),6),6)","v":0},0,{"$f":"IF($B173=0,0,G173/POWER(1+CALCULADORA!$C$29,Flujos!$B173/365))","v":0},"2035-09-24",171,{"$f":"+DIAS365($A$2,A173)","v":5202},-5.6170392781496048E-8,0,-2.760774805210531E-10,-2.760774805210531E-10]
["2035-10-24",{"$f":"IF(DIAS365(CALCULADORA!$C$27,A174)<0,0,DIAS365(CALCULADORA!$C$27,A174))","v":4273},{"$f":"+HLOOKUP(CALCULADORA!$C$9,Tablas!B:B,Flujos!J174+1,FALSE)","v":0},0,0,{"$f":"ROUND(D173*ROUND(((1+CALCULADORA!$C$16)^(1/12)-1),6),6)","v":0},0,{"$f":"IF($B174=0,0,G174/POWER(1+CALCULADORA!$C$29,Flujos!$B174/365))","v":0},"2035-10-24",172,{"$f":"+DIAS365($A$2,A174)","v":5232},-5.6170392781496048E-8,0,-2.760774805210531E-10,-2.760774805210531E-10]
["2035-11-24",{"$f":"IF(DIAS365(CALCULADORA!$C$27,A175)<0,0,DIAS365(CALCULADORA!$C$27,A175))","v":4304},{"$f":"+HLOOKUP(CALCULADORA!$C$9,Tablas!B:B,Flujos!J175+1,FALSE)","v":0},0,0,{"$f":"ROUND(D174*ROUND(((1+CALCULADORA!$C$16)^(1/12)-1),6),6)","v":0},0,{"$f":"IF($B175=0,0,G175/POWER(1+CALCULADORA!$C$29,Flujos!$B175/365))","v":0},"2035-11-24",173,{"$f":"+DIAS365($A$2,A175)","v":5263},-5.6170392781496048E-8,0,-2.760774805210531E-10,-2.760774805210531E-10]
["2035-12-24",{"$f":"IF(DIAS365(CALCULADORA!$C$27,A176)<0,0,DIAS365(CALCULADORA!$C$27,A176))","v":4334},{"$f":"+HLOOKUP(CALCULADORA!$C$9,Tablas!B:B,Flujos!J176+1,FALSE)","v":0},0,0,{"$f":"ROUND(D175*ROUND(((1+CALCULADORA!$C$16)^(1/12)-1),6),6)","v":0},0,{"$f":"IF($B176=0,0,G176/POWER(1+CALCULADORA!$C$29,Flujos!$B176/365))","v":0},"2035-12-24",174,{"$f":"+DIAS365($A$2,A176)","v":5293},-5.6170392781496048E-8,0,-2.760774805210531E-10,-2.760774805210531E-10]
["2036-01-24",{"$f":"IF(DIAS365(CALCULADORA!$C$27,A177)<0,0,DIAS365(CALCULADORA!$C$27,A177))","v":4365},{"$f":"+HLOOKUP(CALCULADORA!$C$9,Tablas!B:B,Flujos!J177+1,FALSE)","v":0},0,0,{"$f":"ROUND(D176*ROUND(((1+CALCULADORA!$C$16)^(1/12)-1),6),6)","v":0},0,{"$f":"IF($B177=0,0,G177/POWER(1+CALCULADORA!$C$29,Flujos!$B177/365))","v":0},"2036-01-24",175,{"$f":"+DIAS365($A$2,A177)","v":5324},-5.6170392781496048E-8,0,-2.760774805210531E-10,-2.760774805210531E-10]
["2036-02-24",{"$f":"IF(DIAS365(CALCULADORA!$C$27,A178)<0,0,DIAS365(CALCULADORA!$C$27,A178))","v":4396},{"$f":"+HLOOKUP(CALCULADORA!$C$9,Tablas!B:B,Flujos!J178+1,FALSE)","v":0},0,0,{"$f":"ROUND(D177*ROUND(((1+CALCULADORA!$C$16)^(1/12)-1),6),6)","v":0},0,{"$f":"IF($B178=0,0,G178/POWER(1+CALCULADORA!$C$29,Flujos!$B178/365))","v":0},"2036-02-24",176,{"$f":"+DIAS365($A$2,A178)","v":5355},-5.6170392781496048E-8,0,-2.760774805210531E-10,-2.760774805210531E-10]
["2036-03-24",{"$f":"IF(DIAS365(CALCULADORA!$C$27,A179)<0,0,DIAS365(CALCULADORA!$C$27,A179))","v":4424},{"$f":"+HLOOKUP(CALCULADORA!$C$9,Tablas!B:B,Flujos!J179+1,FALSE)","v":0},0,0,{"$f":"ROUND(D178*ROUND(((1+CALCULADORA!$C$16)^(1/12)-1),6),6)","v":0},0,{"$f":"IF($B179=0,0,G179/POWER(1+CALCULADORA!$C$29,Flujos!$B179/365))","v":0},"2036-03-24",177,{"$f":"+DIAS365($A$2,A179)","v":5383},-5.6170392781496048E-8,0,-2.760774805210531E-10,-2.760774805210531E-10]
["2036-04-24",{"$f":"IF(DIAS365(CALCULADORA!$C$27,A180)<0,0,DIAS365(CALCULADORA!$C$27,A180))","v":4455},{"$f":"+HLOOKUP(CALCULADORA!$C$9,Tablas!B:B,Flujos!J180+1,FALSE)","v":0},0,0,{"$f":"ROUND(D179*ROUND(((1+CALCULADORA!$C$16)^(1/12)-1),6),6)","v":0},0,{"$f":"IF($B180=0,0,G180/POWER(1+CALCULADORA!$C$29,Flujos!$B180/365))","v":0},"2036-04-24",178,{"$f":"+DIAS365($A$2,A180)","v":5414},-5.6170392781496048E-8,0,-2.760774805210531E-10,-2.760774805210531E-10]
["2036-05-24",{"$f":"IF(DIAS365(CALCULADORA!$C$27,A181)<0,0,DIAS365(CALCULADORA!$C$27,A181))","v":4485},{"$f":"+HLOOKUP(CALCULADORA!$C$9,Tablas!B:B,Flujos!J181+1,FALSE)","v":0},0,0,{"$f":"ROUND(D180*ROUND(((1+CALCULADORA!$C$16)^(1/12)-1),6),6)","v":0},0,{"$f":"IF($B181=0,0,G181/POWER(1+CALCULADORA!$C$29,Flujos!$B181/365))","v":0},"2036-05-24",179,{"$f":"+DIAS365($A$2,A181)","v":5444},-5.6170392781496048E-8,0,-2.760774805210531E-10,-2.760774805210531E-10]
["2036-06-24",{"$f":"IF(DIAS365(CALCULADORA!$C$27,A182)<0,0,DIAS365(CALCULADORA!$C$27,A182))","v":4516},{"$f":"+HLOOKUP(CALCULADORA!$C$9,Tablas!B:B,Flujos!J182+1,FALSE)","v":0},0,0,{"$f":"ROUND(D181*ROUND(((1+CALCULADORA!$C$16)^(1/12)-1),6),6)","v":0},0,{"$f":"IF($B182=0,0,G182/POWER(1+CALCULADORA!$C$29,Flujos!$B182/365))","v":0},"2036-06-24",180,{"$f":"+DIAS365($A$2,A182)","v":5475},-5.6170392781496048E-8,0,-2.760774805210531E-10,-2.760774805210531E-10]
[null,null,{"$f":"+SUMIF(B2:B182,\">0\",C2:C182)","v":0.5379721300000001},null,{"$f":"SUM(E2:E182)","v":100.00000000000001},{"$f":"SUM(F2:F182)","v":20.515768999999999},{"$f":"SUM(G2:G182)","v":120.51576899999991},{"$f":"SUM(H2:H182)","v":49.513508933976468},null,null,null,"Totales",{"$f":"SUM(M2:M182)","v":128567217.78505512},{"$f":"SUM(N2:N182)","v":26376544.971575186},154943762.75663048]

{"sheet":"TIR de Tenencia","index":3,"n_rows":65536,"n_cols":17,"rows_kept":4500,"cut":true,"hidden":true,"merged":[],"bounds":{"rows_first":2000,"rows_last":500,"rows_between":2000,"halvings":0}}
[{"$f":"+Flujos!A1","v":"Fecha"},{"$f":"+Flujos!L1","v":"Saldo / Balance"},{"$f":"+Flujos!M1","v":"Pago de Capital"},{"$f":"+Flujos!N1","v":"Pago de Intereses"},{"$f":"+Flujos!O1","v":"Pago Total"},{"$f":"+CALCULADORA!C27","v":"2024-02-08"},"Fecha","Flujo ","Fecha","Flujo 1","TIR",{"$f":"+DAY(A2)","v":24},{"$f":"+MONTH(G2)","v":6},{"$f":"+YEAR(G2)","v":2021},null,{"$f":"MATCH(MAX('TIR de Tenencia'!I:I),'TIR de Tenencia'!I:I,0)","v":34}]
[{"$f":"+Flujos!A2","v":"2021-06-24"},{"$f":"+Flujos!L2","v":128567217.78505512},{"$f":"+Flujos!M2","v":0},{"$f":"+Flujos!N2","v":0},{"$f":"+Flujos!O2","v":0},null,{"$f":"+CALCULADORA!C23","v":"2021-06-24"},{"$f":"-CALCULADORA!C24","v":-128567217},{"$f":"+G2","v":"2021-06-24"},{"$f":"+H2","v":-128567217},{"$f":"+XIRR(J2:J34,I2:I34)","v":3.7503728270530709E-2},{"$f":"+L1","v":24},{"$f":"+IF(M1=12,1,M1+1)","v":7},{"$f":"+IF(M2=1,N1+1,N1)","v":2021},null,1,"Enero"]
[{"$f":"+Flujos!A3","v":"2021-07-24"},{"$f":"+Flujos!L3","v":126056879.8598652},{"$f":"+Flujos!M3","v":2510337.9251899156},{"$f":"+Flujos!N3","v":631907.87541354587},{"$f":"+Flujos!O3","v":3142245.8006034615},null,{"$f":"+DATE(N2,M2,L2)","v":"2021-07-24"},{"$f":"IF(G3<CALCULADORA!$C$23,0,IF(CALCULADORA!$C$27>'TIR de Tenencia'!G3,E3,CALCULADORA!$C$33))","v":3142245.8006034615},{"$f":"+IF(H3=H2,\" \",G3)","v":"2021-07-24"},{"$f":"+IF(H3=H2,\" \",H3)","v":3142245.8006034615},null,{"$f":"+L2","v":24},{"$f":"+IF(M2=12,1,M2+1)","v":8},{"$f":"+IF(M3=1,N2+1,N2)","v":2021},null,2,"Febrero"]
[{"$f":"+Flujos!A4","v":"2021-08-24"},{"$f":"+Flujos!L4","v":122412000.52133107},{"$f":"+Flujos!M4","v":3644879.3385341344},{"$f":"+Flujos!N4","v":619569.56451123743},{"$f":"+Flujos!O4","v":4264448.9030453721},null,{"$f":"+DATE(N3,M3,L3)","v":"2021-08-24"},{"$f":"IF(G4<CALCULADORA!$C$23,0,IF(CALCULADORA!$C$27>'TIR de Tenencia'!G4,E4,CALCULADORA!$C$33))","v":4264448.9030453721},{"$f":"+IF(H4=H3,\" \",G4)","v":"2021-08-24"},{"$f":"+IF(H4=H3,\" \",H4)","v":4264448.9030453721},null,24,9,2021,null,3,"Marzo"]
[{"$f":"+Flujos!A5","v":"2021-09-24"},{"$f":"+Flujos!L5","v":118999187.58224332},{"$f":"+Flujos!M5","v":3412812.9390877546},{"$f":"+Flujos!N5","v":601654.98256234219},{"$f":"+Flujos!O5","v":4014467.9216500968},null,"2021-09-24",{"$f":"IF(G5<CALCULADORA!$C$23,0,IF(CALCULADORA!$C$27>'TIR de Tenencia'!G5,E5,CALCULADORA!$C$33))","v":4014467.9216500968},{"$f":"+IF(H5=H4,\" \",G5)","v":"2021-09-24"},{"$f":"+IF(H5=H4,\" \",H5)","v":4014467.9216500968},null,24,10,2021,null,4,"Abril"]
[{"$f":"+Flujos!A6","v":"2021-10-24"},{"$f":"+Flujos!L6","v":115557174.45665222},{"$f":"+Flujos!M6","v":3442013.125591096},{"$f":"+Flujos!N6","v":584881.00696672592},{"$f":"+Flujos!O6","v":4026894.1325578219},null,"2021-10-24",{"$f":"IF(G6<CALCULADORA!$C$23,0,IF(CALCULADORA!$C$27>'TIR de Tenencia'!G6,E6,CALCULADORA!$C$33))","v":4026894.1325578219},"2021-10-24",4026894.1325578219,null,24,11,2021,null,5,"Mayo"]
[{"$f":"+Flujos!A7","v":"2021-11-24"},{"$f":"+Flujos!L7","v":112758979.67353028},{"$f":"+Flujos!M7","v":2798194.783121943},{"$f":"+Flujos!N7","v":567963.51245444571},{"$f":"+Flujos!O7","v":3366158.2955763889},null,"2021-11-24",{"$f":"IF(G7<CALCULADORA!$C$23,0,IF(CALCULADORA!$C$27>'TIR de Tenencia'!G7,E7,CALCULADORA!$C$33))","v":3366158.2955763889},"2021-11-24",3366158.2955763889,null,24,12,2021,null,6,"Junio"]
[{"$f":"+Flujos!A8","v":"2021-12-24"},{"$f":"+Flujos!L8","v":110403858.3790279},{"$f":"+Flujos!M8","v":2355121.2945023747},{"$f":"+Flujos!N8","v":554210.38509540132},{"$f":"+Flujos!O8","v":2909331.6795977759},null,"2021-12-24",{"$f":"IF(G8<CALCULADORA!$C$23,0,IF(CALCULADORA!$C$27>'TIR de Tenencia'!G8,E8,CALCULADORA!$C$33))","v":2909331.6795977759},"2021-12-24",2909331.6795977759,null,24,1,2022,null,7,"Julio"]
[{"$f":"+Flujos!A9","v":"2022-01-24"},{"$f":"+Flujos!L9","v":108096457.3787508},{"$f":"+Flujos!M9","v":2307401.0002770955},{"$f":"+Flujos!N9","v":542634.96393292211},{"$f":"+Flujos!O9","v":2850035.9642100176},null,"2022-01-24",{"$f":"IF(G9<CALCULADORA!$C$23,0,IF(CALCULADORA!$C$27>'TIR de Tenencia'!G9,E9,CALCULADORA!$C$33))","v":2850035.9642100176},"2022-01-24",2850035.9642100176,null,24,2,2022,null,8,"Agosto"]
[{"$f":"+Flujos!A10","v":"2022-02-24"},{"$f":"+Flujos!L10","v":106026478.88821301},{"$f":"+Flujos!M10","v":2069978.4905377901},{"$f":"+Flujos!N10","v":531294.08801656018},{"$f":"+Flujos!O10","v":2601272.5785543504},null,"2022-02-24",{"$f":"IF(G10<CALCULADORA!$C$23,0,IF(CALCULADORA!$C$27>'TIR de Tenencia'!G10,E10,CALCULADORA!$C$33))","v":2601272.5785543504},"2022-02-24",2601272.5785543504,null,24,3,2022,null,9,"Septiembre"]
[{"$f":"+Flujos!A11","v":"2022-03-24"},{"$f":"+Flujos!L11","v":104138315.01437813},{"$f":"+Flujos!M11","v":1888163.8738348763},{"$f":"+Flujos!N11","v":521120.14373556693},{"$f":"+Flujos!O11","v":2409284.0175704435},null,"2022-03-24",{"$f":"IF(G11<CALCULADORA!$C$23,0,IF(CALCULADORA!$C$27>'TIR de Tenencia'!G11,E11,CALCULADORA!$C$33))","v":2409284.0175704435},"2022-03-24",2409284.0175704435,null,24,{"$f":"+IF(M10=12,1,M10+1)","v":4},2022,null,10,"Octubre"]
[{"$f":"+Flujos!A12","v":"2022-04-24"},{"$f":"+Flujos!L12","v":102302720.99022338},{"$f":"+Flujos!M12","v":1835594.0241547453},{"$f":"+Flujos!N12","v":511839.81829566852},{"$f":"+Flujos!O12","v":2347433.8424504139},null,"2022-04-24",{"$f":"IF(G12<CALCULADORA!$C$23,0,IF(CALCULADORA!$C$27>'TIR de Tenencia'!G12,E12,CALCULADORA!$C$33))","v":2347433.8424504139},"2022-04-24",2347433.8424504139,null,24,5,2022,null,11,"Noviembre"]
[{"$f":"+Flujos!A13","v":"2022-05-24"},{"$f":"+Flujos!L13","v":100077743.14759611},{"$f":"+Flujos!M13","v":2224977.8426272748},{"$f":"+Flujos!N13","v":502817.87366694794},{"$f":"+Flujos!O13","v":2727795.7162942225},null,"2022-05-24",{"$f":"IF(G13<CALCULADORA!$C$23,0,IF(CALCULADORA!$C$27>'TIR de Tenencia'!G13,E13,CALCULADORA!$C$33))","v":2727795.7162942225},"2022-05-24",2727795.7162942225,null,24,6,2022,null,12,"Diciembre"]
[{"$f":"+Flujos!A14","v":"2022-06-24"},{"$f":"+Flujos!L14","v":98307480.555158839},{"$f":"+Flujos!M14","v":1770262.5924372696},{"$f":"+Flujos!N14","v":491882.10757043486},{"$f":"+Flujos!O14","v":2262144.7000077046},null,"2022-06-24",{"$f":"IF(G14<CALCULADORA!$C$23,0,IF(CALCULADORA!$C$27>'TIR de Tenencia'!G14,E14,CALCULADORA!$C$33))","v":2262144.7000077046},"2022-06-24",2262144.7000077046,null,24,7,2022]
[{"$f":"+Flujos!A15","v":"2022-07-24"},{"$f":"+Flujos!L15","v":96400354.302372843},{"$f":"+Flujos!M15","v":1907126.2527859942},{"$f":"+Flujos!N15","v":483181.26692860568},{"$f":"+Flujos!O15","v":2390307.5197145999},null,"2022-07-24",{"$f":"IF(G15<CALCULADORA!$C$23,0,IF(CALCULADORA!$C$27>'TIR de Tenencia'!G15,E15,CALCULADORA!$C$33))","v":2390307.5197145999},"2022-07-24",2390307.5197145999,null,24,{"$f":"+IF(M14=12,1,M14+1)","v":8},2022]
[{"$f":"+Flujos!A16","v":"2022-08-24"},{"$f":"+Flujos!L16","v":94742721.735404},{"$f":"+Flujos!M16","v":1657632.5669688496},{"$f":"+Flujos!N16","v":473807.74139616254},{"$f":"+Flujos!O16","v":2131440.3083650121},null,"2022-08-24",{"$f":"IF(G16<CALCULADORA!$C$23,0,IF(CALCULADORA!$C$27>'TIR de Tenencia'!G16,E16,CALCULADORA!$C$33))","v":2131440.3083650121},"2022-08-24",2131440.3083650121,null,24,9,2022]
[{"$f":"+Flujos!A17","v":"2022-09-24"},{"$f":"+Flujos!L17","v":93227747.35328944},{"$f":"+Flujos!M17","v":1514974.3821145527},{"$f":"+Flujos!N17","v":465660.47732951067},{"$f":"+Flujos!O17","v":1980634.8594440634},null,"2022-09-24",{"$f":"IF(G17<CALCULADORA!$C$23,0,IF(CALCULADORA!$C$27>'TIR de Tenencia'!G17,E17,CALCULADORA!$C$33))","v":1980634.8594440634},{"$f":"+IF(H17=H16,\" \",G17)","v":"2022-09-24"},1980634.8594440634,null,24,10,2022]
[{"$f":"+Flujos!A18","v":"2022-10-24"},{"$f":"+Flujos!L18","v":91889807.45872055},{"$f":"+Flujos!M18","v":1337939.8945688875},{"$f":"+Flujos!N18","v":458214.37824141758},{"$f":"+Flujos!O18","v":1796154.272810305},null,"2022-10-24",{"$f":"IF(G18<CALCULADORA!$C$23,0,IF(CALCULADORA!$C$27>'TIR de Tenencia'!G18,E18,CALCULADORA!$C$33))","v":1796154.272810305},"2022-10-24",1796154.272810305,null,24,11,2022]
[{"$f":"+Flujos!A19","v":"2022-11-24"},{"$f":"+Flujos!L19","v":90183954.471049234},{"$f":"+Flujos!M19","v":1705852.9876713124},{"$f":"+Flujos!N19","v":451638.40365961153},{"$f":"+Flujos!O19","v":2157491.3913309239},null,"2022-11-24",{"$f":"IF(G19<CALCULADORA!$C$23,0,IF(CALCULADORA!$C$27>'TIR de Tenencia'!G19,E19,CALCULADORA!$C$33))","v":2157491.3913309239},"2022-11-24",2157491.3913309239,null,24,12,2022]
[{"$f":"+Flujos!A20","v":"2022-12-24"},{"$f":"+Flujos!L20","v":88382531.042037398},{"$f":"+Flujos!M20","v":1801423.4290118332},{"$f":"+Flujos!N20","v":443254.13622520701},{"$f":"+Flujos!O20","v":2244677.5652370402},null,"2022-12-24",{"$f":"IF(G20<CALCULADORA!$C$23,0,IF(CALCULADORA!$C$27>'TIR de Tenencia'!G20,E20,CALCULADORA!$C$33))","v":2244677.5652370402},"2022-12-24",2244677.5652370402,null,24,{"$f":"+IF(M19=12,1,M19+1)","v":1},2023]
[{"$f":"+Flujos!A21","v":"2023-01-24"},{"$f":"+Flujos!L21","v":86616584.451101169},{"$f":"+Flujos!M21","v":1765946.5909362254},{"$f":"+Flujos!N21","v":434400.14007161383},{"$f":"+Flujos!O21","v":2200346.7310078391},null,"2023-01-24",{"$f":"IF(G21<CALCULADORA!$C$23,0,IF(CALCULADORA!$C$27>'TIR de Tenencia'!G21,E21,CALCULADORA!$C$33))","v":2200346.7310078391},"2023-01-24",2200346.7310078391,null,24,2,2023]
[{"$f":"+Flujos!A22","v":"2023-02-24"},{"$f":"+Flujos!L22","v":84764826.956326485},{"$f":"+Flujos!M22","v":1851757.4947746824},{"$f":"+Flujos!N22","v":425720.51257716224},{"$f":"+Flujos!O22","v":2277478.0073518446},null,"2023-02-24",{"$f":"IF(G22<CALCULADORA!$C$23,0,IF(CALCULADORA!$C$27>'TIR de Tenencia'!G22,E22,CALCULADORA!$C$33))","v":2277478.0073518446},"2023-02-24",2277478.0073518446,null,24,3,2023]
[{"$f":"+Flujos!A23","v":"2023-03-24"},{"$f":"+Flujos!L23","v":83192934.581226304},{"$f":"+Flujos!M23","v":1571892.3751001742},{"$f":"+Flujos!N23","v":416619.12449034466},{"$f":"+Flujos!O23","v":1988511.4995905189},null,"2023-03-24",{"$f":"IF(G23<CALCULADORA!$C$23,0,IF(CALCULADORA!$C$27>'TIR de Tenencia'!G23,E23,CALCULADORA!$C$33))","v":1988511.4995905189},"2023-03-24",1988511.4995905189,null,24,4,2023]
[{"$f":"+Flujos!A24","v":"2023-04-24"},{"$f":"+Flujos!L24","v":81572565.936660275},{"$f":"+Flujos!M24","v":1620368.6445660293},{"$f":"+Flujos!N24","v":408893.27346672729},{"$f":"+Flujos!O24","v":2029261.9180327565},null,"2023-04-24",{"$f":"IF(G24<CALCULADORA!$C$23,0,IF(CALCULADORA!$C$27>'TIR de Tenencia'!G24,E24,CALCULADORA!$C$33))","v":2029261.9180327565},"2023-04-24",2029261.9180327565,null,24,5,2023]
[{"$f":"+Flujos!A25","v":"2023-05-24"},{"$f":"+Flujos!L25","v":80206048.120922118},{"$f":"+Flujos!M25","v":1366517.8157381497},{"$f":"+Flujos!N25","v":400929.16157868528},{"$f":"+Flujos!O25","v":1767446.977316835},null,"2023-05-24",{"$f":"IF(G25<CALCULADORA!$C$23,0,IF(CALCULADORA!$C$27>'TIR de Tenencia'!G25,E25,CALCULADORA!$C$33))","v":1767446.977316835},"2023-05-24",1767446.977316835,null,24,6,2023]
[{"$f":"+Flujos!A26","v":"2023-06-24"},{"$f":"+Flujos!L26","v":78957872.572138578},{"$f":"+Flujos!M26","v":1248175.5487835398},{"$f":"+Flujos!N26","v":394212.72651433223},{"$f":"+Flujos!O26","v":1642388.275297872},null,"2023-06-24",{"$f":"IF(G26<CALCULADORA!$C$23,0,IF(CALCULADORA!$C$27>'TIR de Tenencia'!G26,E26,CALCULADORA!$C$33))","v":1642388.275297872},"2023-06-24",{"$f":"+IF(H26=H25,\" \",H26)","v":1642388.275297872},null,24,7,2023]
[{"$f":"+Flujos!A27","v":"2023-07-24"},{"$f":"+Flujos!L27","v":77776818.110744089},{"$f":"+Flujos!M27","v":1181054.461394496},{"$f":"+Flujos!N27","v":388077.94369206112},{"$f":"+Flujos!O27","v":1569132.4050865571},null,"2023-07-24",{"$f":"IF(G27<CALCULADORA!$C$23,0,IF(CALCULADORA!$C$27>'TIR de Tenencia'!G27,E27,CALCULADORA!$C$33))","v":1569132.4050865571},"2023-07-24",1569132.4050865571,null,24,8,2023]
[{"$f":"+Flujos!A28","v":"2023-08-24"},{"$f":"+Flujos!L28","v":76037803.780589476},{"$f":"+Flujos!M28","v":1739014.3301546117},{"$f":"+Flujos!N28","v":382273.0610143072},{"$f":"+Flujos!O28","v":2121287.3911689189},null,"2023-08-24",{"$f":"IF(G28<CALCULADORA!$C$23,0,IF(CALCULADORA!$C$27>'TIR de Tenencia'!G28,E28,CALCULADORA!$C$33))","v":2121287.3911689189},"2023-08-24",2121287.3911689189,null,24,9,2023]
[{"$f":"+Flujos!A29","v":"2023-09-24"},{"$f":"+Flujos!L29","v":74567671.072693989},{"$f":"+Flujos!M29","v":1470132.7078954813},{"$f":"+Flujos!N29","v":373725.80558159726},{"$f":"+Flujos!O29","v":1843858.5134770786},null,"2023-09-24",{"$f":"IF(G29<CALCULADORA!$C$23,0,IF(CALCULADORA!$C$27>'TIR de Tenencia'!G29,E29,CALCULADORA!$C$33))","v":1843858.5134770786},"2023-09-24",1843858.5134770786,null,24,10,2023]
[{"$f":"+Flujos!A30","v":"2023-10-24"},{"$f":"+Flujos!L30","v":73497948.107868284},{"$f":"+Flujos!M30","v":1069722.9648257056},{"$f":"+Flujos!N30","v":366500.10332229099},{"$f":"+Flujos!O30","v":1436223.0681479967},null,"2023-10-24",{"$f":"IF(G30<CALCULADORA!$C$23,0,IF(CALCULADORA!$C$27>'TIR de Tenencia'!G30,E30,CALCULADORA!$C$33))","v":1436223.0681479967},"2023-10-24",1436223.0681479967,null,24,11,2023]
[{"$f":"+Flujos!A31","v":"2023-11-24"},{"$f":"+Flujos!L31","v":71833263.629003927},{"$f":"+Flujos!M31","v":1664684.4788643601},{"$f":"+Flujos!N31","v":361242.41495017265},{"$f":"+Flujos!O31","v":2025926.8938145328},null,"2023-11-24",{"$f":"IF(G31<CALCULADORA!$C$23,0,IF(CALCULADORA!$C$27>'TIR de Tenencia'!G31,E31,CALCULADORA!$C$33))","v":2025926.8938145328},"2023-11-24",2025926.8938145328,null,24,12,2023]
[{"$f":"+Flujos!A32","v":"2023-12-24"},{"$f":"+Flujos!L32","v":70648838.135159105},{"$f":"+Flujos!M32","v":1184425.4938448202},{"$f":"+Flujos!N32","v":353060.49073655432},{"$f":"+Flujos!O32","v":1537485.9845813746},null,"2023-12-24",{"$f":"IF(G32<CALCULADORA!$C$23,0,IF(CALCULADORA!$C$27>'TIR de Tenencia'!G32,E32,CALCULADORA!$C$33))","v":1537485.9845813746},"2023-12-24",1537485.9845813746,null,24,1,2024]
[{"$f":"+Flujos!A33","v":"2024-01-24"},{"$f":"+Flujos!L33","v":69165579.99999994},{"$f":"+Flujos!M33","v":1483258.1351591574},{"$f":"+Flujos!N33","v":347239.03943430702},{"$f":"+Flujos!O33","v":1830497.1745934645},null,"2024-01-24",{"$f":"IF(G33<CALCULADORA!$C$23,0,IF(CALCULADORA!$C$27>'TIR de Tenencia'!G33,E33,CALCULADORA!$C$33))","v":1830497.1745934645},"2024-01-24",1830497.1745934645,null,24,2,2024]
[{"$f":"+Flujos!A34","v":"2024-02-24"},{"$f":"+Flujos!L34","v":67878888.284112349},{"$f":"+Flujos!M34","v":1286691.7158875866},{"$f":"+Flujos!N34","v":339948.8256999997},{"$f":"+Flujos!O34","v":1626640.5415875863},null,"2024-02-24",{"$f":"IF(G34<CALCULADORA!$C$23,0,IF(CALCULADORA!$C$27>'TIR de Tenencia'!G34,E34,CALCULADORA!$C$33))","v":63657925},"2024-02-24",63657925,null,24,3,2024]
[{"$f":"+Flujos!A35","v":"2024-03-24"},{"$f":"+Flujos!L35","v":66610163.836910225},{"$f":"+Flujos!M35","v":1268724.4472021253},{"$f":"+Flujos!N35","v":333624.7359164122},{"$f":"+Flujos!O35","v":1602349.1831185375},null,{"$f":"+DATE(N34,M34,L34)","v":"2024-03-24"},{"$f":"IF(G35<CALCULADORA!$C$23,0,IF(CALCULADORA!$C$27>'TIR de Tenencia'!G35,E35,CALCULADORA!$C$33))","v":63657925}," "," ",null,24,4,2024]
[{"$f":"+Flujos!A36","v":"2024-04-24"},{"$f":"+Flujos!L36","v":65346260.660375036},{"$f":"+Flujos!M36","v":1263903.1765351857},{"$f":"+Flujos!N36","v":327388.95525841374},{"$f":"+Flujos!O36","v":1591292.1317935993},null,"2024-04-24",{"$f":"IF(G36<CALCULADORA!$C$23,0,IF(CALCULADORA!$C$27>'TIR de Tenencia'!G36,E36,CALCULADORA!$C$33))","v":63657925},{"$f":"+IF(IF(H36=H35,\" \",G36)=CALCULADORA!C27,'TIR de Tenencia'!G36,CALCULADORA!C27)","v":"2024-02-08"}," ",null,24,5,2024]
[{"$f":"+Flujos!A37","v":"2024-05-24"},{"$f":"+Flujos!L37","v":64096751.869543068},{"$f":"+Flujos!M37","v":1249508.790831971},{"$f":"+Flujos!N37","v":321176.87114574329},{"$f":"+Flujos!O37","v":1570685.6619777144},null,"2024-05-24",{"$f":"IF(G37<CALCULADORA!$C$23,0,IF(CALCULADORA!$C$27>'TIR de Tenencia'!G37,E37,CALCULADORA!$C$33))","v":63657925}," "," ",null,24,6,2024]
[{"$f":"+Flujos!A38","v":"2024-06-24"},{"$f":"+Flujos!L38","v":62880644.841891654},{"$f":"+Flujos!M38","v":1216107.0276514133},{"$f":"+Flujos!N38","v":315035.53543880419},{"$f":"+Flujos!O38","v":1531142.5630902175},null,"2024-06-24",{"$f":"IF(G38<CALCULADORA!$C$23,0,IF(CALCULADORA!$C$27>'TIR de Tenencia'!G38,E38,CALCULADORA!$C$33))","v":63657925}," "," ",null,24,7,2024]
[{"$f":"+Flujos!A39","v":"2024-07-24"},{"$f":"+Flujos!L39","v":61654307.720721081},{"$f":"+Flujos!M39","v":1226337.1211705704},{"$f":"+Flujos!N39","v":309058.36939789751},{"$f":"+Flujos!O39","v":1535395.4905684679},null,"2024-07-24",{"$f":"IF(G39<CALCULADORA!$C$23,0,IF(CALCULADORA!$C$27>'TIR de Tenencia'!G39,E39,CALCULADORA!$C$33))","v":63657925}," "," ",null,24,8,2024]
[{"$f":"+Flujos!A40","v":"2024-08-24"},{"$f":"+Flujos!L40","v":60442787.971400239},{"$f":"+Flujos!M40","v":1211519.7493208428},{"$f":"+Flujos!N40","v":303030.92244734411},{"$f":"+Flujos!O40","v":1514550.6717681868},null,"2024-08-24",{"$f":"IF(G40<CALCULADORA!$C$23,0,IF(CALCULADORA!$C$27>'TIR de Tenencia'!G40,E40,CALCULADORA!$C$33))","v":63657925}," "," ",null,24,9,2024]
[{"$f":"+Flujos!A41","v":"2024-09-24"},{"$f":"+Flujos!L41","v":59241781.163477682},{"$f":"+Flujos!M41","v":1201006.8079225586},{"$f":"+Flujos!N41","v":297076.30287943216},{"$f":"+Flujos!O41","v":1498083.1108019908},null,"2024-09-24",{"$f":"IF(G41<CALCULADORA!$C$23,0,IF(CALCULADORA!$C$27>'TIR de Tenencia'!G41,E41,CALCULADORA!$C$33))","v":63657925}," "," ",null,24,10,2024]
[{"$f":"+Flujos!A42","v":"2024-10-24"},{"$f":"+Flujos!L42","v":58055902.86007189},{"$f":"+Flujos!M42","v":1185878.3034057915},{"$f":"+Flujos!N42","v":291173.35441849282},{"$f":"+Flujos!O42","v":1477051.6578242844},null,"2024-10-24",{"$f":"IF(G42<CALCULADORA!$C$23,0,IF(CALCULADORA!$C$27>'TIR de Tenencia'!G42,E42,CALCULADORA!$C$33))","v":63657925}," "," ",null,24,11,2024]
[{"$f":"+Flujos!A43","v":"2024-11-24"},{"$f":"+Flujos!L43","v":56881276.75956665},{"$f":"+Flujos!M43","v":1174626.1005052433},{"$f":"+Flujos!N43","v":285344.76255725336},{"$f":"+Flujos!O43","v":1459970.8630624968},null,"2024-11-24",{"$f":"IF(G43<CALCULADORA!$C$23,0,IF(CALCULADORA!$C$27>'TIR de Tenencia'!G43,E43,CALCULADORA!$C$33))","v":63657925}," "," ",null,24,12,2024]
[{"$f":"+Flujos!A44","v":"2024-12-24"},{"$f":"+Flujos!L44","v":55716353.626987644},{"$f":"+Flujos!M44","v":1164923.1325790053},{"$f":"+Flujos!N44","v":279571.4752732701},{"$f":"+Flujos!O44","v":1444494.6078522755},null,"2024-12-24",{"$f":"IF(G44<CALCULADORA!$C$23,0,IF(CALCULADORA!$C$27>'TIR de Tenencia'!G44,E44,CALCULADORA!$C$33))","v":63657925}," "," ",null,24,1,2025]
[{"$f":"+Flujos!A45","v":"2025-01-24"},{"$f":"+Flujos!L45","v":54563177.681097656},{"$f":"+Flujos!M45","v":1153175.9458899847},{"$f":"+Flujos!N45","v":273845.87807664427},{"$f":"+Flujos!O45","v":1427021.8239666289},null,"2025-01-24",{"$f":"IF(G45<CALCULADORA!$C$23,0,IF(CALCULADORA!$C$27>'TIR de Tenencia'!G45,E45,CALCULADORA!$C$33))","v":63657925}," "," ",null,24,2,2025]
[{"$f":"+Flujos!A46","v":"2025-02-24"},{"$f":"+Flujos!L46","v":53416644.803350627},{"$f":"+Flujos!M46","v":1146532.8777470309},{"$f":"+Flujos!N46","v":268178.01830259501},{"$f":"+Flujos!O46","v":1414710.8960496259},null,"2025-02-24",{"$f":"IF(G46<CALCULADORA!$C$23,0,IF(CALCULADORA!$C$27>'TIR de Tenencia'!G46,E46,CALCULADORA!$C$33))","v":63657925}," "," ",null,24,3,2025]
[{"$f":"+Flujos!A47","v":"2025-03-24"},{"$f":"+Flujos!L47","v":52285374.14002686},{"$f":"+Flujos!M47","v":1131270.663323767},{"$f":"+Flujos!N47","v":262542.80920846836},{"$f":"+Flujos!O47","v":1393813.4725322353},null,"2025-03-24",{"$f":"IF(G47<CALCULADORA!$C$23,0,IF(CALCULADORA!$C$27>'TIR de Tenencia'!G47,E47,CALCULADORA!$C$33))","v":63657925}," "," ",null,24,4,2025]
[{"$f":"+Flujos!A48","v":"2025-04-24"},{"$f":"+Flujos!L48","v":51160193.705809571},{"$f":"+Flujos!M48","v":1125180.4342172889},{"$f":"+Flujos!N48","v":256982.61389823203},{"$f":"+Flujos!O48","v":1382163.048115521},null,"2025-04-24",{"$f":"IF(G48<CALCULADORA!$C$23,0,IF(CALCULADORA!$C$27>'TIR de Tenencia'!G48,E48,CALCULADORA!$C$33))","v":63657925}," "," ",null,24,5,2025]
[{"$f":"+Flujos!A49","v":"2025-05-24"},{"$f":"+Flujos!L49","v":50048345.692076594},{"$f":"+Flujos!M49","v":1111848.0137329788},{"$f":"+Flujos!N49","v":251452.35206405405},{"$f":"+Flujos!O49","v":1363300.3657970328},null,"2025-05-24",{"$f":"IF(G49<CALCULADORA!$C$23,0,IF(CALCULADORA!$C$27>'TIR de Tenencia'!G49,E49,CALCULADORA!$C$33))","v":63657925}," "," ",null,24,6,2025]
[{"$f":"+Flujos!A50","v":"2025-06-24"},{"$f":"+Flujos!L50","v":48968914.616635941},{"$f":"+Flujos!M50","v":1079431.075440655},{"$f":"+Flujos!N50","v":245987.61907655647},{"$f":"+Flujos!O50","v":1325418.6945172115},null,"2025-06-24",{"$f":"IF(G50<CALCULADORA!$C$23,0,IF(CALCULADORA!$C$27>'TIR de Tenencia'!G50,E50,CALCULADORA!$C$33))","v":63657925}," "," ",null,24,7,2025]
[{"$f":"+Flujos!A51","v":"2025-07-24"},{"$f":"+Flujos!L51","v":47874922.018108949},{"$f":"+Flujos!M51","v":1093992.5985269903},{"$f":"+Flujos!N51","v":240682.21534076566},{"$f":"+Flujos!O51","v":1334674.8138677559},null,"2025-07-24",{"$f":"IF(G51<CALCULADORA!$C$23,0,IF(CALCULADORA!$C$27>'TIR de Tenencia'!G51,E51,CALCULADORA!$C$33))","v":63657925}," "," ",null,24,8,2025]
[{"$f":"+Flujos!A52","v":"2025-08-24"},{"$f":"+Flujos!L52","v":46787231.784597784},{"$f":"+Flujos!M52","v":1087690.2335111669},{"$f":"+Flujos!N52","v":235305.24171900548},{"$f":"+Flujos!O52","v":1322995.4752301723},null,"2025-08-24",{"$f":"IF(G52<CALCULADORA!$C$23,0,IF(CALCULADORA!$C$27>'TIR de Tenencia'!G52,E52,CALCULADORA!$C$33))","v":63657925}," "," ",null,24,9,2025]
[{"$f":"+Flujos!A53","v":"2025-09-24"},{"$f":"+Flujos!L53","v":45711170.455935277},{"$f":"+Flujos!M53","v":1076061.3286625086},{"$f":"+Flujos!N53","v":229959.24422129811},{"$f":"+Flujos!O53","v":1306020.5728838067},null,"2025-09-24",{"$f":"IF(G53<CALCULADORA!$C$23,0,IF(CALCULADORA!$C$27>'TIR de Tenencia'!G53,E53,CALCULADORA!$C$33))","v":63657925}," "," ",null,24,10,2025]
[{"$f":"+Flujos!A54","v":"2025-10-24"},{"$f":"+Flujos!L54","v":44646470.612308435},{"$f":"+Flujos!M54","v":1064699.8436268435},{"$f":"+Flujos!N54","v":224670.40279092189},{"$f":"+Flujos!O54","v":1289370.2464177655},null,"2025-10-24",{"$f":"IF(G54<CALCULADORA!$C$23,0,IF(CALCULADORA!$C$27>'TIR de Tenencia'!G54,E54,CALCULADORA!$C$33))","v":63657925}," "," ",null,24,11,2025]
[{"$f":"+Flujos!A55","v":"2025-11-24"},{"$f":"+Flujos!L55","v":43587261.874553189},{"$f":"+Flujos!M55","v":1059208.7377552437},{"$f":"+Flujos!N55","v":219437.40305949596},{"$f":"+Flujos!O55","v":1278646.1408147397},null,"2025-11-24",{"$f":"IF(G55<CALCULADORA!$C$23,0,IF(CALCULADORA!$C$27>'TIR de Tenencia'!G55,E55,CALCULADORA!$C$33))","v":63657925}," "," ",null,24,12,2025]
[{"$f":"+Flujos!A56","v":"2025-12-24"},{"$f":"+Flujos!L56","v":42541664.548144847},{"$f":"+Flujos!M56","v":1045597.3264083399},{"$f":"+Flujos!N56","v":214231.39211342891},{"$f":"+Flujos!O56","v":1259828.7185217687},null,"2025-12-24",{"$f":"IF(G56<CALCULADORA!$C$23,0,IF(CALCULADORA!$C$27>'TIR de Tenencia'!G56,E56,CALCULADORA!$C$33))","v":63657925}," "," ",null,24,1,2026]
[{"$f":"+Flujos!A57","v":"2026-01-24"},{"$f":"+Flujos!L57","v":41505727.762480877},{"$f":"+Flujos!M57","v":1035936.7856639709},{"$f":"+Flujos!N57","v":209092.28125413193},{"$f":"+Flujos!O57","v":1245029.0669181028},null,"2026-01-24",{"$f":"IF(G57<CALCULADORA!$C$23,0,IF(CALCULADORA!$C$27>'TIR de Tenencia'!G57,E57,CALCULADORA!$C$33))","v":63657925}," "," ",null,24,2,2026]
[{"$f":"+Flujos!A58","v":"2026-02-24"},{"$f":"+Flujos!L58","v":40481306.742513917},{"$f":"+Flujos!M58","v":1024421.0199669634},{"$f":"+Flujos!N58","v":204000.65195259353},{"$f":"+Flujos!O58","v":1228421.671919557},null,"2026-02-24",{"$f":"IF(G58<CALCULADORA!$C$23,0,IF(CALCULADORA!$C$27>'TIR de Tenencia'!G58,E58,CALCULADORA!$C$33))","v":63657925}," "," ",null,24,3,2026]
[{"$f":"+Flujos!A59","v":"2026-03-24"},{"$f":"+Flujos!L59","v":39465918.855268531},{"$f":"+Flujos!M59","v":1015387.8872453856},{"$f":"+Flujos!N59","v":198965.62263945592},{"$f":"+Flujos!O59","v":1214353.5098848415},null,"2026-03-24",{"$f":"IF(G59<CALCULADORA!$C$23,0,IF(CALCULADORA!$C$27>'TIR de Tenencia'!G59,E59,CALCULADORA!$C$33))","v":63657925}," "," ",null,24,4,2026]
[{"$f":"+Flujos!A60","v":"2026-04-24"},{"$f":"+Flujos!L60","v":38458693.700680315},{"$f":"+Flujos!M60","v":1007225.1545882123},{"$f":"+Flujos!N60","v":193974.99117364484},{"$f":"+Flujos!O60","v":1201200.145761857},null,"2026-04-24",{"$f":"IF(G60<CALCULADORA!$C$23,0,IF(CALCULADORA!$C$27>'TIR de Tenencia'!G60,E60,CALCULADORA!$C$33))","v":63657925}," "," ",null,24,5,2026]
[{"$f":"+Flujos!A61","v":"2026-05-24"},{"$f":"+Flujos!L61","v":37461890.204765759},{"$f":"+Flujos!M61","v":996803.49591455585},{"$f":"+Flujos!N61","v":189024.47953884376},{"$f":"+Flujos!O61","v":1185827.9754533996},null,"2026-05-24",{"$f":"IF(G61<CALCULADORA!$C$23,0,IF(CALCULADORA!$C$27>'TIR de Tenencia'!G61,E61,CALCULADORA!$C$33))","v":63657925}," "," ",null,24,6,2026]
[{"$f":"+Flujos!A62","v":"2026-06-24"},{"$f":"+Flujos!L62","v":36502539.625064164},{"$f":"+Flujos!M62","v":959350.5797015914},{"$f":"+Flujos!N62","v":184125.1903564237},{"$f":"+Flujos!O62","v":1143475.7700580151},null,"2026-06-24",{"$f":"IF(G62<CALCULADORA!$C$23,0,IF(CALCULADORA!$C$27>'TIR de Tenencia'!G62,E62,CALCULADORA!$C$33))","v":63657925}," "," ",null,24,7,2026]
[{"$f":"+Flujos!A63","v":"2026-07-24"},{"$f":"+Flujos!L63","v":35522776.428194843},{"$f":"+Flujos!M63","v":979763.19686932454},{"$f":"+Flujos!N63","v":179409.98225719036},{"$f":"+Flujos!O63","v":1159173.1791265148},null,"2026-07-24",{"$f":"IF(G63<CALCULADORA!$C$23,0,IF(CALCULADORA!$C$27>'TIR de Tenencia'!G63,E63,CALCULADORA!$C$33))","v":63657925}," "," ",null,24,8,2026]
[{"$f":"+Flujos!A64","v":"2026-08-24"},{"$f":"+Flujos!L64","v":34550110.141747251},{"$f":"+Flujos!M64","v":972666.28644758952},{"$f":"+Flujos!N64","v":174594.44614457767},{"$f":"+Flujos!O64","v":1147260.7325921671},null,"2026-08-24",{"$f":"IF(G64<CALCULADORA!$C$23,0,IF(CALCULADORA!$C$27>'TIR de Tenencia'!G64,E64,CALCULADORA!$C$33))","v":63657925}," "," ",null,24,9,2026]
[{"$f":"+Flujos!A65","v":"2026-09-24"},{"$f":"+Flujos!L65","v":33587738.232427709},{"$f":"+Flujos!M65","v":962371.90931954014},{"$f":"+Flujos!N65","v":169813.79134668774},{"$f":"+Flujos!O65","v":1132185.7006662278},null,"2026-09-24",{"$f":"IF(G65<CALCULADORA!$C$23,0,IF(CALCULADORA!$C$27>'TIR de Tenencia'!G65,E65,CALCULADORA!$C$33))","v":63657925}," "," ",null,24,10,2026]
[{"$f":"+Flujos!A66","v":"2026-10-24"},{"$f":"+Flujos!L66","v":32633219.20877048},{"$f":"+Flujos!M66","v":954519.02365722903},{"$f":"+Flujos!N66","v":165083.73341238219},{"$f":"+Flujos!O66","v":1119602.7570696112},null,"2026-10-24",{"$f":"IF(G66<CALCULADORA!$C$23,0,IF(CALCULADORA!$C$27>'TIR de Tenencia'!G66,E66,CALCULADORA!$C$33))","v":63657925}," "," ",null,24,11,{"$f":"+IF(M66=1,N65+1,N65)","v":2026}]
[{"$f":"+Flujos!A67","v":"2026-11-24"},{"$f":"+Flujos!L67","v":31686911.773313183},{"$f":"+Flujos!M67","v":946307.4354572976},{"$f":"+Flujos!N67","v":160392.27241110691},{"$f":"+Flujos!O67","v":1106699.7078684045},null,{"$f":"+DATE(N66,M66,L66)","v":"2026-11-24"},{"$f":"IF(G67<CALCULADORA!$C$23,0,IF(CALCULADORA!$C$27>'TIR de Tenencia'!G67,E67,CALCULADORA!$C$33))","v":63657925}," "," ",null,{"$f":"+L66","v":24},{"$f":"+IF(M66=12,1,M66+1)","v":12},2026]
[{"$f":"+Flujos!A68","v":"2026-12-24"},{"$f":"+Flujos!L68","v":30749262.05430153},{"$f":"+Flujos!M68","v":937649.71901165182},{"$f":"+Flujos!N68","v":155741.17136583431},{"$f":"+Flujos!O68","v":1093390.8903774861},null,"2026-12-24",{"$f":"IF(G68<CALCULADORA!$C$23,0,IF(CALCULADORA!$C$27>'TIR de Tenencia'!G68,E68,CALCULADORA!$C$33))","v":63657925},{"$f":"+IF(H68=H67,\" \",G68)","v":" "},{"$f":"+IF(H68=H67,\" \",H68)","v":" "},null,24,1,2027]
[{"$f":"+Flujos!A69","v":"2027-01-24"},{"$f":"+Flujos!L69","v":29819132.231858127},{"$f":"+Flujos!M69","v":930129.822443404},{"$f":"+Flujos!N69","v":151132.62299689202},{"$f":"+Flujos!O69","v":1081262.4454402961},null,"2027-01-24",{"$f":"IF(G69<CALCULADORA!$C$23,0,IF(CALCULADORA!$C$27>'TIR de Tenencia'!G69,E69,CALCULADORA!$C$33))","v":63657925}," "," ",null,24,2,2027]
[{"$f":"+Flujos!A70","v":"2027-02-24"},{"$f":"+Flujos!L70","v":28898918.798922483},{"$f":"+Flujos!M70","v":920213.43293564278},{"$f":"+Flujos!N70","v":146561.03491958269},{"$f":"+Flujos!O70","v":1066774.4678552256},null,"2027-02-24",{"$f":"IF(G70<CALCULADORA!$C$23,0,IF(CALCULADORA!$C$27>'TIR de Tenencia'!G70,E70,CALCULADORA!$C$33))","v":63657925}," "," ",null,24,3,2027]
[{"$f":"+Flujos!A71","v":"2027-03-24"},{"$f":"+Flujos!L71","v":27986776.815919384},{"$f":"+Flujos!M71","v":912141.983003097},{"$f":"+Flujos!N71","v":142038.185896704},{"$f":"+Flujos!O71","v":1054180.1688998011},null,"2027-03-24",{"$f":"IF(G71<CALCULADORA!$C$23,0,IF(CALCULADORA!$C$27>'TIR de Tenencia'!G71,E71,CALCULADORA!$C$33))","v":63657925}," "," ",null,24,4,2027]
[{"$f":"+Flujos!A72","v":"2027-04-24"},{"$f":"+Flujos!L72","v":27084772.358038638},{"$f":"+Flujos!M72","v":902004.45788074541},{"$f":"+Flujos!N72","v":137555.00805024378},{"$f":"+Flujos!O72","v":1039559.4659309892},null,"2027-04-24",{"$f":"IF(G72<CALCULADORA!$C$23,0,IF(CALCULADORA!$C$27>'TIR de Tenencia'!G72,E72,CALCULADORA!$C$33))","v":63657925}," "," ",null,24,5,2027]
[{"$f":"+Flujos!A73","v":"2027-05-24"},{"$f":"+Flujos!L73","v":26191825.46065085},{"$f":"+Flujos!M73","v":892946.89738778828},{"$f":"+Flujos!N73","v":133121.6561397599},{"$f":"+Flujos!O73","v":1026068.5535275482},null,"2027-05-24",{"$f":"IF(G73<CALCULADORA!$C$23,0,IF(CALCULADORA!$C$27>'TIR de Tenencia'!G73,E73,CALCULADORA!$C$33))","v":63657925}," "," ",null,24,6,2027]
[{"$f":"+Flujos!A74","v":"2027-06-24"},{"$f":"+Flujos!L74","v":25340939.328561444},{"$f":"+Flujos!M74","v":850886.13208940753},{"$f":"+Flujos!N74","v":128732.82213909893},{"$f":"+Flujos!O74","v":979618.95422850642},null,"2027-06-24",{"$f":"IF(G74<CALCULADORA!$C$23,0,IF(CALCULADORA!$C$27>'TIR de Tenencia'!G74,E74,CALCULADORA!$C$33))","v":63657925}," "," ",null,24,7,2027]
[{"$f":"+Flujos!A75","v":"2027-07-24"},{"$f":"+Flujos!L75","v":24468207.054825999},{"$f":"+Flujos!M75","v":872732.27373544406},{"$f":"+Flujos!N75","v":124550.7167998795},{"$f":"+Flujos!O75","v":997282.99053532351},null,"2027-07-24",{"$f":"IF(G75<CALCULADORA!$C$23,0,IF(CALCULADORA!$C$27>'TIR de Tenencia'!G75,E75,CALCULADORA!$C$33))","v":63657925}," "," ",null,24,8,2027]
[{"$f":"+Flujos!A76","v":"2027-08-24"},{"$f":"+Flujos!L76","v":23604153.068291046},{"$f":"+Flujos!M76","v":864053.98653495277},{"$f":"+Flujos!N76","v":120261.23767446978},{"$f":"+Flujos!O76","v":984315.22420942259},null,"2027-08-24",{"$f":"IF(G76<CALCULADORA!$C$23,0,IF(CALCULADORA!$C$27>'TIR de Tenencia'!G76,E76,CALCULADORA!$C$33))","v":63657925}," "," ",null,24,9,2027]
[{"$f":"+Flujos!A77","v":"2027-09-24"},{"$f":"+Flujos!L77","v":22749253.067662388},{"$f":"+Flujos!M77","v":854900.00062865694},{"$f":"+Flujos!N77","v":116014.41233065049},{"$f":"+Flujos!O77","v":970914.41295930743},null,"2027-09-24",{"$f":"IF(G77<CALCULADORA!$C$23,0,IF(CALCULADORA!$C$27>'TIR de Tenencia'!G77,E77,CALCULADORA!$C$33))","v":63657925}," "," ",null,24,10,2027]
[{"$f":"+Flujos!A78","v":"2027-10-24"},{"$f":"+Flujos!L78","v":21903166.349812895},{"$f":"+Flujos!M78","v":846086.7178494914},{"$f":"+Flujos!N78","v":111812.57882756065},{"$f":"+Flujos!O78","v":957899.29667705204},null,"2027-10-24",{"$f":"IF(G78<CALCULADORA!$C$23,0,IF(CALCULADORA!$C$27>'TIR de Tenencia'!G78,E78,CALCULADORA!$C$33))","v":63657925}," "," ",null,24,11,2027]
[{"$f":"+Flujos!A79","v":"2027-11-24"},{"$f":"+Flujos!L79","v":21064879.805066422},{"$f":"+Flujos!M79","v":838286.54474647203},{"$f":"+Flujos!N79","v":107654.06260933039},{"$f":"+Flujos!O79","v":945940.60735580244},null,"2027-11-24",{"$f":"IF(G79<CALCULADORA!$C$23,0,IF(CALCULADORA!$C$27>'TIR de Tenencia'!G79,E79,CALCULADORA!$C$33))","v":63657925}," "," ",null,24,12,2027]
[{"$f":"+Flujos!A80","v":"2027-12-24"},{"$f":"+Flujos!L80","v":20236060.950237639},{"$f":"+Flujos!M80","v":828818.85482878063},{"$f":"+Flujos!N80","v":103533.88424190147},{"$f":"+Flujos!O80","v":932352.73907068209},null,"2027-12-24",{"$f":"IF(G80<CALCULADORA!$C$23,0,IF(CALCULADORA!$C$27>'TIR de Tenencia'!G80,E80,CALCULADORA!$C$33))","v":63657925}," "," ",null,24,1,2028]
[{"$f":"+Flujos!A81","v":"2028-01-24"},{"$f":"+Flujos!L81","v":19415616.963975377},{"$f":"+Flujos!M81","v":820443.98626226222},{"$f":"+Flujos!N81","v":99460.239570417994},{"$f":"+Flujos!O81","v":919904.22583268024},null,"2028-01-24",{"$f":"IF(G81<CALCULADORA!$C$23,0,IF(CALCULADORA!$C$27>'TIR de Tenencia'!G81,E81,CALCULADORA!$C$33))","v":63657925}," "," ",null,24,2,2028]
[{"$f":"+Flujos!A82","v":"2028-02-24"},{"$f":"+Flujos!L82","v":18604350.105718613},{"$f":"+Flujos!M82","v":811266.85825676494},{"$f":"+Flujos!N82","v":95427.757377938979},{"$f":"+Flujos!O82","v":906694.61563470389},null,"2028-02-24",{"$f":"IF(G82<CALCULADORA!$C$23,0,IF(CALCULADORA!$C$27>'TIR de Tenencia'!G82,E82,CALCULADORA!$C$33))","v":63657925}," "," ",null,24,3,2028]
[{"$f":"+Flujos!A83","v":"2028-03-24"},{"$f":"+Flujos!L83","v":17801517.256948546},{"$f":"+Flujos!M83","v":802832.84877006535},{"$f":"+Flujos!N83","v":91440.380769606985},{"$f":"+Flujos!O83","v":894273.22953967238},null,"2028-03-24",{"$f":"IF(G83<CALCULADORA!$C$23,0,IF(CALCULADORA!$C$27>'TIR de Tenencia'!G83,E83,CALCULADORA!$C$33))","v":63657925}," "," ",null,24,4,2028]
[{"$f":"+Flujos!A84","v":"2028-04-24"},{"$f":"+Flujos!L84","v":17007932.248153761},{"$f":"+Flujos!M84","v":793585.00879478629},{"$f":"+Flujos!N84","v":87494.45731790211},{"$f":"+Flujos!O84","v":881079.46611268842},null,"2028-04-24",{"$f":"IF(G84<CALCULADORA!$C$23,0,IF(CALCULADORA!$C$27>'TIR de Tenencia'!G84,E84,CALCULADORA!$C$33))","v":63657925}," "," ",null,24,5,2028]
[{"$f":"+Flujos!A85","v":"2028-05-24"},{"$f":"+Flujos!L85","v":16222329.977911249},{"$f":"+Flujos!M85","v":785602.27024251223},{"$f":"+Flujos!N85","v":83593.986999675733},{"$f":"+Flujos!O85","v":869196.25724218797},null,"2028-05-24",{"$f":"IF(G85<CALCULADORA!$C$23,0,IF(CALCULADORA!$C$27>'TIR de Tenencia'!G85,E85,CALCULADORA!$C$33))","v":63657925}," "," ",null,24,6,2028]
[{"$f":"+Flujos!A86","v":"2028-06-24"},{"$f":"+Flujos!L86","v":15478173.921666104},{"$f":"+Flujos!M86","v":744156.05624514399},{"$f":"+Flujos!N86","v":79732.751841433783},{"$f":"+Flujos!O86","v":823888.8080865778},null,"2028-06-24",{"$f":"IF(G86<CALCULADORA!$C$23,0,IF(CALCULADORA!$C$27>'TIR de Tenencia'!G86,E86,CALCULADORA!$C$33))","v":63657925}," "," ",null,24,7,2028]
[{"$f":"+Flujos!A87","v":"2028-07-24"},{"$f":"+Flujos!L87","v":14711703.739102187},{"$f":"+Flujos!M87","v":766470.18256391806},{"$f":"+Flujos!N87","v":76075.224824988909},{"$f":"+Flujos!O87","v":842545.40738890693},null,"2028-07-24",{"$f":"IF(G87<CALCULADORA!$C$23,0,IF(CALCULADORA!$C$27>'TIR de Tenencia'!G87,E87,CALCULADORA!$C$33))","v":63657925}," "," ",null,24,8,2028]
[{"$f":"+Flujos!A88","v":"2028-08-24"},{"$f":"+Flujos!L88","v":13954841.384723347},{"$f":"+Flujos!M88","v":756862.35437884089},{"$f":"+Flujos!N88","v":72308.023877687243},{"$f":"+Flujos!O88","v":829170.37825652817},null,"2028-08-24",{"$f":"IF(G88<CALCULADORA!$C$23,0,IF(CALCULADORA!$C$27>'TIR de Tenencia'!G88,E88,CALCULADORA!$C$33))","v":63657925}," "," ",null,24,9,2028]
[{"$f":"+Flujos!A89","v":"2028-09-24"},{"$f":"+Flujos!L89","v":13209512.795452002},{"$f":"+Flujos!M89","v":745328.58927134366},{"$f":"+Flujos!N89","v":68588.045405915254},{"$f":"+Flujos!O89","v":813916.6346772589},null,"2028-09-24",{"$f":"IF(G89<CALCULADORA!$C$23,0,IF(CALCULADORA!$C$27>'TIR de Tenencia'!G89,E89,CALCULADORA!$C$33))","v":63657925}," "," ",null,24,10,2028]
[{"$f":"+Flujos!A90","v":"2028-10-24"},{"$f":"+Flujos!L90","v":12472901.063546486},{"$f":"+Flujos!M90","v":736611.73190551694},{"$f":"+Flujos!N90","v":64924.755389646591},{"$f":"+Flujos!O90","v":801536.48729516356},null,"2028-10-24",{"$f":"IF(G90<CALCULADORA!$C$23,0,IF(CALCULADORA!$C$27>'TIR de Tenencia'!G90,E90,CALCULADORA!$C$33))","v":63657925}," "," ",null,24,11,2028]
[{"$f":"+Flujos!A91","v":"2028-11-24"},{"$f":"+Flujos!L91","v":11745634.882701766},{"$f":"+Flujos!M91","v":727266.18084472127},{"$f":"+Flujos!N91","v":61304.308727330979},{"$f":"+Flujos!O91","v":788570.48957205226},null,"2028-11-24",{"$f":"IF(G91<CALCULADORA!$C$23,0,IF(CALCULADORA!$C$27>'TIR de Tenencia'!G91,E91,CALCULADORA!$C$33))","v":63657925}," "," ",null,24,12,2028]
[{"$f":"+Flujos!A92","v":"2028-12-24"},{"$f":"+Flujos!L92","v":11027304.123493105},{"$f":"+Flujos!M92","v":718330.75920865987},{"$f":"+Flujos!N92","v":57729.795448479177},{"$f":"+Flujos!O92","v":776060.554657139},null,"2028-12-24",{"$f":"IF(G92<CALCULADORA!$C$23,0,IF(CALCULADORA!$C$27>'TIR de Tenencia'!G92,E92,CALCULADORA!$C$33))","v":63657925}," "," ",null,24,1,2029]
[{"$f":"+Flujos!A93","v":"2029-01-24"},{"$f":"+Flujos!L93","v":10317902.357559618},{"$f":"+Flujos!M93","v":709401.76593348791},{"$f":"+Flujos!N93","v":54199.19976696861},{"$f":"+Flujos!O93","v":763600.96570045652},null,"2029-01-24",{"$f":"IF(G93<CALCULADORA!$C$23,0,IF(CALCULADORA!$C$27>'TIR de Tenencia'!G93,E93,CALCULADORA!$C$33))","v":63657925}," "," ",null,24,2,2029]
[{"$f":"+Flujos!A94","v":"2029-02-24"},{"$f":"+Flujos!L94","v":9618017.1370865796},{"$f":"+Flujos!M94","v":699885.22047303803},{"$f":"+Flujos!N94","v":50712.490087405524},{"$f":"+Flujos!O94","v":750597.71056044358},null,"2029-02-24",{"$f":"IF(G94<CALCULADORA!$C$23,0,IF(CALCULADORA!$C$27>'TIR de Tenencia'!G94,E94,CALCULADORA!$C$33))","v":63657925}," "," ",null,24,3,2029]
[{"$f":"+Flujos!A95","v":"2029-03-24"},{"$f":"+Flujos!L95","v":8927064.7669052463},{"$f":"+Flujos!M95","v":690952.37018133246},{"$f":"+Flujos!N95","v":47272.554228780537},{"$f":"+Flujos!O95","v":738224.92441011302},null,"2029-03-24",{"$f":"IF(G95<CALCULADORA!$C$23,0,IF(CALCULADORA!$C$27>'TIR de Tenencia'!G95,E95,CALCULADORA!$C$33))","v":63657925}," "," ",null,24,4,2029]
[{"$f":"+Flujos!A96","v":"2029-04-24"},{"$f":"+Flujos!L96","v":8245772.9374682829},{"$f":"+Flujos!M96","v":681291.82943696342},{"$f":"+Flujos!N96","v":43876.523329339288},{"$f":"+Flujos!O96","v":725168.35276630276},null,"2029-04-24",{"$f":"IF(G96<CALCULADORA!$C$23,0,IF(CALCULADORA!$C$27>'TIR de Tenencia'!G96,E96,CALCULADORA!$C$33))","v":63657925}," "," ",null,24,5,2029]
[{"$f":"+Flujos!A97","v":"2029-05-24"},{"$f":"+Flujos!L97","v":7574014.367230081},{"$f":"+Flujos!M97","v":671758.57023820153},{"$f":"+Flujos!N97","v":40527.973987656609},{"$f":"+Flujos!O97","v":712286.54422585818},null,"2029-05-24",{"$f":"IF(G97<CALCULADORA!$C$23,0,IF(CALCULADORA!$C$27>'TIR de Tenencia'!G97,E97,CALCULADORA!$C$33))","v":63657925}," "," ",null,24,6,2029]
[{"$f":"+Flujos!A98","v":"2029-06-24"},{"$f":"+Flujos!L98","v":6945982.7934327545},{"$f":"+Flujos!M98","v":628031.57379732642},{"$f":"+Flujos!N98","v":37226.280614935851},{"$f":"+Flujos!O98","v":665257.85441226233},null,"2029-06-24",{"$f":"IF(G98<CALCULADORA!$C$23,0,IF(CALCULADORA!$C$27>'TIR de Tenencia'!G98,E98,CALCULADORA!$C$33))","v":63657925}," "," ",null,24,7,2029]
[{"$f":"+Flujos!A99","v":"2029-07-24"},{"$f":"+Flujos!L99","v":6295703.9482699018},{"$f":"+Flujos!M99","v":650278.84516285243},{"$f":"+Flujos!N99","v":34139.50542972199},{"$f":"+Flujos!O99","v":684418.35059257445},null,{"$f":"+DATE(N98,M98,L98)","v":"2029-07-24"},{"$f":"IF(G99<CALCULADORA!$C$23,0,IF(CALCULADORA!$C$27>'TIR de Tenencia'!G99,E99,CALCULADORA!$C$33))","v":63657925}," "," ",null,24,8,2029]
[{"$f":"+Flujos!A100","v":"2029-08-24"},{"$f":"+Flujos!L100","v":5658477.2470565885},{"$f":"+Flujos!M100","v":637226.70121331362},{"$f":"+Flujos!N100","v":30943.384905746567},{"$f":"+Flujos!O100","v":668170.08611906017},null,"2029-08-24",{"$f":"IF(G100<CALCULADORA!$C$23,0,IF(CALCULADORA!$C$27>'TIR de Tenencia'!G100,E100,CALCULADORA!$C$33))","v":63657925}," "," ",null,24,9,2029]
[{"$f":"+Flujos!A101","v":"2029-09-24"},{"$f":"+Flujos!L101","v":5037185.1668155547},{"$f":"+Flujos!M101","v":621292.08024103392},{"$f":"+Flujos!N101","v":27811.415669283135},{"$f":"+Flujos!O101","v":649103.49591031705},null,"2029-09-24",{"$f":"IF(G101<CALCULADORA!$C$23,0,IF(CALCULADORA!$C$27>'TIR de Tenencia'!G101,E101,CALCULADORA!$C$33))","v":63657925}," "," ",null,24,10,2029]
[{"$f":"+Flujos!A102","v":"2029-10-24"},{"$f":"+Flujos!L102","v":5037185.1668155547},{"$f":"+Flujos!M102","v":0},{"$f":"+Flujos!N102","v":24757.765094898452},{"$f":"+Flujos!O102","v":24757.765094898452},null,"2029-10-24",{"$f":"IF(G102<CALCULADORA!$C$23,0,IF(CALCULADORA!$C$27>'TIR de Tenencia'!G102,E102,CALCULADORA!$C$33))","v":63657925}," "," ",null,24,11,2029]
[{"$f":"+Flujos!A103","v":"2029-11-24"},{"$f":"+Flujos!L103","v":5037185.1668155547},{"$f":"+Flujos!M103","v":0},{"$f":"+Flujos!N103","v":24757.765094898452},{"$f":"+Flujos!O103","v":24757.765094898452},null,"2029-11-24",{"$f":"IF(G103<CALCULADORA!$C$23,0,IF(CALCULADORA!$C$27>'TIR de Tenencia'!G103,E103,CALCULADORA!$C$33))","v":63657925}," "," ",null,24,12,2029]
[{"$f":"+Flujos!A104","v":"2029-12-24"},{"$f":"+Flujos!L104","v":5037185.1668155547},{"$f":"+Flujos!M104","v":0},{"$f":"+Flujos!N104","v":24757.765094898452},{"$f":"+Flujos!O104","v":24757.765094898452},null,"2029-12-24",{"$f":"IF(G104<CALCULADORA!$C$23,0,IF(CALCULADORA!$C$27>'TIR de Tenencia'!G104,E104,CALCULADORA!$C$33))","v":63657925}," "," ",null,24,1,2030]
[{"$f":"+Flujos!A105","v":"2030-01-24"},{"$f":"+Flujos!L105","v":5037185.1668155547},{"$f":"+Flujos!M105","v":0},{"$f":"+Flujos!N105","v":24757.765094898452},{"$f":"+Flujos!O105","v":24757.765094898452},null,"2030-01-24",{"$f":"IF(G105<CALCULADORA!$C$23,0,IF(CALCULADORA!$C$27>'TIR de Tenencia'!G105,E105,CALCULADORA!$C$33))","v":63657925}," "," ",null,24,2,2030]
[{"$f":"+Flujos!A106","v":"2030-02-24"},{"$f":"+Flujos!L106","v":5037185.1668155547},{"$f":"+Flujos!M106","v":0},{"$f":"+Flujos!N106","v":24757.765094898452},{"$f":"+Flujos!O106","v":24757.765094898452},null,"2030-02-24",{"$f":"IF(G106<CALCULADORA!$C$23,0,IF(CALCULADORA!$C$27>'TIR de Tenencia'!G106,E106,CALCULADORA!$C$33))","v":63657925}," "," ",null,24,3,2030]
[{"$f":"+Flujos!A107","v":"2030-03-24"},{"$f":"+Flujos!L107","v":5037185.1668155547},{"$f":"+Flujos!M107","v":0},{"$f":"+Flujos!N107","v":24757.765094898452},{"$f":"+Flujos!O107","v":24757.765094898452},null,"2030-03-24",{"$f":"IF(G107<CALCULADORA!$C$23,0,IF(CALCULADORA!$C$27>'TIR de Tenencia'!G107,E107,CALCULADORA!$C$33))","v":63657925}," "," ",null,24,4,2030]
[{"$f":"+Flujos!A108","v":"2030-04-24"},{"$f":"+Flujos!L108","v":5037185.1668155547},{"$f":"+Flujos!M108","v":0},{"$f":"+Flujos!N108","v":24757.765094898452},{"$f":"+Flujos!O108","v":24757.765094898452},null,"2030-04-24",{"$f":"IF(G108<CALCULADORA!$C$23,0,IF(CALCULADORA!$C$27>'TIR de Tenencia'!G108,E108,CALCULADORA!$C$33))","v":63657925}," "," ",null,24,5,2030]
[{"$f":"+Flujos!A109","v":"2030-05-24"},{"$f":"+Flujos!L109","v":5037185.1668155547},{"$f":"+Flujos!M109","v":0},{"$f":"+Flujos!N109","v":24757.765094898452},{"$f":"+Flujos!O109","v":24757.765094898452},null,"2030-05-24",{"$f":"IF(G109<CALCULADORA!$C$23,0,IF(CALCULADORA!$C$27>'TIR de Tenencia'!G109,E109,CALCULADORA!$C$33))","v":63657925}," "," ",null,24,6,2030]
[{"$f":"+Flujos!A110","v":"2030-06-24"},{"$f":"+Flujos!L110","v":5037185.1668155547},{"$f":"+Flujos!M110","v":0},{"$f":"+Flujos!N110","v":24757.765094898452},{"$f":"+Flujos!O110","v":24757.765094898452},null,"2030-06-24",{"$f":"IF(G110<CALCULADORA!$C$23,0,IF(CALCULADORA!$C$27>'TIR de Tenencia'!G110,E110,CALCULADORA!$C$33))","v":63657925}," "," ",null,24,7,2030]
[{"$f":"+Flujos!A111","v":"2030-07-24"},{"$f":"+Flujos!L111","v":5037185.1668155547},{"$f":"+Flujos!M111","v":0},{"$f":"+Flujos!N111","v":24757.765094898452},{"$f":"+Flujos!O111","v":24757.765094898452},null,"2030-07-24",{"$f":"IF(G111<CALCULADORA!$C$23,0,IF(CALCULADORA!$C$27>'TIR de Tenencia'!G111,E111,CALCULADORA!$C$33))","v":63657925}," "," ",null,24,8,{"$f":"+IF(M111=1,N110+1,N110)","v":2030}]
[{"$f":"+Flujos!A112","v":"2030-08-24"},{"$f":"+Flujos!L112","v":5037185.1668155547},{"$f":"+Flujos!M112","v":0},{"$f":"+Flujos!N112","v":24757.765094898452},{"$f":"+Flujos!O112","v":24757.765094898452},null,"2030-08-24",{"$f":"IF(G112<CALCULADORA!$C$23,0,IF(CALCULADORA!$C$27>'TIR de Tenencia'!G112,E112,CALCULADORA!$C$33))","v":63657925}," "," ",null,24,9,2030]
[{"$f":"+Flujos!A113","v":"2030-09-24"},{"$f":"+Flujos!L113","v":5037185.1668155547},{"$f":"+Flujos!M113","v":0},{"$f":"+Flujos!N113","v":24757.765094898452},{"$f":"+Flujos!O113","v":24757.765094898452},null,"2030-09-24",{"$f":"IF(G113<CALCULADORA!$C$23,0,IF(CALCULADORA!$C$27>'TIR de Tenencia'!G113,E113,CALCULADORA!$C$33))","v":63657925}," "," ",null,24,10,2030]
[{"$f":"+Flujos!A114","v":"2030-10-24"},{"$f":"+Flujos!L114","v":5037185.1668155547},{"$f":"+Flujos!M114","v":0},{"$f":"+Flujos!N114","v":24757.765094898452},{"$f":"+Flujos!O114","v":24757.765094898452},null,"2030-10-24",{"$f":"IF(G114<CALCULADORA!$C$23,0,IF(CALCULADORA!$C$27>'TIR de Tenencia'!G114,E114,CALCULADORA!$C$33))","v":63657925}," "," ",null,24,11,2030]
[{"$f":"+Flujos!A115","v":"2030-11-24"},{"$f":"+Flujos!L115","v":5037185.1668155547},{"$f":"+Flujos!M115","v":0},{"$f":"+Flujos!N115","v":24757.765094898452},{"$f":"+Flujos!O115","v":24757.765094898452},null,"2030-11-24",{"$f":"IF(G115<CALCULADORA!$C$23,0,IF(CALCULADORA!$C$27>'TIR de Tenencia'!G115,E115,CALCULADORA!$C$33))","v":63657925}," "," ",null,24,12,2030]
[{"$f":"+Flujos!A116","v":"2030-12-24"},{"$f":"+Flujos!L116","v":5037185.1668155547},{"$f":"+Flujos!M116","v":0},{"$f":"+Flujos!N116","v":24757.765094898452},{"$f":"+Flujos!O116","v":24757.765094898452},null,"2030-12-24",{"$f":"IF(G116<CALCULADORA!$C$23,0,IF(CALCULADORA!$C$27>'TIR de Tenencia'!G116,E116,CALCULADORA!$C$33))","v":63657925}," "," ",null,24,1,2031]
[{"$f":"+Flujos!A117","v":"2031-01-24"},{"$f":"+Flujos!L117","v":4979544.6260659806},{"$f":"+Flujos!M117","v":57640.54074957376},{"$f":"+Flujos!N117","v":24757.765094898452},{"$f":"+Flujos!O117","v":82398.305844472212},null,"2031-01-24",{"$f":"IF(G117<CALCULADORA!$C$23,0,IF(CALCULADORA!$C$27>'TIR de Tenencia'!G117,E117,CALCULADORA!$C$33))","v":63657925}," "," ",null,24,2,2031]
[{"$f":"+Flujos!A118","v":"2031-02-24"},{"$f":"+Flujos!L118","v":4522471.453101798},{"$f":"+Flujos!M118","v":457073.17296418303},{"$f":"+Flujos!N118","v":24474.461837114297},{"$f":"+Flujos!O118","v":481547.63480129733},null,"2031-02-24",{"$f":"IF(G118<CALCULADORA!$C$23,0,IF(CALCULADORA!$C$27>'TIR de Tenencia'!G118,E118,CALCULADORA!$C$33))","v":63657925}," "," ",null,24,3,2031]
[{"$f":"+Flujos!A119","v":"2031-03-24"},{"$f":"+Flujos!L119","v":4071496.22327716},{"$f":"+Flujos!M119","v":450975.22982463782},{"$f":"+Flujos!N119","v":22227.947191995336},{"$f":"+Flujos!O119","v":473203.17701663316},null,"2031-03-24",{"$f":"IF(G119<CALCULADORA!$C$23,0,IF(CALCULADORA!$C$27>'TIR de Tenencia'!G119,E119,CALCULADORA!$C$33))","v":63657925}," "," ",null,24,4,2031]
[{"$f":"+Flujos!A120","v":"2031-04-24"},{"$f":"+Flujos!L120","v":3625515.8298634714},{"$f":"+Flujos!M120","v":445980.39341368841},{"$f":"+Flujos!N120","v":20011.403937407242},{"$f":"+Flujos!O120","v":465991.79735109565},null,"2031-04-24",{"$f":"IF(G120<CALCULADORA!$C$23,0,IF(CALCULADORA!$C$27>'TIR de Tenencia'!G120,E120,CALCULADORA!$C$33))","v":63657925}," "," ",null,24,5,2031]
[{"$f":"+Flujos!A121","v":"2031-05-24"},{"$f":"+Flujos!L121","v":3184136.8571743099},{"$f":"+Flujos!M121","v":441378.97268916131},{"$f":"+Flujos!N121","v":17819.410303778961},{"$f":"+Flujos!O121","v":459198.38299294026},null,"2031-05-24",{"$f":"IF(G121<CALCULADORA!$C$23,0,IF(CALCULADORA!$C$27>'TIR de Tenencia'!G121,E121,CALCULADORA!$C$33))","v":63657925}," "," ",null,24,6,2031]
[{"$f":"+Flujos!A122","v":"2031-06-24"},{"$f":"+Flujos!L122","v":2786504.1660086913},{"$f":"+Flujos!M122","v":397632.69116561848},{"$f":"+Flujos!N122","v":15650.032653011733},{"$f":"+Flujos!O122","v":413282.72381863021},null,"2031-06-24",{"$f":"IF(G122<CALCULADORA!$C$23,0,IF(CALCULADORA!$C$27>'TIR de Tenencia'!G122,E122,CALCULADORA!$C$33))","v":63657925}," "," ",null,24,7,2031]
[{"$f":"+Flujos!A123","v":"2031-07-24"},{"$f":"+Flujos!L123","v":2355163.7216841872},{"$f":"+Flujos!M123","v":431340.44432450423},{"$f":"+Flujos!N123","v":13695.667975932718},{"$f":"+Flujos!O123","v":445036.11230043694},null,"2031-07-24",{"$f":"IF(G123<CALCULADORA!$C$23,0,IF(CALCULADORA!$C$27>'TIR de Tenencia'!G123,E123,CALCULADORA!$C$33))","v":63657925}," "," ",null,24,8,2031]
[{"$f":"+Flujos!A124","v":"2031-08-24"},{"$f":"+Flujos!L124","v":1928220.2762079318},{"$f":"+Flujos!M124","v":426943.44547625532},{"$f":"+Flujos!N124","v":11575.62969207778},{"$f":"+Flujos!O124","v":438519.07516833307},null,"2031-08-24",{"$f":"IF(G124<CALCULADORA!$C$23,0,IF(CALCULADORA!$C$27>'TIR de Tenencia'!G124,E124,CALCULADORA!$C$33))","v":63657925}," "," ",null,24,9,2031]
[{"$f":"+Flujos!A125","v":"2031-09-24"},{"$f":"+Flujos!L125","v":1505781.8260428649},{"$f":"+Flujos!M125","v":422438.45016506698},{"$f":"+Flujos!N125","v":9477.2026575619857},{"$f":"+Flujos!O125","v":431915.65282262897},null,"2031-09-24",{"$f":"IF(G125<CALCULADORA!$C$23,0,IF(CALCULADORA!$C$27>'TIR de Tenencia'!G125,E125,CALCULADORA!$C$33))","v":63657925}," "," ",null,24,10,2031]
[{"$f":"+Flujos!A126","v":"2031-10-24"},{"$f":"+Flujos!L126","v":1088006.5088668619},{"$f":"+Flujos!M126","v":417775.31717600307},{"$f":"+Flujos!N126","v":7400.9176750006809},{"$f":"+Flujos!O126","v":425176.23485100374},null,"2031-10-24",{"$f":"IF(G126<CALCULADORA!$C$23,0,IF(CALCULADORA!$C$27>'TIR de Tenencia'!G126,E126,CALCULADORA!$C$33))","v":63657925}," "," ",null,24,11,2031]
[{"$f":"+Flujos!A127","v":"2031-11-24"},{"$f":"+Flujos!L127","v":675390.59414057317},{"$f":"+Flujos!M127","v":412615.91472628881},{"$f":"+Flujos!N127","v":5347.5519910806261},{"$f":"+Flujos!O127","v":417963.46671736945},null,"2031-11-24",{"$f":"IF(G127<CALCULADORA!$C$23,0,IF(CALCULADORA!$C$27>'TIR de Tenencia'!G127,E127,CALCULADORA!$C$33))","v":63657925}," "," ",null,24,12,2031]
[{"$f":"+Flujos!A128","v":"2031-12-24"},{"$f":"+Flujos!L128","v":267190.96334520105},{"$f":"+Flujos!M128","v":408199.63079537213},{"$f":"+Flujos!N128","v":3319.5447702009174},{"$f":"+Flujos!O128","v":411519.17556557304},null,"2031-12-24",{"$f":"IF(G128<CALCULADORA!$C$23,0,IF(CALCULADORA!$C$27>'TIR de Tenencia'!G128,E128,CALCULADORA!$C$33))","v":63657925}," "," ",null,24,1,2032]
[{"$f":"+Flujos!A129","v":"2032-01-24"},{"$f":"+Flujos!L129","v":-5.6170392781496048E-8},{"$f":"+Flujos!M129","v":267190.96334525722},{"$f":"+Flujos!N129","v":1313.2435848416633},{"$f":"+Flujos!O129","v":268504.20693009888},null,"2032-01-24",{"$f":"IF(G129<CALCULADORA!$C$23,0,IF(CALCULADORA!$C$27>'TIR de Tenencia'!G129,E129,CALCULADORA!$C$33))","v":63657925}," "," ",null,24,2,2032]
[{"$f":"+Flujos!A130","v":"2032-02-24"},{"$f":"+Flujos!L130","v":-5.6170392781496048E-8},{"$f":"+Flujos!M130","v":0},{"$f":"+Flujos!N130","v":-2.760774805210531E-10},{"$f":"+Flujos!O130","v":-2.760774805210531E-10},null,"2032-02-24",{"$f":"IF(G130<CALCULADORA!$C$23,0,IF(CALCULADORA!$C$27>'TIR de Tenencia'!G130,E130,CALCULADORA!$C$33))","v":63657925}," "," ",null,24,3,2032]
[{"$f":"+Flujos!A131","v":"2032-03-24"},{"$f":"+Flujos!L131","v":-5.6170392781496048E-8},{"$f":"+Flujos!M131","v":0},{"$f":"+Flujos!N131","v":-2.760774805210531E-10},{"$f":"+Flujos!O131","v":-2.760774805210531E-10},null,{"$f":"+DATE(N130,M130,L130)","v":"2032-03-24"},{"$f":"IF(G131<CALCULADORA!$C$23,0,IF(CALCULADORA!$C$27>'TIR de Tenencia'!G131,E131,CALCULADORA!$C$33))","v":63657925}," "," ",null,{"$f":"+L130","v":24},{"$f":"+IF(M130=12,1,M130+1)","v":4},{"$f":"+IF(M131=1,N130+1,N130)","v":2032}]
[{"$f":"+Flujos!A132","v":"2032-04-24"},{"$f":"+Flujos!L132","v":-5.6170392781496048E-8},{"$f":"+Flujos!M132","v":0},{"$f":"+Flujos!N132","v":-2.760774805210531E-10},{"$f":"+Flujos!O132","v":-2.760774805210531E-10},null,"2032-04-24",{"$f":"IF(G132<CALCULADORA!$C$23,0,IF(CALCULADORA!$C$27>'TIR de Tenencia'!G132,E132,CALCULADORA!$C$33))","v":63657925},{"$f":"+IF(H132=H131,\" \",G132)","v":" "},{"$f":"+IF(H132=H131,\" \",H132)","v":" "},null,24,5,2032]
[{"$f":"+Flujos!A133","v":"2032-05-24"},{"$f":"+Flujos!L133","v":-5.6170392781496048E-8},{"$f":"+Flujos!M133","v":0},{"$f":"+Flujos!N133","v":-2.760774805210531E-10},{"$f":"+Flujos!O133","v":-2.760774805210531E-10},null,"2032-05-24",{"$f":"IF(G133<CALCULADORA!$C$23,0,IF(CALCULADORA!$C$27>'TIR de Tenencia'!G133,E133,CALCULADORA!$C$33))","v":63657925}," "," ",null,24,6,2032]
[{"$f":"+Flujos!A134","v":"2032-06-24"},{"$f":"+Flujos!L134","v":-5.6170392781496048E-8},{"$f":"+Flujos!M134","v":0},{"$f":"+Flujos!N134","v":-2.760774805210531E-10},{"$f":"+Flujos!O134","v":-2.760774805210531E-10},null,"2032-06-24",{"$f":"IF(G134<CALCULADORA!$C$23,0,IF(CALCULADORA!$C$27>'TIR de Tenencia'!G134,E134,CALCULADORA!$C$33))","v":63657925}," "," ",null,24,7,2032]
[{"$f":"+Flujos!A135","v":"2032-07-24"},{"$f":"+Flujos!L135","v":-5.6170392781496048E-8},{"$f":"+Flujos!M135","v":0},{"$f":"+Flujos!N135","v":-2.760774805210531E-10},{"$f":"+Flujos!O135","v":-2.760774805210531E-10},null,"2032-07-24",{"$f":"IF(G135<CALCULADORA!$C$23,0,IF(CALCULADORA!$C$27>'TIR de Tenencia'!G135,E135,CALCULADORA!$C$33))","v":63657925}," "," ",null,24,8,2032]
[{"$f":"+Flujos!A136","v":"2032-08-24"},{"$f":"+Flujos!L136","v":-5.6170392781496048E-8},{"$f":"+Flujos!M136","v":0},{"$f":"+Flujos!N136","v":-2.760774805210531E-10},{"$f":"+Flujos!O136","v":-2.760774805210531E-10},null,"2032-08-24",{"$f":"IF(G136<CALCULADORA!$C$23,0,IF(CALCULADORA!$C$27>'TIR de Tenencia'!G136,E136,CALCULADORA!$C$33))","v":63657925}," "," ",null,24,9,2032]
[{"$f":"+Flujos!A137","v":"2032-09-24"},{"$f":"+Flujos!L137","v":-5.6170392781496048E-8},{"$f":"+Flujos!M137","v":0},{"$f":"+Flujos!N137","v":-2.760774805210531E-10},{"$f":"+Flujos!O137","v":-2.760774805210531E-10},null,"2032-09-24",{"$f":"IF(G137<CALCULADORA!$C$23,0,IF(CALCULADORA!$C$27>'TIR de Tenencia'!G137,E137,CALCULADORA!$C$33))","v":63657925}," "," ",null,24,10,2032]
[{"$f":"+Flujos!A138","v":"2032-10-24"},{"$f":"+Flujos!L138","v":-5.6170392781496048E-8},{"$f":"+Flujos!M138","v":0},{"$f":"+Flujos!N138","v":-2.760774805210531E-10},{"$f":"+Flujos!O138","v":-2.760774805210531E-10},null,"2032-10-24",{"$f":"IF(G138<CALCULADORA!$C$23,0,IF(CALCULADORA!$C$27>'TIR de Tenencia'!G138,E138,CALCULADORA!$C$33))","v":63657925}," "," ",null,24,11,2032]
[{"$f":"+Flujos!A139","v":"2032-11-24"},{"$f":"+Flujos!L139","v":-5.6170392781496048E-8},{"$f":"+Flujos!M139","v":0},{"$f":"+Flujos!N139","v":-2.760774805210531E-10},{"$f":"+Flujos!O139","v":-2.760774805210531E-10},null,"2032-11-24",{"$f":"IF(G139<CALCULADORA!$C$23,0,IF(CALCULADORA!$C$27>'TIR de Tenencia'!G139,E139,CALCULADORA!$C$33))","v":63657925}," "," ",null,24,12,2032]
[{"$f":"+Flujos!A140","v":"2032-12-24"},{"$f":"+Flujos!L140","v":-5.6170392781496048E-8},{"$f":"+Flujos!M140","v":0},{"$f":"+Flujos!N140","v":-2.760774805210531E-10},{"$f":"+Flujos!O140","v":-2.760774805210531E-10},null,"2032-12-24",{"$f":"IF(G140<CALCULADORA!$C$23,0,IF(CALCULADORA!$C$27>'TIR de Tenencia'!G140,E140,CALCULADORA!$C$33))","v":63657925}," "," ",null,24,1,2033]
[{"$f":"+Flujos!A141","v":"2033-01-24"},{"$f":"+Flujos!L141","v":-5.6170392781496048E-8},{"$f":"+Flujos!M141","v":0},{"$f":"+Flujos!N141","v":-2.760774805210531E-10},{"$f":"+Flujos!O141","v":-2.760774805210531E-10},null,"2033-01-24",{"$f":"IF(G141<CALCULADORA!$C$23,0,IF(CALCULADORA!$C$27>'TIR de Tenencia'!G141,E141,CALCULADORA!$C$33))","v":63657925}," "," ",null,24,2,2033]
[{"$f":"+Flujos!A142","v":"2033-02-24"},{"$f":"+Flujos!L142","v":-5.6170392781496048E-8},{"$f":"+Flujos!M142","v":0},{"$f":"+Flujos!N142","v":-2.760774805210531E-10},{"$f":"+Flujos!O142","v":-2.760774805210531E-10},null,"2033-02-24",{"$f":"IF(G142<CALCULADORA!$C$23,0,IF(CALCULADORA!$C$27>'TIR de Tenencia'!G142,E142,CALCULADORA!$C$33))","v":63657925}," "," ",null,24,3,2033]
[{"$f":"+Flujos!A143","v":"2033-03-24"},{"$f":"+Flujos!L143","v":-5.6170392781496048E-8},{"$f":"+Flujos!M143","v":0},{"$f":"+Flujos!N143","v":-2.760774805210531E-10},{"$f":"+Flujos!O143","v":-2.760774805210531E-10},null,"2033-03-24",{"$f":"IF(G143<CALCULADORA!$C$23,0,IF(CALCULADORA!$C$27>'TIR de Tenencia'!G143,E143,CALCULADORA!$C$33))","v":63657925}," "," ",null,24,4,2033]
[{"$f":"+Flujos!A144","v":"2033-04-24"},{"$f":"+Flujos!L144","v":-5.6170392781496048E-8},{"$f":"+Flujos!M144","v":0},{"$f":"+Flujos!N144","v":-2.760774805210531E-10},{"$f":"+Flujos!O144","v":-2.760774805210531E-10},null,"2033-04-24",{"$f":"IF(G144<CALCULADORA!$C$23,0,IF(CALCULADORA!$C$27>'TIR de Tenencia'!G144,E144,CALCULADORA!$C$33))","v":63657925}," "," ",null,24,5,2033]
[{"$f":"+Flujos!A145","v":"2033-05-24"},{"$f":"+Flujos!L145","v":-5.6170392781496048E-8},{"$f":"+Flujos!M145","v":0},{"$f":"+Flujos!N145","v":-2.760774805210531E-10},{"$f":"+Flujos!O145","v":-2.760774805210531E-10},null,"2033-05-24",{"$f":"IF(G145<CALCULADORA!$C$23,0,IF(CALCULADORA!$C$27>'TIR de Tenencia'!G145,E145,CALCULADORA!$C$33))","v":63657925}," "," ",null,24,6,2033]
[{"$f":"+Flujos!A146","v":"2033-06-24"},{"$f":"+Flujos!L146","v":-5.6170392781496048E-8},{"$f":"+Flujos!M146","v":0},{"$f":"+Flujos!N146","v":-2.760774805210531E-10},{"$f":"+Flujos!O146","v":-2.760774805210531E-10},null,"2033-06-24",{"$f":"IF(G146<CALCULADORA!$C$23,0,IF(CALCULADORA!$C$27>'TIR de Tenencia'!G146,E146,CALCULADORA!$C$33))","v":63657925}," "," ",null,24,7,2033]
[{"$f":"+Flujos!A147","v":"2033-07-24"},{"$f":"+Flujos!L147","v":-5.6170392781496048E-8},{"$f":"+Flujos!M147","v":0},{"$f":"+Flujos!N147","v":-2.760774805210531E-10},{"$f":"+Flujos!O147","v":-2.760774805210531E-10},null,"2033-07-24",{"$f":"IF(G147<CALCULADORA!$C$23,0,IF(CALCULADORA!$C$27>'TIR de Tenencia'!G147,E147,CALCULADORA!$C$33))","v":63657925}," "," ",null,24,8,2033]
[{"$f":"+Flujos!A148","v":"2033-08-24"},{"$f":"+Flujos!L148","v":-5.6170392781496048E-8},{"$f":"+Flujos!M148","v":0},{"$f":"+Flujos!N148","v":-2.760774805210531E-10},{"$f":"+Flujos!O148","v":-2.760774805210531E-10},null,"2033-08-24",{"$f":"IF(G148<CALCULADORA!$C$23,0,IF(CALCULADORA!$C$27>'TIR de Tenencia'!G148,E148,CALCULADORA!$C$33))","v":63657925}," "," ",null,24,9,2033]
[{"$f":"+Flujos!A149","v":"2033-09-24"},{"$f":"+Flujos!L149","v":-5.6170392781496048E-8},{"$f":"+Flujos!M149","v":0},{"$f":"+Flujos!N149","v":-2.760774805210531E-10},{"$f":"+Flujos!O149","v":-2.760774805210531E-10},null,"2033-09-24",{"$f":"IF(G149<CALCULADORA!$C$23,0,IF(CALCULADORA!$C$27>'TIR de Tenencia'!G149,E149,CALCULADORA!$C$33))","v":63657925}," "," ",null,24,10,2033]
[{"$f":"+Flujos!A150","v":"2033-10-24"},{"$f":"+Flujos!L150","v":-5.6170392781496048E-8},{"$f":"+Flujos!M150","v":0},{"$f":"+Flujos!N150","v":-2.760774805210531E-10},{"$f":"+Flujos!O150","v":-2.760774805210531E-10},null,"2033-10-24",{"$f":"IF(G150<CALCULADORA!$C$23,0,IF(CALCULADORA!$C$27>'TIR de Tenencia'!G150,E150,CALCULADORA!$C$33))","v":63657925}," "," ",null,24,11,2033]
[{"$f":"+Flujos!A151","v":"2033-11-24"},{"$f":"+Flujos!L151","v":-5.6170392781496048E-8},{"$f":"+Flujos!M151","v":0},{"$f":"+Flujos!N151","v":-2.760774805210531E-10},{"$f":"+Flujos!O151","v":-2.760774805210531E-10},null,"2033-11-24",{"$f":"IF(G151<CALCULADORA!$C$23,0,IF(CALCULADORA!$C$27>'TIR de Tenencia'!G151,E151,CALCULADORA!$C$33))","v":63657925}," "," ",null,24,12,2033]
[{"$f":"+Flujos!A152","v":"2033-12-24"},{"$f":"+Flujos!L152","v":-5.6170392781496048E-8},{"$f":"+Flujos!M152","v":0},{"$f":"+Flujos!N152","v":-2.760774805210531E-10},{"$f":"+Flujos!O152","v":-2.760774805210531E-10},null,"2033-12-24",{"$f":"IF(G152<CALCULADORA!$C$23,0,IF(CALCULADORA!$C$27>'TIR de Tenencia'!G152,E152,CALCULADORA!$C$33))","v":63657925}," "," ",null,24,1,2034]
[{"$f":"+Flujos!A153","v":"2034-01-24"},{"$f":"+Flujos!L153","v":-5.6170392781496048E-8},{"$f":"+Flujos!M153","v":0},{"$f":"+Flujos!N153","v":-2.760774805210531E-10},{"$f":"+Flujos!O153","v":-2.760774805210531E-10},null,"2034-01-24",{"$f":"IF(G153<CALCULADORA!$C$23,0,IF(CALCULADORA!$C$27>'TIR de Tenencia'!G153,E153,CALCULADORA!$C$33))","v":63657925}," "," ",null,24,2,2034]
[{"$f":"+Flujos!A154","v":"2034-02-24"},{"$f":"+Flujos!L154","v":-5.6170392781496048E-8},{"$f":"+Flujos!M154","v":0},{"$f":"+Flujos!N154","v":-2.760774805210531E-10},{"$f":"+Flujos!O154","v":-2.760774805210531E-10},null,"2034-02-24",{"$f":"IF(G154<CALCULADORA!$C$23,0,IF(CALCULADORA!$C$27>'TIR de Tenencia'!G154,E154,CALCULADORA!$C$33))","v":63657925}," "," ",null,24,3,2034]
[{"$f":"+Flujos!A155","v":"2034-03-24"},{"$f":"+Flujos!L155","v":-5.6170392781496048E-8},{"$f":"+Flujos!M155","v":0},{"$f":"+Flujos!N155","v":-2.760774805210531E-10},{"$f":"+Flujos!O155","v":-2.760774805210531E-10},null,"2034-03-24",{"$f":"IF(G155<CALCULADORA!$C$23,0,IF(CALCULADORA!$C$27>'TIR de Tenencia'!G155,E155,CALCULADORA!$C$33))","v":63657925}," "," ",null,24,4,2034]
[{"$f":"+Flujos!A156","v":"2034-04-24"},{"$f":"+Flujos!L156","v":-5.6170392781496048E-8},{"$f":"+Flujos!M156","v":0},{"$f":"+Flujos!N156","v":-2.760774805210531E-10},{"$f":"+Flujos!O156","v":-2.760774805210531E-10},null,"2034-04-24",{"$f":"IF(G156<CALCULADORA!$C$23,0,IF(CALCULADORA!$C$27>'TIR de Tenencia'!G156,E156,CALCULADORA!$C$33))","v":63657925}," "," ",null,24,5,2034]
[{"$f":"+Flujos!A157","v":"2034-05-24"},{"$f":"+Flujos!L157","v":-5.6170392781496048E-8},{"$f":"+Flujos!M157","v":0},{"$f":"+Flujos!N157","v":-2.760774805210531E-10},{"$f":"+Flujos!O157","v":-2.760774805210531E-10},null,"2034-05-24",{"$f":"IF(G157<CALCULADORA!$C$23,0,IF(CALCULADORA!$C$27>'TIR de Tenencia'!G157,E157,CALCULADORA!$C$33))","v":63657925}," "," ",null,24,6,2034]
[{"$f":"+Flujos!A158","v":"2034-06-24"},{"$f":"+Flujos!L158","v":-5.6170392781496048E-8},{"$f":"+Flujos!M158","v":0},{"$f":"+Flujos!N158","v":-2.760774805210531E-10},{"$f":"+Flujos!O158","v":-2.760774805210531E-10},null,"2034-06-24",{"$f":"IF(G158<CALCULADORA!$C$23,0,IF(CALCULADORA!$C$27>'TIR de Tenencia'!G158,E158,CALCULADORA!$C$33))","v":63657925}," "," ",null,24,7,2034]
[{"$f":"+Flujos!A159","v":"2034-07-24"},{"$f":"+Flujos!L159","v":-5.6170392781496048E-8},{"$f":"+Flujos!M159","v":0},{"$f":"+Flujos!N159","v":-2.760774805210531E-10},{"$f":"+Flujos!O159","v":-2.760774805210531E-10},null,"2034-07-24",{"$f":"IF(G159<CALCULADORA!$C$23,0,IF(CALCULADORA!$C$27>'TIR de Tenencia'!G159,E159,CALCULADORA!$C$33))","v":63657925}," "," ",null,24,8,2034]
[{"$f":"+Flujos!A160","v":"2034-08-24"},{"$f":"+Flujos!L160","v":-5.6170392781496048E-8},{"$f":"+Flujos!M160","v":0},{"$f":"+Flujos!N160","v":-2.760774805210531E-10},{"$f":"+Flujos!O160","v":-2.760774805210531E-10},null,"2034-08-24",{"$f":"IF(G160<CALCULADORA!$C$23,0,IF(CALCULADORA!$C$27>'TIR de Tenencia'!G160,E160,CALCULADORA!$C$33))","v":63657925}," "," ",null,24,9,2034]
[{"$f":"+Flujos!A161","v":"2034-09-24"},{"$f":"+Flujos!L161","v":-5.6170392781496048E-8},{"$f":"+Flujos!M161","v":0},{"$f":"+Flujos!N161","v":-2.760774805210531E-10},{"$f":"+Flujos!O161","v":-2.760774805210531E-10},null,"2034-09-24",{"$f":"IF(G161<CALCULADORA!$C$23,0,IF(CALCULADORA!$C$27>'TIR de Tenencia'!G161,E161,CALCULADORA!$C$33))","v":63657925}," "," ",null,24,10,2034]
[{"$f":"+Flujos!A162","v":"2034-10-24"},{"$f":"+Flujos!L162","v":-5.6170392781496048E-8},{"$f":"+Flujos!M162","v":0},{"$f":"+Flujos!N162","v":-2.760774805210531E-10},{"$f":"+Flujos!O162","v":-2.760774805210531E-10},null,"2034-10-24",{"$f":"IF(G162<CALCULADORA!$C$23,0,IF(CALCULADORA!$C$27>'TIR de Tenencia'!G162,E162,CALCULADORA!$C$33))","v":63657925}," "," ",null,24,11,2034]
[{"$f":"+Flujos!A163","v":"2034-11-24"},{"$f":"+Flujos!L163","v":-5.6170392781496048E-8},{"$f":"+Flujos!M163","v":0},{"$f":"+Flujos!N163","v":-2.760774805210531E-10},{"$f":"+Flujos!O163","v":-2.760774805210531E-10},null,{"$f":"+DATE(N162,M162,L162)","v":"2034-11-24"},{"$f":"IF(G163<CALCULADORA!$C$23,0,IF(CALCULADORA!$C$27>'TIR de Tenencia'!G163,E163,CALCULADORA!$C$33))","v":63657925}," "," ",null,24,12,2034]
[{"$f":"+Flujos!A164","v":"2034-12-24"},{"$f":"+Flujos!L164","v":-5.6170392781496048E-8},{"$f":"+Flujos!M164","v":0},{"$f":"+Flujos!N164","v":-2.760774805210531E-10},{"$f":"+Flujos!O164","v":-2.760774805210531E-10},null,"2034-12-24",{"$f":"IF(G164<CALCULADORA!$C$23,0,IF(CALCULADORA!$C$27>'TIR de Tenencia'!G164,E164,CALCULADORA!$C$33))","v":63657925}," "," ",null,24,1,2035]
[{"$f":"+Flujos!A165","v":"2035-01-24"},{"$f":"+Flujos!L165","v":-5.6170392781496048E-8},{"$f":"+Flujos!M165","v":0},{"$f":"+Flujos!N165","v":-2.760774805210531E-10},{"$f":"+Flujos!O165","v":-2.760774805210531E-10},null,"2035-01-24",{"$f":"IF(G165<CALCULADORA!$C$23,0,IF(CALCULADORA!$C$27>'TIR de Tenencia'!G165,E165,CALCULADORA!$C$33))","v":63657925}," "," ",null,24,2,2035]
[{"$f":"+Flujos!A166","v":"2035-02-24"},{"$f":"+Flujos!L166","v":-5.6170392781496048E-8},{"$f":"+Flujos!M166","v":0},{"$f":"+Flujos!N166","v":-2.760774805210531E-10},{"$f":"+Flujos!O166","v":-2.760774805210531E-10},null,"2035-02-24",{"$f":"IF(G166<CALCULADORA!$C$23,0,IF(CALCULADORA!$C$27>'TIR de Tenencia'!G166,E166,CALCULADORA!$C$33))","v":63657925}," "," ",null,24,3,2035]
[{"$f":"+Flujos!A167","v":"2035-03-24"},{"$f":"+Flujos!L167","v":-5.6170392781496048E-8},{"$f":"+Flujos!M167","v":0},{"$f":"+Flujos!N167","v":-2.760774805210531E-10},{"$f":"+Flujos!O167","v":-2.760774805210531E-10},null,"2035-03-24",{"$f":"IF(G167<CALCULADORA!$C$23,0,IF(CALCULADORA!$C$27>'TIR de Tenencia'!G167,E167,CALCULADORA!$C$33))","v":63657925}," "," ",null,24,4,2035]
[{"$f":"+Flujos!A168","v":"2035-04-24"},{"$f":"+Flujos!L168","v":-5.6170392781496048E-8},{"$f":"+Flujos!M168","v":0},{"$f":"+Flujos!N168","v":-2.760774805210531E-10},{"$f":"+Flujos!O168","v":-2.760774805210531E-10},null,"2035-04-24",{"$f":"IF(G168<CALCULADORA!$C$23,0,IF(CALCULADORA!$C$27>'TIR de Tenencia'!G168,E168,CALCULADORA!$C$33))","v":63657925}," "," ",null,24,5,2035]
[{"$f":"+Flujos!A169","v":"2035-05-24"},{"$f":"+Flujos!L169","v":-5.6170392781496048E-8},{"$f":"+Flujos!M169","v":0},{"$f":"+Flujos!N169","v":-2.760774805210531E-10},{"$f":"+Flujos!O169","v":-2.760774805210531E-10},null,"2035-05-24",{"$f":"IF(G169<CALCULADORA!$C$23,0,IF(CALCULADORA!$C$27>'TIR de Tenencia'!G169,E169,CALCULADORA!$C$33))","v":63657925}," "," ",null,24,6,2035]
[{"$f":"+Flujos!A170","v":"2035-06-24"},{"$f":"+Flujos!L170","v":-5.6170392781496048E-8},{"$f":"+Flujos!M170","v":0},{"$f":"+Flujos!N170","v":-2.760774805210531E-10},{"$f":"+Flujos!O170","v":-2.760774805210531E-10},null,"2035-06-24",{"$f":"IF(G170<CALCULADORA!$C$23,0,IF(CALCULADORA!$C$27>'TIR de Tenencia'!G170,E170,CALCULADORA!$C$33))","v":63657925}," "," ",null,24,7,2035]
[{"$f":"+Flujos!A171","v":"2035-07-24"},{"$f":"+Flujos!L171","v":-5.6170392781496048E-8},{"$f":"+Flujos!M171","v":0},{"$f":"+Flujos!N171","v":-2.760774805210531E-10},{"$f":"+Flujos!O171","v":-2.760774805210531E-10},null,"2035-07-24",{"$f":"IF(G171<CALCULADORA!$C$23,0,IF(CALCULADORA!$C$27>'TIR de Tenencia'!G171,E171,CALCULADORA!$C$33))","v":63657925}," "," ",null,24,8,2035]
[{"$f":"+Flujos!A172","v":"2035-08-24"},{"$f":"+Flujos!L172","v":-5.6170392781496048E-8},{"$f":"+Flujos!M172","v":0},{"$f":"+Flujos!N172","v":-2.760774805210531E-10},{"$f":"+Flujos!O172","v":-2.760774805210531E-10},null,"2035-08-24",{"$f":"IF(G172<CALCULADORA!$C$23,0,IF(CALCULADORA!$C$27>'TIR de Tenencia'!G172,E172,CALCULADORA!$C$33))","v":63657925}," "," ",null,24,9,2035]
[{"$f":"+Flujos!A173","v":"2035-09-24"},{"$f":"+Flujos!L173","v":-5.6170392781496048E-8},{"$f":"+Flujos!M173","v":0},{"$f":"+Flujos!N173","v":-2.760774805210531E-10},{"$f":"+Flujos!O173","v":-2.760774805210531E-10},null,"2035-09-24",{"$f":"IF(G173<CALCULADORA!$C$23,0,IF(CALCULADORA!$C$27>'TIR de Tenencia'!G173,E173,CALCULADORA!$C$33))","v":63657925}," "," ",null,24,10,2035]
[{"$f":"+Flujos!A174","v":"2035-10-24"},{"$f":"+Flujos!L174","v":-5.6170392781496048E-8},{"$f":"+Flujos!M174","v":0},{"$f":"+Flujos!N174","v":-2.760774805210531E-10},{"$f":"+Flujos!O174","v":-2.760774805210531E-10},null,"2035-10-24",{"$f":"IF(G174<CALCULADORA!$C$23,0,IF(CALCULADORA!$C$27>'TIR de Tenencia'!G174,E174,CALCULADORA!$C$33))","v":63657925}," "," ",null,24,11,2035]
[{"$f":"+Flujos!A175","v":"2035-11-24"},{"$f":"+Flujos!L175","v":-5.6170392781496048E-8},{"$f":"+Flujos!M175","v":0},{"$f":"+Flujos!N175","v":-2.760774805210531E-10},{"$f":"+Flujos!O175","v":-2.760774805210531E-10},null,"2035-11-24",{"$f":"IF(G175<CALCULADORA!$C$23,0,IF(CALCULADORA!$C$27>'TIR de Tenencia'!G175,E175,CALCULADORA!$C$33))","v":63657925}," "," ",null,24,12,2035]
[{"$f":"+Flujos!A176","v":"2035-12-24"},{"$f":"+Flujos!L176","v":-5.6170392781496048E-8},{"$f":"+Flujos!M176","v":0},{"$f":"+Flujos!N176","v":-2.760774805210531E-10},{"$f":"+Flujos!O176","v":-2.760774805210531E-10},null,"2035-12-24",{"$f":"IF(G176<CALCULADORA!$C$23,0,IF(CALCULADORA!$C$27>'TIR de Tenencia'!G176,E176,CALCULADORA!$C$33))","v":63657925}," "," ",null,24,1,2036]
[{"$f":"+Flujos!A177","v":"2036-01-24"},{"$f":"+Flujos!L177","v":-5.6170392781496048E-8},{"$f":"+Flujos!M177","v":0},{"$f":"+Flujos!N177","v":-2.760774805210531E-10},{"$f":"+Flujos!O177","v":-2.760774805210531E-10},null,"2036-01-24",{"$f":"IF(G177<CALCULADORA!$C$23,0,IF(CALCULADORA!$C$27>'TIR de Tenencia'!G177,E177,CALCULADORA!$C$33))","v":63657925}," "," ",null,24,2,2036]
[{"$f":"+Flujos!A178","v":"2036-02-24"},{"$f":"+Flujos!L178","v":-5.6170392781496048E-8},{"$f":"+Flujos!M178","v":0},{"$f":"+Flujos!N178","v":-2.760774805210531E-10},{"$f":"+Flujos!O178","v":-2.760774805210531E-10},null,"2036-02-24",{"$f":"IF(G178<CALCULADORA!$C$23,0,IF(CALCULADORA!$C$27>'TIR de Tenencia'!G178,E178,CALCULADORA!$C$33))","v":63657925}," "," ",null,24,3,2036]
[{"$f":"+Flujos!A179","v":"2036-03-24"},{"$f":"+Flujos!L179","v":-5.6170392781496048E-8},{"$f":"+Flujos!M179","v":0},{"$f":"+Flujos!N179","v":-2.760774805210531E-10},{"$f":"+Flujos!O179","v":-2.760774805210531E-10},null,"2036-03-24",{"$f":"IF(G179<CALCULADORA!$C$23,0,IF(CALCULADORA!$C$27>'TIR de Tenencia'!G179,E179,CALCULADORA!$C$33))","v":63657925}," "," ",null,24,4,2036]
[{"$f":"+Flujos!A180","v":"2036-04-24"},{"$f":"+Flujos!L180","v":-5.6170392781496048E-8},{"$f":"+Flujos!M180","v":0},{"$f":"+Flujos!N180","v":-2.760774805210531E-10},{"$f":"+Flujos!O180","v":-2.760774805210531E-10},null,"2036-04-24",{"$f":"IF(G180<CALCULADORA!$C$23,0,IF(CALCULADORA!$C$27>'TIR de Tenencia'!G180,E180,CALCULADORA!$C$33))","v":63657925}," "," ",null,24,5,2036]
[{"$f":"+Flujos!A181","v":"2036-05-24"},{"$f":"+Flujos!L181","v":-5.6170392781496048E-8},{"$f":"+Flujos!M181","v":0},{"$f":"+Flujos!N181","v":-2.760774805210531E-10},{"$f":"+Flujos!O181","v":-2.760774805210531E-10},null,"2036-05-24",{"$f":"IF(G181<CALCULADORA!$C$23,0,IF(CALCULADORA!$C$27>'TIR de Tenencia'!G181,E181,CALCULADORA!$C$33))","v":63657925}," "," ",null,24,6,2036]
[{"$f":"+Flujos!A182","v":"2036-06-24"},{"$f":"+Flujos!L182","v":-5.6170392781496048E-8},{"$f":"+Flujos!M182","v":0},{"$f":"+Flujos!N182","v":-2.760774805210531E-10},{"$f":"+Flujos!O182","v":-2.760774805210531E-10},null,"2036-06-24",{"$f":"IF(G182<CALCULADORA!$C$23,0,IF(CALCULADORA!$C$27>'TIR de Tenencia'!G182,E182,CALCULADORA!$C$33))","v":63657925}," "," ",null,24,7,2036]
[null,"Totales",{"$f":"SUM(C2:C182)","v":128567217.78505512},26376544.971575186,154943762.75663048]
[null,null,null,null,null,null,null,null,{"$f":"+IF(H184=H183,\" \",H184)","v":" "},null,{"$f":"+MONTH(A184)","v":1},{"$f":"+YEAR(A184)","v":1900}]
[null,null,null,null,null,null,null,null," ",null,1,1900]
[null,null,null,null,null,null,null,null," ",null,1,1900]
[null,null,null,null,null,null,null,null," ",null,1,1900]
[null,null,null,null,null,null,null,null," ",null,1,1900]
[null,null,null,null,null,null,null,null," ",null,1,1900]
[null,null,null,null,null,null,null,null," ",null,1,1900]
[null,null,null,null,null,null,null,null," ",null,1,1900]
[null,null,null,null,null,null,null,null," ",null,1,1900]
[null,null,null,null,null,null,null,null," ",null,1,1900]
[null,null,null,null,null,null,null,null," ",null,1,1900]
[null,null,null,null,null,null,null,null," ",null,1,1900]
[null,null,null,null,null,null,null,null," ",null,1,1900]
[null,null,null,null,null,null,null,null," ",null,1,1900]
[null,null,null,null,null,null,null,null," ",null,1,1900]
[null,null,null,null,null,null,null,null," ",null,1,1900]
[null,null,null,null,null,null,null,null," ",null,1,1900]
[null,null,null,null,null,null,null,null," ",null,1,1900]
[null,null,null,null,null,null,null,null," ",null,1,1900]
[null,null,null,null,null,null,null,null," ",null,1,1900]
[null,null,null,null,null,null,null,null," ",null,1,1900]
[null,null,null,null,null,null,null,null," ",null,1,1900]
[null,null,null,null,null,null,null,null," ",null,1,1900]
[null,null,null,null,null,null,null,null," ",null,1,1900]
[null,null,null,null,null,null,null,null," ",null,1,1900]
[null,null,null,null,null,null,null,null," ",null,1,1900]
[null,null,null,null,null,null,null,null," ",null,1,1900]
[null,null,null,null,null,null,null,null," ",null,1,1900]
[null,null,null,null,null,null,null,null," ",null,1,1900]
[null,null,null,null,null,null,null,null," ",null,1,1900]
[null,null,null,null,null,null,null,null," ",null,1,1900]
[null,null,null,null,null,null,null,null," ",null,1,1900]
[null,null,null,null,null,null,null,null," ",null,1,1900]
[null,null,null,null,null,null,null,null," ",null,1,1900]
[null,null,null,null,null,null,null,null," ",null,1,1900]
[null,null,null,null,null,null,null,null," ",null,1,1900]
[null,null,null,null,null,null,null,null," ",null,1,1900]
[null,null,null,null,null,null,null,null," ",null,1,1900]
[null,null,null,null,null,null,null,null," ",null,1,1900]
[null,null,null,null,null,null,null,null," ",null,1,1900]
[null,null,null,null,null,null,null,null," ",null,1,1900]
[null,null,null,null,null,null,null,null," ",null,1,1900]
[null,null,null,null,null,null,null,null," ",null,1,1900]
[null,null,null,null,null,null,null,null," ",null,1,1900]
[null,null,null,null,null,null,null,null," ",null,1,1900]
[null,null,null,null,null,null,null,null," ",null,1,1900]
[null,null,null,null,null,null,null,null," ",null,1,1900]
[null,null,null,null,null,null,null,null," ",null,1,1900]
[null,null,null,null,null,null,null,null," ",null,1,1900]
[null,null,null,null,null,null,null,null," ",null,1,1900]
[null,null,null,null,null,null,null,null," ",null,1,1900]
[null,null,null,null,null,null,null,null," ",null,1,1900]
[null,null,null,null,null,null,null,null," ",null,1,1900]
[null,null,null,null,null,null,null,null," ",null,1,1900]
[null,null,null,null,null,null,null,null," ",null,1,1900]
[null,null,null,null,null,null,null,null," ",null,1,1900]
[null,null,null,null,null,null,null,null," ",null,1,1900]
[null,null,null,null,null,null,null,null," ",null,1,1900]
[null,null,null,null,null,null,null,null," ",null,1,1900]
[null,null,null,null,null,null,null,null," ",null,1,1900]
[null,null,null,null,null,null,null,null," ",null,1,1900]
[null,null,null,null,null,null,null,null," ",null,1,1900]
[null,null,null,null,null,null,null,null," ",null,1,1900]
[null,null,null,null,null,null,null,null," ",null,1,1900]
[null,null,null,null,null,null,null,null,{"$f":"+IF(H248=H247,\" \",H248)","v":" "},null,{"$f":"+MONTH(A248)","v":1},{"$f":"+YEAR(A248)","v":1900}]
[null,null,null,null,null,null,null,null," ",null,1,1900]
[null,null,null,null,null,null,null,null," ",null,1,1900]
[null,null,null,null,null,null,null,null," ",null,1,1900]
[null,null,null,null,null,null,null,null," ",null,1,1900]
[null,null,null,null,null,null,null,null," ",null,1,1900]
[null,null,null,null,null,null,null,null," ",null,1,1900]
[null,null,null,null,null,null,null,null," ",null,1,1900]
[null,null,null,null,null,null,null,null," ",null,1,1900]
[null,null,null,null,null,null,null,null," ",null,1,1900]
[null,null,null,null,null,null,null,null," ",null,1,1900]
[null,null,null,null,null,null,null,null," ",null,1,1900]
[null,null,null,null,null,null,null,null," ",null,1,1900]
[null,null,null,null,null,null,null,null," ",null,1,1900]
[null,null,null,null,null,null,null,null," ",null,1,1900]
[null,null,null,null,null,null,null,null," ",null,1,1900]
[null,null,null,null,null,null,null,null," ",null,1,1900]
[null,null,null,null,null,null,null,null," ",null,1,1900]
[null,null,null,null,null,null,null,null," ",null,1,1900]
[null,null,null,null,null,null,null,null," ",null,1,1900]
[null,null,null,null,null,null,null,null," ",null,1,1900]
[null,null,null,null,null,null,null,null," ",null,1,1900]
[null,null,null,null,null,null,null,null," ",null,1,1900]
[null,null,null,null,null,null,null,null," ",null,1,1900]
[null,null,null,null,null,null,null,null," ",null,1,1900]
[null,null,null,null,null,null,null,null," ",null,1,1900]
[null,null,null,null,null,null,null,null," ",null,1,1900]
[null,null,null,null,null,null,null,null," ",null,1,1900]
[null,null,null,null,null,null,null,null," ",null,1,1900]
[null,null,null,null,null,null,null,null," ",null,1,1900]
[null,null,null,null,null,null,null,null," ",null,1,1900]
[null,null,null,null,null,null,null,null," ",null,1,1900]
[null,null,null,null,null,null,null,null," ",null,1,1900]
[null,null,null,null,null,null,null,null," ",null,1,1900]
[null,null,null,null,null,null,null,null," ",null,1,1900]
[null,null,null,null,null,null,null,null," ",null,1,1900]
[null,null,null,null,null,null,null,null," ",null,1,1900]
[null,null,null,null,null,null,null,null," ",null,1,1900]
[null,null,null,null,null,null,null,null," ",null,1,1900]
[null,null,null,null,null,null,null,null," ",null,1,1900]
[null,null,null,null,null,null,null,null," ",null,1,1900]
[null,null,null,null,null,null,null,null," ",null,1,1900]
[null,null,null,null,null,null,null,null," ",null,1,1900]
[null,null,null,null,null,null,null,null," ",null,1,1900]
[null,null,null,null,null,null,null,null," ",null,1,1900]
[null,null,null,null,null,null,null,null," ",null,1,1900]
[null,null,null,null,null,null,null,null," ",null,1,1900]
[null,null,null,null,null,null,null,null," ",null,1,1900]
[null,null,null,null,null,null,null,null," ",null,1,1900]
[null,null,null,null,null,null,null,null," ",null,1,1900]
[null,null,null,null,null,null,null,null," ",null,1,1900]
[null,null,null,null,null,null,null,null," ",null,1,1900]
[null,null,null,null,null,null,null,null," ",null,1,1900]
[null,null,null,null,null,null,null,null," ",null,1,1900]
[null,null,null,null,null,null,null,null," ",null,1,1900]
[null,null,null,null,null,null,null,null," ",null,1,1900]
[null,null,null,null,null,null,null,null," ",null,1,1900]
[null,null,null,null,null,null,null,null," ",null,1,1900]
[null,null,null,null,null,null,null,null," ",null,1,1900]
[null,null,null,null,null,null,null,null," ",null,1,1900]
[null,null,null,null,null,null,null,null," ",null,1,1900]
[null,null,null,null,null,null,null,null," ",null,1,1900]
[null,null,null,null,null,null,null,null," ",null,1,1900]
[null,null,null,null,null,null,null,null," ",null,1,1900]
[null,null,null,null,null,null,null,null,{"$f":"+IF(H312=H311,\" \",H312)","v":" "},null,{"$f":"+MONTH(A312)","v":1},{"$f":"+YEAR(A312)","v":1900}]
[null,null,null,null,null,null,null,null," ",null,1,1900]
[null,null,null,null,null,null,null,null," ",null,1,1900]
[null,null,null,null,null,null,null,null," ",null,1,1900]
[null,null,null,null,null,null,null,null," ",null,1,1900]
[null,null,null,null,null,null,null,null," ",null,1,1900]
[null,null,null,null,null,null,null,null," ",null,1,1900]
[null,null,null,null,null,null,null,null," ",null,1,1900]
[null,null,null,null,null,null,null,null," ",null,1,1900]
[null,null,null,null,null,null,null,null," ",null,1,1900]
[null,null,null,null,null,null,null,null," ",null,1,1900]
[null,null,null,null,null,null,null,null," ",null,1,1900]
[null,null,null,null,null,null,null,null," ",null,1,1900]
[null,null,null,null,null,null,null,null," ",null,1,1900]
[null,null,null,null,null,null,null,null," ",null,1,1900]
[null,null,null,null,null,null,null,null," ",null,1,1900]
[null,null,null,null,null,null,null,null," ",null,1,1900]
[null,null,null,null,null,null,null,null," ",null,1,1900]
[null,null,null,null,null,null,null,null," ",null,1,1900]
[null,null,null,null,null,null,null,null," ",null,1,1900]
[null,null,null,null,null,null,null,null," ",null,1,1900]
[null,null,null,null,null,null,null,null," ",null,1,1900]
[null,null,null,null,null,null,null,null," ",null,1,1900]
[null,null,null,null,null,null,null,null," ",null,1,1900]
[null,null,null,null,null,null,null,null," ",null,1,1900]
[null,null,null,null,null,null,null,null," ",null,1,1900]
[null,null,null,null,null,null,null,null," ",null,1,1900]
[null,null,null,null,null,null,null,null," ",null,1,1900]
[null,null,null,null,null,null,null,null," ",null,1,1900]
[null,null,null,null,null,null,null,null," ",null,1,1900]
[null,null,null,null,null,null,null,null," ",null,1,1900]
[null,null,null,null,null,null,null,null," ",null,1,1900]
[null,null,null,null,null,null,null,null," ",null,1,1900]
[null,null,null,null,null,null,null,null," ",null,1,1900]
[null,null,null,null,null,null,null,null," ",null,1,1900]
[null,null,null,null,null,null,null,null," ",null,1,1900]
[null,null,null,null,null,null,null,null," ",null,1,1900]
[null,null,null,null,null,null,null,null," ",null,1,1900]
[null,null,null,null,null,null,null,null," ",null,1,1900]
[null,null,null,null,null,null,null,null," ",null,1,1900]
[null,null,null,null,null,null,null,null," ",null,1,1900]
[null,null,null,null,null,null,null,null," ",null,1,1900]
[null,null,null,null,null,null,null,null," ",null,1,1900]
[null,null,null,null,null,null,null,null," ",null,1,1900]
[null,null,null,null,null,null,null,null," ",null,1,1900]
[null,null,null,null,null,null,null,null," ",null,1,1900]
[null,null,null,null,null,null,null,null," ",null,1,1900]
[null,null,null,null,null,null,null,null," ",null,1,1900]
[null,null,null,null,null,null,null,null," ",null,1,1900]
[null,null,null,null,null,null,null,null," ",null,1,1900]
[null,null,null,null,null,null,null,null," ",null,1,1900]
[null,null,null,null,null,null,null,null," ",null,1,1900]
[null,null,null,null,null,null,null,null," ",null,1,1900]
[null,null,null,null,null,null,null,null," ",null,1,1900]
[null,null,null,null,null,null,null,null," ",null,1,1900]
[null,null,null,null,null,null,null,null," ",null,1,1900]
[null,null,null,null,null,null,null,null," ",null,1,1900]
[null,null,null,null,null,null,null,null," ",null,1,1900]
[null,null,null,null,null,null,null,null," ",null,1,1900]
[null,null,null,null,null,null,null,null," ",null,1,1900]
[null,null,null,null,null,null,null,null," ",null,1,1900]
[null,null,null,null,null,null,null,null," ",null,1,1900]
[null,null,null,null,null,null,null,null," ",null,1,1900]
[null,null,null,null,null,null,null,null," ",null,1,1900]
[null,null,null,null,null,null,null,null,{"$f":"+IF(H376=H375,\" \",H376)","v":" "},null,{"$f":"+MONTH(A376)","v":1},{"$f":"+YEAR(A376)","v":1900}]
[null,null,null,null,null,null,null,null," ",null,1,1900]
[null,null,null,null,null,null,null,null," ",null,1,1900]
[null,null,null,null,null,null,null,null," ",null,1,1900]
[null,null,null,null,null,null,null,null," ",null,1,1900]
[null,null,null,null,null,null,null,null," ",null,1,1900]
[null,null,null,null,null,null,null,null," ",null,1,1900]
[null,null,null,null,null,null,null,null," ",null,1,1900]
[null,null,null,null,null,null,null,null," ",null,1,1900]
[null,null,null,null,null,null,null,null," ",null,1,1900]
[null,null,null,null,null,null,null,null," ",null,1,1900]
[null,null,null,null,null,null,null,null," ",null,1,1900]
[null,null,null,null,null,null,null,null," ",null,1,1900]
[null,null,null,null,null,null,null,null," ",null,1,1900]
[null,null,null,null,null,null,null,null," ",null,1,1900]
[null,null,null,null,null,null,null,null," ",null,1,1900]
[null,null,null,null,null,null,null,null," ",null,1,1900]
[null,null,null,null,null,null,null,null," ",null,1,1900]
[null,null,null,null,null,null,null,null," ",null,1,1900]
[null,null,null,null,null,null,null,null," ",null,1,1900]
[null,null,null,null,null,null,null,null," ",null,1,1900]
[null,null,null,null,null,null,null,null," ",null,1,1900]
[null,null,null,null,null,null,null,null," ",null,1,1900]
[null,null,null,null,null,null,null,null," ",null,1,1900]
[null,null,null,null,null,null,null,null," ",null,1,1900]
[null,null,null,null,null,null,null,null," ",null,1,1900]
[null,null,null,null,null,null,null,null," ",null,1,1900]
[null,null,null,null,null,null,null,null," ",null,1,1900]
[null,null,null,null,null,null,null,null," ",null,1,1900]
[null,null,null,null,null,null,null,null," ",null,1,1900]
[null,null,null,null,null,null,null,null," ",null,1,1900]
[null,null,null,null,null,null,null,null," ",null,1,1900]
[null,null,null,null,null,null,null,null," ",null,1,1900]
[null,null,null,null,null,null,null,null," ",null,1,1900]
[null,null,null,null,null,null,null,null," ",null,1,1900]
[null,null,null,null,null,null,null,null," ",null,1,1900]
[null,null,null,null,null,null,null,null," ",null,1,1900]
[null,null,null,null,null,null,null,null," ",null,1,1900]
[null,null,null,null,null,null,null,null," ",null,1,1900]
[null,null,null,null,null,null,null,null," ",null,1,1900]
[null,null,null,null,null,null,null,null," ",null,1,1900]
[null,null,null,null,null,null,null,null," ",null,1,1900]
[null,null,null,null,null,null,null,null," ",null,1,1900]
[null,null,null,null,null,null,null,null," ",null,1,1900]
[null,null,null,null,null,null,null,null," ",null,1,1900]
[null,null,null,null,null,null,null,null," ",null,1,1900]
[null,null,null,null,null,null,null,null," ",null,1,1900]
[null,null,null,null,null,null,null,null," ",null,1,1900]
[null,null,null,null,null,null,null,null," ",null,1,1900]
[null,null,null,null,null,null,null,null," ",null,1,1900]
[null,null,null,null,null,null,null,null," ",null,1,1900]
[null,null,null,null,null,null,null,null," ",null,1,1900]
[null,null,null,null,null,null,null,null," ",null,1,1900]
[null,null,null,null,null,null,null,null," ",null,1,1900]
[null,null,null,null,null,null,null,null," ",null,1,1900]
[null,null,null,null,null,null,null,null," ",null,1,1900]
[null,null,null,null,null,null,null,null," ",null,1,1900]
[null,null,null,null,null,null,null,null," ",null,1,1900]
[null,null,null,null,null,null,null,null," ",null,1,1900]
[null,null,null,null,null,null,null,null," ",null,1,1900]
[null,null,null,null,null,null,null,null," ",null,1,1900]
[null,null,null,null,null,null,null,null," ",null,1,1900]
[null,null,null,null,null,null,null,null," ",null,1,1900]
[null,null,null,null,null,null,null,null," ",null,1,1900]
[null,null,null,null,null,null,null,null,{"$f":"+IF(H440=H439,\" \",H440)","v":" "},null,{"$f":"+MONTH(A440)","v":1},{"$f":"+YEAR(A440)","v":1900}]
[null,null,null,null,null,null,null,null," ",null,1,1900]
[null,null,null,null,null,null,null,null," ",null,1,1900]
[null,null,null,null,null,null,null,null," ",null,1,1900]
[null,null,null,null,null,null,null,null," ",null,1,1900]
[null,null,null,null,null,null,null,null," ",null,1,1900]
[null,null,null,null,null,null,null,null," ",null,1,1900]
[null,null,null,null,null,null,null,null," ",null,1,1900]
[null,null,null,null,null,null,null,null," ",null,1,1900]
[null,null,null,null,null,null,null,null," ",null,1,1900]
[null,null,null,null,null,null,null,null," ",null,1,1900]
[null,null,null,null,null,null,null,null," ",null,1,1900]
[null,null,null,null,null,null,null,null," ",null,1,1900]
[null,null,null,null,null,null,null,null," ",null,1,1900]
[null,null,null,null,null,null,null,null," ",null,1,1900]
[null,null,null,null,null,null,null,null," ",null,1,1900]
[null,null,null,null,null,null,null,null," ",null,1,1900]
[null,null,null,null,null,null,null,null," ",null,1,1900]
[null,null,null,null,null,null,null,null," ",null,1,1900]
[null,null,null,null,null,null,null,null," ",null,1,1900]
[null,null,null,null,null,null,null,null," ",null,1,1900]
[null,null,null,null,null,null,null,null," ",null,1,1900]
[null,null,null,null,null,null,null,null," ",null,1,1900]
[null,null,null,null,null,null,null,null," ",null,1,1900]
[null,null,null,null,null,null,null,null," ",null,1,1900]
[null,null,null,null,null,null,null,null," ",null,1,1900]
[null,null,null,null,null,null,null,null," ",null,1,1900]
[null,null,null,null,null,null,null,null," ",null,1,1900]
[null,null,null,null,null,null,null,null," ",null,1,1900]
[null,null,null,null,null,null,null,null," ",null,1,1900]
[null,null,null,null,null,null,null,null," ",null,1,1900]
[null,null,null,null,null,null,null,null," ",null,1,1900]
[null,null,null,null,null,null,null,null," ",null,1,1900]
[null,null,null,null,null,null,null,null," ",null,1,1900]
[null,null,null,null,null,null,null,null," ",null,1,1900]
[null,null,null,null,null,null,null,null," ",null,1,1900]
[null,null,null,null,null,null,null,null," ",null,1,1900]
[null,null,null,null,null,null,null,null," ",null,1,1900]
[null,null,null,null,null,null,null,null," ",null,1,1900]
[null,null,null,null,null,null,null,null," ",null,1,1900]
[null,null,null,null,null,null,null,null," ",null,1,1900]
[null,null,null,null,null,null,null,null," ",null,1,1900]
[null,null,null,null,null,null,null,null," ",null,1,1900]
[null,null,null,null,null,null,null,null," ",null,1,1900]
[null,null,null,null,null,null,null,null," ",null,1,1900]
[null,null,null,null,null,null,null,null," ",null,1,1900]
[null,null,null,null,null,null,null,null," ",null,1,1900]
[null,null,null,null,null,null,null,null," ",null,1,1900]
[null,null,null,null,null,null,null,null," ",null,1,1900]
[null,null,null,null,null,null,null,null," ",null,1,1900]
[null,null,null,null,null,null,null,null," ",null,1,1900]
[null,null,null,null,null,null,null,null," ",null,1,1900]
[null,null,null,null,null,null,null,null," ",null,1,1900]
[null,null,null,null,null,null,null,null," ",null,1,1900]
[null,null,null,null,null,null,null,null," ",null,1,1900]
[null,null,null,null,null,null,null,null," ",null,1,1900]
[null,null,null,null,null,null,null,null," ",null,1,1900]
[null,null,null,null,null,null,null,null," ",null,1,1900]
[null,null,null,null,null,null,null,null," ",null,1,1900]
[null,null,null,null,null,null,null,null," ",null,1,1900]
[null,null,null,null,null,null,null,null," ",null,1,1900]
[null,null,null,null,null,null,null,null," ",null,1,1900]
[null,null,null,null,null,null,null,null," ",null,1,1900]
[null,null,null,null,null,null,null,null," ",null,1,1900]
[null,null,null,null,null,null,null,null,{"$f":"+IF(H504=H503,\" \",H504)","v":" "},null,{"$f":"+MONTH(A504)","v":1},{"$f":"+YEAR(A504)","v":1900}]
[null,null,null,null,null,null,null,null," ",null,1,1900]
[null,null,null,null,null,null,null,null," ",null,1,1900]
[null,null,null,null,null,null,null,null," ",null,1,1900]
[null,null,null,null,null,null,null,null," ",null,1,1900]
[null,null,null,null,null,null,null,null," ",null,1,1900]
[null,null,null,null,null,null,null,null," ",null,1,1900]
[null,null,null,null,null,null,null,null," ",null,1,1900]
[null,null,null,null,null,null,null,null," ",null,1,1900]
[null,null,null,null,null,null,null,null," ",null,1,1900]
[null,null,null,null,null,null,null,null," ",null,1,1900]
[null,null,null,null,null,null,null,null," ",null,1,1900]
[null,null,null,null,null,null,null,null," ",null,1,1900]
[null,null,null,null,null,null,null,null," ",null,1,1900]
[null,null,null,null,null,null,null,null," ",null,1,1900]
[null,null,null,null,null,null,null,null," ",null,1,1900]
[null,null,null,null,null,null,null,null," ",null,1,1900]
[null,null,null,null,null,null,null,null," ",null,1,1900]
[null,null,null,null,null,null,null,null," ",null,1,1900]
[null,null,null,null,null,null,null,null," ",null,1,1900]
[null,null,null,null,null,null,null,null," ",null,1,1900]
[null,null,null,null,null,null,null,null," ",null,1,1900]
[null,null,null,null,null,null,null,null," ",null,1,1900]
[null,null,null,null,null,null,null,null," ",null,1,1900]
[null,null,null,null,null,null,null,null," ",null,1,1900]
[null,null,null,null,null,null,null,null," ",null,1,1900]
[null,null,null,null,null,null,null,null," ",null,1,1900]
[null,null,null,null,null,null,null,null," ",null,1,1900]
[null,null,null,null,null,null,null,null," ",null,1,1900]
[null,null,null,null,null,null,null,null," ",null,1,1900]
[null,null,null,null,null,null,null,null," ",null,1,1900]
[null,null,null,null,null,null,null,null," ",null,1,1900]
[null,null,null,null,null,null,null,null," ",null,1,1900]
[null,null,null,null,null,null,null,null," ",null,1,1900]
[null,null,null,null,null,null,null,null," ",null,1,1900]
[null,null,null,null,null,null,null,null," ",null,1,1900]
[null,null,null,null,null,null,null,null," ",null,1,1900]
[null,null,null,null,null,null,null,null," ",null,1,1900]
[null,null,null,null,null,null,null,null," ",null,1,1900]
[null,null,null,null,null,null,null,null," ",null,1,1900]
[null,null,null,null,null,null,null,null," ",null,1,1900]
[null,null,null,null,null,null,null,null," ",null,1,1900]
[null,null,null,null,null,null,null,null," ",null,1,1900]
[null,null,null,null,null,null,null,null," ",null,1,1900]
[null,null,null,null,null,null,null,null," ",null,1,1900]
[null,null,null,null,null,null,null,null," ",null,1,1900]
[null,null,null,null,null,null,null,null," ",null,1,1900]
[null,null,null,null,null,null,null,null," ",null,1,1900]
[null,null,null,null,null,null,null,null," ",null,1,1900]
[null,null,null,null,null,null,null,null," ",null,1,1900]
[null,null,null,null,null,null,null,null," ",null,1,1900]
[null,null,null,null,null,null,null,null," ",null,1,1900]
[null,null,null,null,null,null,null,null," ",null,1,1900]
[null,null,null,null,null,null,null,null," ",null,1,1900]
[null,null,null,null,null,null,null,null," ",null,1,1900]
[null,null,null,null,null,null,null,null," ",null,1,1900]
[null,null,null,null,null,null,null,null," ",null,1,1900]
[null,null,null,null,null,null,null,null," ",null,1,1900]
[null,null,null,null,null,null,null,null," ",null,1,1900]
[null,null,null,null,null,null,null,null," ",null,1,1900]
[null,null,null,null,null,null,null,null," ",null,1,1900]
[null,null,null,null,null,null,null,null," ",null,1,1900]
[null,null,null,null,null,null,null,null," ",null,1,1900]
[null,null,null,null,null,null,null,null," ",null,1,1900]
[null,null,null,null,null,null,null,null,{"$f":"+IF(H568=H567,\" \",H568)","v":" "},null,{"$f":"+MONTH(A568)","v":1},{"$f":"+YEAR(A568)","v":1900}]
[null,null,null,null,null,null,null,null," ",null,1,1900]
[null,null,null,null,null,null,null,null," ",null,1,1900]
[null,null,null,null,null,null,null,null," ",null,1,1900]
[null,null,null,null,null,null,null,null," ",null,1,1900]
[null,null,null,null,null,null,null,null," ",null,1,1900]
[null,null,null,null,null,null,null,null," ",null,1,1900]
[null,null,null,null,null,null,null,null," ",null,1,1900]
[null,null,null,null,null,null,null,null," ",null,1,1900]
[null,null,null,null,null,null,null,null," ",null,1,1900]
[null,null,null,null,null,null,null,null," ",null,1,1900]
[null,null,null,null,null,null,null,null," ",null,1,1900]
[null,null,null,null,null,null,null,null," ",null,1,1900]
[null,null,null,null,null,null,null,null," ",null,1,1900]
[null,null,null,null,null,null,null,null," ",null,1,1900]
[null,null,null,null,null,null,null,null," ",null,1,1900]
[null,null,null,null,null,null,null,null," ",null,1,1900]
[null,null,null,null,null,null,null,null," ",null,1,1900]
[null,null,null,null,null,null,null,null," ",null,1,1900]
[null,null,null,null,null,null,null,null," ",null,1,1900]
[null,null,null,null,null,null,null,null," ",null,1,1900]
[null,null,null,null,null,null,null,null," ",null,1,1900]
[null,null,null,null,null,null,null,null," ",null,1,1900]
[null,null,null,null,null,null,null,null," ",null,1,1900]
[null,null,null,null,null,null,null,null," ",null,1,1900]
[null,null,null,null,null,null,null,null," ",null,1,1900]
[null,null,null,null,null,null,null,null," ",null,1,1900]
[null,null,null,null,null,null,null,null," ",null,1,1900]
[null,null,null,null,null,null,null,null," ",null,1,1900]
[null,null,null,null,null,null,null,null," ",null,1,1900]
[null,null,null,null,null,null,null,null," ",null,1,1900]
[null,null,null,null,null,null,null,null," ",null,1,1900]
[null,null,null,null,null,null,null,null," ",null,1,1900]
[null,null,null,null,null,null,null,null," ",null,1,1900]
[null,null,null,null,null,null,null,null," ",null,1,1900]
[null,null,null,null,null,null,null,null," ",null,1,1900]
[null,null,null,null,null,null,null,null," ",null,1,1900]
[null,null,null,null,null,null,null,null," ",null,1,1900]
[null,null,null,null,null,null,null,null," ",null,1,1900]
[null,null,null,null,null,null,null,null," ",null,1,1900]
[null,null,null,null,null,null,null,null," ",null,1,1900]
[null,null,null,null,null,null,null,null," ",null,1,1900]
[null,null,null,null,null,null,null,null," ",null,1,1900]
[null,null,null,null,null,null,null,null," ",null,1,1900]
[null,null,null,null,null,null,null,null," ",null,1,1900]
[null,null,null,null,null,null,null,null," ",null,1,1900]
[null,null,null,null,null,null,null,null," ",null,1,1900]
[null,null,null,null,null,null,null,null," ",null,1,1900]
[null,null,null,null,null,null,null,null," ",null,1,1900]
[null,null,null,null,null,null,null,null," ",null,1,1900]
[null,null,null,null,null,null,null,null," ",null,1,1900]
[null,null,null,null,null,null,null,null," ",null,1,1900]
[null,null,null,null,null,null,null,null," ",null,1,1900]
[null,null,null,null,null,null,null,null," ",null,1,1900]
[null,null,null,null,null,null,null,null," ",null,1,1900]
[null,null,null,null,null,null,null,null," ",null,1,1900]
[null,null,null,null,null,null,null,null," ",null,1,1900]
[null,null,null,null,null,null,null,null," ",null,1,1900]
[null,null,null,null,null,null,null,null," ",null,1,1900]
[null,null,null,null,null,null,null,null," ",null,1,1900]
[null,null,null,null,null,null,null,null," ",null,1,1900]
[null,null,null,null,null,null,null,null," ",null,1,1900]
[null,null,null,null,null,null,null,null," ",null,1,1900]
[null,null,null,null,null,null,null,null," ",null,1,1900]
[null,null,null,null,null,null,null,null,{"$f":"+IF(H632=H631,\" \",H632)","v":" "},null,{"$f":"+MONTH(A632)","v":1},{"$f":"+YEAR(A632)","v":1900}]
[null,null,null,null,null,null,null,null," ",null,1,1900]
[null,null,null,null,null,null,null,null," ",null,1,1900]
[null,null,null,null,null,null,null,null," ",null,1,1900]
[null,null,null,null,null,null,null,null," ",null,1,1900]
[null,null,null,null,null,null,null,null," ",null,1,1900]
[null,null,null,null,null,null,null,null," ",null,1,1900]
[null,null,null,null,null,null,null,null," ",null,1,1900]
[null,null,null,null,null,null,null,null," ",null,1,1900]
[null,null,null,null,null,null,null,null," ",null,1,1900]
[null,null,null,null,null,null,null,null," ",null,1,1900]
[null,null,null,null,null,null,null,null," ",null,1,1900]
[null,null,null,null,null,null,null,null," ",null,1,1900]
[null,null,null,null,null,null,null,null," ",null,1,1900]
[null,null,null,null,null,null,null,null," ",null,1,1900]
[null,null,null,null,null,null,null,null," ",null,1,1900]
[null,null,null,null,null,null,null,null," ",null,1,1900]
[null,null,null,null,null,null,null,null," ",null,1,1900]
[null,null,null,null,null,null,null,null," ",null,1,1900]
[null,null,null,null,null,null,null,null," ",null,1,1900]
[null,null,null,null,null,null,null,null," ",null,1,1900]
[null,null,null,null,null,null,null,null," ",null,1,1900]
[null,null,null,null,null,null,null,null," ",null,1,1900]
[null,null,null,null,null,null,null,null," ",null,1,1900]
[null,null,null,null,null,null,null,null," ",null,1,1900]
[null,null,null,null,null,null,null,null," ",null,1,1900]
[null,null,null,null,null,null,null,null," ",null,1,1900]
[null,null,null,null,null,null,null,null," ",null,1,1900]
[null,null,null,null,null,null,null,null," ",null,1,1900]
[null,null,null,null,null,null,null,null," ",null,1,1900]
[null,null,null,null,null,null,null,null," ",null,1,1900]
[null,null,null,null,null,null,null,null," ",null,1,1900]
[null,null,null,null,null,null,null,null," ",null,1,1900]
[null,null,null,null,null,null,null,null," ",null,1,1900]
[null,null,null,null,null,null,null,null," ",null,1,1900]
[null,null,null,null,null,null,null,null," ",null,1,1900]
[null,null,null,null,null,null,null,null," ",null,1,1900]
[null,null,null,null,null,null,null,null," ",null,1,1900]
[null,null,null,null,null,null,null,null," ",null,1,1900]
[null,null,null,null,null,null,null,null," ",null,1,1900]
[null,null,null,null,null,null,null,null," ",null,1,1900]
[null,null,null,null,null,null,null,null," ",null,1,1900]
[null,null,null,null,null,null,null,null," ",null,1,1900]
[null,null,null,null,null,null,null,null," ",null,1,1900]
[null,null,null,null,null,null,null,null," ",null,1,1900]
[null,null,null,null,null,null,null,null," ",null,1,1900]
[null,null,null,null,null,null,null,null," ",null,1,1900]
[null,null,null,null,null,null,null,null," ",null,1,1900]
[null,null,null,null,null,null,null,null," ",null,1,1900]
[null,null,null,null,null,null,null,null," ",null,1,1900]
[null,null,null,null,null,null,null,null," ",null,1,1900]
[null,null,null,null,null,null,null,null," ",null,1,1900]
[null,null,null,null,null,null,null,null," ",null,1,1900]
[null,null,null,null,null,null,null,null," ",null,1,1900]
[null,null,null,null,null,null,null,null," ",null,1,1900]
[null,null,null,null,null,null,null,null," ",null,1,1900]
[null,null,null,null,null,null,null,null," ",null,1,1900]
[null,null,null,null,null,null,null,null," ",null,1,1900]
[null,null,null,null,null,null,null,null," ",null,1,1900]
[null,null,null,null,null,null,null,null," ",null,1,1900]
[null,null,null,null,null,null,null,null," ",null,1,1900]
[null,null,null,null,null,null,null,null," ",null,1,1900]
[null,null,null,null,null,null,null,null," ",null,1,1900]
[null,null,null,null,null,null,null,null," ",null,1,1900]
[null,null,null,null,null,null,null,null,{"$f":"+IF(H696=H695,\" \",H696)","v":" "},null,{"$f":"+MONTH(A696)","v":1},{"$f":"+YEAR(A696)","v":1900}]
[null,null,null,null,null,null,null,null," ",null,1,1900]
[null,null,null,null,null,null,null,null," ",null,1,1900]
[null,null,null,null,null,null,null,null," ",null,1,1900]
[null,null,null,null,null,null,null,null," ",null,1,1900]
[null,null,null,null,null,null,null,null," ",null,1,1900]
[null,null,null,null,null,null,null,null," ",null,1,1900]
[null,null,null,null,null,null,null,null," ",null,1,1900]
[null,null,null,null,null,null,null,null," ",null,1,1900]
[null,null,null,null,null,null,null,null," ",null,1,1900]
[null,null,null,null,null,null,null,null," ",null,1,1900]
[null,null,null,null,null,null,null,null," ",null,1,1900]
[null,null,null,null,null,null,null,null," ",null,1,1900]
[null,null,null,null,null,null,null,null," ",null,1,1900]
[null,null,null,null,null,null,null,null," ",null,1,1900]
[null,null,null,null,null,null,null,null," ",null,1,1900]
[null,null,null,null,null,null,null,null," ",null,1,1900]
[null,null,null,null,null,null,null,null," ",null,1,1900]
[null,null,null,null,null,null,null,null," ",null,1,1900]
[null,null,null,null,null,null,null,null," ",null,1,1900]
[null,null,null,null,null,null,null,null," ",null,1,1900]
[null,null,null,null,null,null,null,null," ",null,1,1900]
[null,null,null,null,null,null,null,null," ",null,1,1900]
[null,null,null,null,null,null,null,null," ",null,1,1900]
[null,null,null,null,null,null,null,null," ",null,1,1900]
[null,null,null,null,null,null,null,null," ",null,1,1900]
[null,null,null,null,null,null,null,null," ",null,1,1900]
[null,null,null,null,null,null,null,null," ",null,1,1900]
[null,null,null,null,null,null,null,null," ",null,1,1900]
[null,null,null,null,null,null,null,null," ",null,1,1900]
[null,null,null,null,null,null,null,null," ",null,1,1900]
[null,null,null,null,null,null,null,null," ",null,1,1900]
[null,null,null,null,null,null,null,null," ",null,1,1900]
[null,null,null,null,null,null,null,null," ",null,1,1900]
[null,null,null,null,null,null,null,null," ",null,1,1900]
[null,null,null,null,null,null,null,null," ",null,1,1900]
[null,null,null,null,null,null,null,null," ",null,1,1900]
[null,null,null,null,null,null,null,null," ",null,1,1900]
[null,null,null,null,null,null,null,null," ",null,1,1900]
[null,null,null,null,null,null,null,null," ",null,1,1900]
[null,null,null,null,null,null,null,null," ",null,1,1900]
[null,null,null,null,null,null,null,null," ",null,1,1900]
[null,null,null,null,null,null,null,null," ",null,1,1900]
[null,null,null,null,null,null,null,null," ",null,1,1900]
[null,null,null,null,null,null,null,null," ",null,1,1900]
[null,null,null,null,null,null,null,null," ",null,1,1900]
[null,null,null,null,null,null,null,null," ",null,1,1900]
[null,null,null,null,null,null,null,null," ",null,1,1900]
[null,null,null,null,null,null,null,null," ",null,1,1900]
[null,null,null,null,null,null,null,null," ",null,1,1900]
[null,null,null,null,null,null,null,null," ",null,1,1900]
[null,null,null,null,null,null,null,null," ",null,1,1900]
[null,null,null,null,null,null,null,null," ",null,1,1900]
[null,null,null,null,null,null,null,null," ",null,1,1900]
[null,null,null,null,null,null,null,null," ",null,1,1900]
[null,null,null,null,null,null,null,null," ",null,1,1900]
[null,null,null,null,null,null,null,null," ",null,1,1900]
[null,null,null,null,null,null,null,null," ",null,1,1900]
[null,null,null,null,null,null,null,null," ",null,1,1900]
[null,null,null,null,null,null,null,null," ",null,1,1900]
[null,null,null,null,null,null,null,null," ",null,1,1900]
[null,null,null,null,null,null,null,null," ",null,1,1900]
[null,null,null,null,null,null,null,null," ",null,1,1900]
[null,null,null,null,null,null,null,null," ",null,1,1900]
[null,null,null,null,null,null,null,null,{"$f":"+IF(H760=H759,\" \",H760)","v":" "},null,{"$f":"+MONTH(A760)","v":1},{"$f":"+YEAR(A760)","v":1900}]
[null,null,null,null,null,null,null,null," ",null,1,1900]
[null,null,null,null,null,null,null,null," ",null,1,1900]
[null,null,null,null,null,null,null,null," ",null,1,1900]
[null,null,null,null,null,null,null,null," ",null,1,1900]
[null,null,null,null,null,null,null,null," ",null,1,1900]
[null,null,null,null,null,null,null,null," ",null,1,1900]
[null,null,null,null,null,null,null,null," ",null,1,1900]
[null,null,null,null,null,null,null,null," ",null,1,1900]
[null,null,null,null,null,null,null,null," ",null,1,1900]
[null,null,null,null,null,null,null,null," ",null,1,1900]
[null,null,null,null,null,null,null,null," ",null,1,1900]
[null,null,null,null,null,null,null,null," ",null,1,1900]
[null,null,null,null,null,null,null,null," ",null,1,1900]
[null,null,null,null,null,null,null,null," ",null,1,1900]
[null,null,null,null,null,null,null,null," ",null,1,1900]
[null,null,null,null,null,null,null,null," ",null,1,1900]
[null,null,null,null,null,null,null,null," ",null,1,1900]
[null,null,null,null,null,null,null,null," ",null,1,1900]
[null,null,null,null,null,null,null,null," ",null,1,1900]
[null,null,null,null,null,null,null,null," ",null,1,1900]
[null,null,null,null,null,null,null,null," ",null,1,1900]
[null,null,null,null,null,null,null,null," ",null,1,1900]
[null,null,null,null,null,null,null,null," ",null,1,1900]
[null,null,null,null,null,null,null,null," ",null,1,1900]
[null,null,null,null,null,null,null,null," ",null,1,1900]
[null,null,null,null,null,null,null,null," ",null,1,1900]
[null,null,null,null,null,null,null,null," ",null,1,1900]
[null,null,null,null,null,null,null,null," ",null,1,1900]
[null,null,null,null,null,null,null,null," ",null,1,1900]
[null,null,null,null,null,null,null,null," ",null,1,1900]
[null,null,null,null,null,null,null,null," ",null,1,1900]
[null,null,null,null,null,null,null,null," ",null,1,1900]
[null,null,null,null,null,null,null,null," ",null,1,1900]
[null,null,null,null,null,null,null,null," ",null,1,1900]
[null,null,null,null,null,null,null,null," ",null,1,1900]
[null,null,null,null,null,null,null,null," ",null,1,1900]
[null,null,null,null,null,null,null,null," ",null,1,1900]
[null,null,null,null,null,null,null,null," ",null,1,1900]
[null,null,null,null,null,null,null,null," ",null,1,1900]
[null,null,null,null,null,null,null,null," ",null,1,1900]
[null,null,null,null,null,null,null,null," ",null,1,1900]
[null,null,null,null,null,null,null,null," ",null,1,1900]
[null,null,null,null,null,null,null,null," ",null,1,1900]
[null,null,null,null,null,null,null,null," ",null,1,1900]
[null,null,null,null,null,null,null,null," ",null,1,1900]
[null,null,null,null,null,null,null,null," ",null,1,1900]
[null,null,null,null,null,null,null,null," ",null,1,1900]
[null,null,null,null,null,null,null,null," ",null,1,1900]
[null,null,null,null,null,null,null,null," ",null,1,1900]
[null,null,null,null,null,null,null,null," ",null,1,1900]
[null,null,null,null,null,null,null,null," ",null,1,1900]
[null,null,null,null,null,null,null,null," ",null,1,1900]
[null,null,null,null,null,null,null,null," ",null,1,1900]
[null,null,null,null,null,null,null,null," ",null,1,1900]
[null,null,null,null,null,null,null,null," ",null,1,1900]
[null,null,null,null,null,null,null,null," ",null,1,1900]
[null,null,null,null,null,null,null,null," ",null,1,1900]
[null,null,null,null,null,null,null,null," ",null,1,1900]
[null,null,null,null,null,null,null,null," ",null,1,1900]
[null,null,null,null,null,null,null,null," ",null,1,1900]
[null,null,null,null,null,null,null,null," ",null,1,1900]
[null,null,null,null,null,null,null,null," ",null,1,1900]
[null,null,null,null,null,null,null,null," ",null,1,1900]
[null,null,null,null,null,null,null,null,{"$f":"+IF(H824=H823,\" \",H824)","v":" "},null,{"$f":"+MONTH(A824)","v":1},{"$f":"+YEAR(A824)","v":1900}]
[null,null,null,null,null,null,null,null," ",null,1,1900]
[null,null,null,null,null,null,null,null," ",null,1,1900]
[null,null,null,null,null,null,null,null," ",null,1,1900]
[null,null,null,null,null,null,null,null," ",null,1,1900]
[null,null,null,null,null,null,null,null," ",null,1,1900]
[null,null,null,null,null,null,null,null," ",null,1,1900]
[null,null,null,null,null,null,null,null," ",null,1,1900]
[null,null,null,null,null,null,null,null," ",null,1,1900]
[null,null,null,null,null,null,null,null," ",null,1,1900]
[null,null,null,null,null,null,null,null," ",null,1,1900]
[null,null,null,null,null,null,null,null," ",null,1,1900]
[null,null,null,null,null,null,null,null," ",null,1,1900]
[null,null,null,null,null,null,null,null," ",null,1,1900]
[null,null,null,null,null,null,null,null," ",null,1,1900]
[null,null,null,null,null,null,null,null," ",null,1,1900]
[null,null,null,null,null,null,null,null," ",null,1,1900]
[null,null,null,null,null,null,null,null," ",null,1,1900]
[null,null,null,null,null,null,null,null," ",null,1,1900]
[null,null,null,null,null,null,null,null," ",null,1,1900]
[null,null,null,null,null,null,null,null," ",null,1,1900]
[null,null,null,null,null,null,null,null," ",null,1,1900]
[null,null,null,null,null,null,null,null," ",null,1,1900]
[null,null,null,null,null,null,null,null," ",null,1,1900]
[null,null,null,null,null,null,null,null," ",null,1,1900]
[null,null,null,null,null,null,null,null," ",null,1,1900]
[null,null,null,null,null,null,null,null," ",null,1,1900]
[null,null,null,null,null,null,null,null," ",null,1,1900]
[null,null,null,null,null,null,null,null," ",null,1,1900]
[null,null,null,null,null,null,null,null," ",null,1,1900]
[null,null,null,null,null,null,null,null," ",null,1,1900]
[null,null,null,null,null,null,null,null," ",null,1,1900]
[null,null,null,null,null,null,null,null," ",null,1,1900]
[null,null,null,null,null,null,null,null," ",null,1,1900]
[null,null,null,null,null,null,null,null," ",null,1,1900]
[null,null,null,null,null,null,null,null," ",null,1,1900]
[null,null,null,null,null,null,null,null," ",null,1,1900]
[null,null,null,null,null,null,null,null," ",null,1,1900]
[null,null,null,null,null,null,null,null," ",null,1,1900]
[null,null,null,null,null,null,null,null," ",null,1,1900]
[null,null,null,null,null,null,null,null," ",null,1,1900]
[null,null,null,null,null,null,null,null," ",null,1,1900]
[null,null,null,null,null,null,null,null," ",null,1,1900]
[null,null,null,null,null,null,null,null," ",null,1,1900]
[null,null,null,null,null,null,null,null," ",null,1,1900]
[null,null,null,null,null,null,null,null," ",null,1,1900]
[null,null,null,null,null,null,null,null," ",null,1,1900]
[null,null,null,null,null,null,null,null," ",null,1,1900]
[null,null,null,null,null,null,null,null," ",null,1,1900]
[null,null,null,null,null,null,null,null," ",null,1,1900]
[null,null,null,null,null,null,null,null," ",null,1,1900]
[null,null,null,null,null,null,null,null," ",null,1,1900]
[null,null,null,null,null,null,null,null," ",null,1,1900]
[null,null,null,null,null,null,null,null," ",null,1,1900]
[null,null,null,null,null,null,null,null," ",null,1,1900]
[null,null,null,null,null,null,null,null," ",null,1,1900]
[null,null,null,null,null,null,null,null," ",null,1,1900]
[null,null,null,null,null,null,null,null," ",null,1,1900]
[null,null,null,null,null,null,null,null," ",null,1,1900]
[null,null,null,null,null,null,null,null," ",null,1,1900]
[null,null,null,null,null,null,null,null," ",null,1,1900]
[null,null,null,null,null,null,null,null," ",null,1,1900]
[null,null,null,null,null,null,null,null," ",null,1,1900]
[null,null,null,null,null,null,null,null," ",null,1,1900]
[null,null,null,null,null,null,null,null,{"$f":"+IF(H888=H887,\" \",H888)","v":" "},null,{"$f":"+MONTH(A888)","v":1},{"$f":"+YEAR(A888)","v":1900}]
[null,null,null,null,null,null,null,null," ",null,1,1900]
[null,null,null,null,null,null,null,null," ",null,1,1900]
[null,null,null,null,null,null,null,null," ",null,1,1900]
[null,null,null,null,null,null,null,null," ",null,1,1900]
[null,null,null,null,null,null,null,null," ",null,1,1900]
[null,null,null,null,null,null,null,null," ",null,1,1900]
[null,null,null,null,null,null,null,null," ",null,1,1900]
[null,null,null,null,null,null,null,null," ",null,1,1900]
[null,null,null,null,null,null,null,null," ",null,1,1900]
[null,null,null,null,null,null,null,null," ",null,1,1900]
[null,null,null,null,null,null,null,null," ",null,1,1900]
[null,null,null,null,null,null,null,null," ",null,1,1900]
[null,null,null,null,null,null,null,null," ",null,1,1900]
[null,null,null,null,null,null,null,null," ",null,1,1900]
[null,null,null,null,null,null,null,null," ",null,1,1900]
[null,null,null,null,null,null,null,null," ",null,1,1900]
[null,null,null,null,null,null,null,null," ",null,1,1900]
[null,null,null,null,null,null,null,null," ",null,1,1900]
[null,null,null,null,null,null,null,null," ",null,1,1900]
[null,null,null,null,null,null,null,null," ",null,1,1900]
[null,null,null,null,null,null,null,null," ",null,1,1900]
[null,null,null,null,null,null,null,null," ",null,1,1900]
[null,null,null,null,null,null,null,null," ",null,1,1900]
[null,null,null,null,null,null,null,null," ",null,1,1900]
[null,null,null,null,null,null,null,null," ",null,1,1900]
[null,null,null,null,null,null,null,null," ",null,1,1900]
[null,null,null,null,null,null,null,null," ",null,1,1900]
[null,null,null,null,null,null,null,null," ",null,1,1900]
[null,null,null,null,null,null,null,null," ",null,1,1900]
[null,null,null,null,null,null,null,null," ",null,1,1900]
[null,null,null,null,null,null,null,null," ",null,1,1900]
[null,null,null,null,null,null,null,null," ",null,1,1900]
[null,null,null,null,null,null,null,null," ",null,1,1900]
[null,null,null,null,null,null,null,null," ",null,1,1900]
[null,null,null,null,null,null,null,null," ",null,1,1900]
[null,null,null,null,null,null,null,null," ",null,1,1900]
[null,null,null,null,null,null,null,null," ",null,1,1900]
[null,null,null,null,null,null,null,null," ",null,1,1900]
[null,null,null,null,null,null,null,null," ",null,1,1900]
[null,null,null,null,null,null,null,null," ",null,1,1900]
[null,null,null,null,null,null,null,null," ",null,1,1900]
[null,null,null,null,null,null,null,null," ",null,1,1900]
[null,null,null,null,null,null,null,null," ",null,1,1900]
[null,null,null,null,null,null,null,null," ",null,1,1900]
[null,null,null,null,null,null,null,null," ",null,1,1900]
[null,null,null,null,null,null,null,null," ",null,1,1900]
[null,null,null,null,null,null,null,null," ",null,1,1900]
[null,null,null,null,null,null,null,null," ",null,1,1900]
[null,null,null,null,null,null,null,null," ",null,1,1900]
[null,null,null,null,null,null,null,null," ",null,1,1900]
[null,null,null,null,null,null,null,null," ",null,1,1900]
[null,null,null,null,null,null,null,null," ",null,1,1900]
[null,null,null,null,null,null,null,null," ",null,1,1900]
[null,null,null,null,null,null,null,null," ",null,1,1900]
[null,null,null,null,null,null,null,null," ",null,1,1900]
[null,null,null,null,null,null,null,null," ",null,1,1900]
[null,null,null,null,null,null,null,null," ",null,1,1900]
[null,null,null,null,null,null,null,null," ",null,1,1900]
[null,null,null,null,null,null,null,null," ",null,1,1900]
[null,null,null,null,null,null,null,null," ",null,1,1900]
[null,null,null,null,null,null,null,null," ",null,1,1900]
[null,null,null,null,null,null,null,null," ",null,1,1900]
[null,null,null,null,null,null,null,null," ",null,1,1900]
[null,null,null,null,null,null,null,null,{"$f":"+IF(H952=H951,\" \",H952)","v":" "},null,{"$f":"+MONTH(A952)","v":1},{"$f":"+YEAR(A952)","v":1900}]
[null,null,null,null,null,null,null,null," ",null,1,1900]
[null,null,null,null,null,null,null,null," ",null,1,1900]
[null,null,null,null,null,null,null,null," ",null,1,1900]
[null,null,null,null,null,null,null,null," ",null,1,1900]
[null,null,null,null,null,null,null,null," ",null,1,1900]
[null,null,null,null,null,null,null,null," ",null,1,1900]
[null,null,null,null,null,null,null,null," ",null,1,1900]
[null,null,null,null,null,null,null,null," ",null,1,1900]
[null,null,null,null,null,null,null,null," ",null,1,1900]
[null,null,null,null,null,null,null,null," ",null,1,1900]
[null,null,null,null,null,null,null,null," ",null,1,1900]
[null,null,null,null,null,null,null,null," ",null,1,1900]
[null,null,null,null,null,null,null,null," ",null,1,1900]
[null,null,null,null,null,null,null,null," ",null,1,1900]
[null,null,null,null,null,null,null,null," ",null,1,1900]
[null,null,null,null,null,null,null,null," ",null,1,1900]
[null,null,null,null,null,null,null,null," ",null,1,1900]
[null,null,null,null,null,null,null,null," ",null,1,1900]
[null,null,null,null,null,null,null,null," ",null,1,1900]
[null,null,null,null,null,null,null,null," ",null,1,1900]
[null,null,null,null,null,null,null,null," ",null,1,1900]
[null,null,null,null,null,null,null,null," ",null,1,1900]
[null,null,null,null,null,null,null,null," ",null,1,1900]
[null,null,null,null,null,null,null,null," ",null,1,1900]
[null,null,null,null,null,null,null,null," ",null,1,1900]
[null,null,null,null,null,null,null,null," ",null,1,1900]
[null,null,null,null,null,null,null,null," ",null,1,1900]
[null,null,null,null,null,null,null,null," ",null,1,1900]
[null,null,null,null,null,null,null,null," ",null,1,1900]
[null,null,null,null,null,null,null,null," ",null,1,1900]
[null,null,null,null,null,null,null,null," ",null,1,1900]
[null,null,null,null,null,null,null,null," ",null,1,1900]
[null,null,null,null,null,null,null,null," ",null,1,1900]
[null,null,null,null,null,null,null,null," ",null,1,1900]
[null,null,null,null,null,null,null,null," ",null,1,1900]
[null,null,null,null,null,null,null,null," ",null,1,1900]
[null,null,null,null,null,null,null,null," ",null,1,1900]
[null,null,null,null,null,null,null,null," ",null,1,1900]
[null,null,null,null,null,null,null,null," ",null,1,1900]
[null,null,null,null,null,null,null,null," ",null,1,1900]
[null,null,null,null,null,null,null,null," ",null,1,1900]
[null,null,null,null,null,null,null,null," ",null,1,1900]
[null,null,null,null,null,null,null,null," ",null,1,1900]
[null,null,null,null,null,null,null,null," ",null,1,1900]
[null,null,null,null,null,null,null,null," ",null,1,1900]
[null,null,null,null,null,null,null,null," ",null,1,1900]
[null,null,null,null,null,null,null,null," ",null,1,1900]
[null,null,null,null,null,null,null,null," ",null,1,1900]
[null,null,null,null,null,null,null,null," ",null,1,1900]
[null,null,null,null,null,null,null,null," ",null,1,1900]
[null,null,null,null,null,null,null,null," ",null,1,1900]
[null,null,null,null,null,null,null,null," ",null,1,1900]
[null,null,null,null,null,null,null,null," ",null,1,1900]
[null,null,null,null,null,null,null,null," ",null,1,1900]
[null,null,null,null,null,null,null,null," ",null,1,1900]
[null,null,null,null,null,null,null,null," ",null,1,1900]
[null,null,null,null,null,null,null,null," ",null,1,1900]
[null,null,null,null,null,null,null,null," ",null,1,1900]
[null,null,null,null,null,null,null,null," ",null,1,1900]
[null,null,null,null,null,null,null,null," ",null,1,1900]
[null,null,null,null,null,null,null,null," ",null,1,1900]
[null,null,null,null,null,null,null,null," ",null,1,1900]
[null,null,null,null,null,null,null,null," ",null,1,1900]
[null,null,null,null,null,null,null,null,{"$f":"+IF(H1016=H1015,\" \",H1016)","v":" "},null,{"$f":"+MONTH(A1016)","v":1},{"$f":"+YEAR(A1016)","v":1900}]
[null,null,null,null,null,null,null,null," ",null,1,1900]
[null,null,null,null,null,null,null,null," ",null,1,1900]
[null,null,null,null,null,null,null,null," ",null,1,1900]
[null,null,null,null,null,null,null,null," ",null,1,1900]
[null,null,null,null,null,null,null,null," ",null,1,1900]
[null,null,null,null,null,null,null,null," ",null,1,1900]
[null,null,null,null,null,null,null,null," ",null,1,1900]
[null,null,null,null,null,null,null,null," ",null,1,1900]
[null,null,null,null,null,null,null,null," ",null,1,1900]
[null,null,null,null,null,null,null,null," ",null,1,1900]
[null,null,null,null,null,null,null,null," ",null,1,1900]
[null,null,null,null,null,null,null,null," ",null,1,1900]
[null,null,null,null,null,null,null,null," ",null,1,1900]
[null,null,null,null,null,null,null,null," ",null,1,1900]
[null,null,null,null,null,null,null,null," ",null,1,1900]
[null,null,null,null,null,null,null,null," ",null,1,1900]
[null,null,null,null,null,null,null,null," ",null,1,1900]
[null,null,null,null,null,null,null,null," ",null,1,1900]
[null,null,null,null,null,null,null,null," ",null,1,1900]
[null,null,null,null,null,null,null,null," ",null,1,1900]
[null,null,null,null,null,null,null,null," ",null,1,1900]
[null,null,null,null,null,null,null,null," ",null,1,1900]
[null,null,null,null,null,null,null,null," ",null,1,1900]
[null,null,null,null,null,null,null,null," ",null,1,1900]
[null,null,null,null,null,null,null,null," ",null,1,1900]
[null,null,null,null,null,null,null,null," ",null,1,1900]
[null,null,null,null,null,null,null,null," ",null,1,1900]
[null,null,null,null,null,null,null,null," ",null,1,1900]
[null,null,null,null,null,null,null,null," ",null,1,1900]
[null,null,null,null,null,null,null,null," ",null,1,1900]
[null,null,null,null,null,null,null,null," ",null,1,1900]
[null,null,null,null,null,null,null,null," ",null,1,1900]
[null,null,null,null,null,null,null,null," ",null,1,1900]
[null,null,null,null,null,null,null,null," ",null,1,1900]
[null,null,null,null,null,null,null,null," ",null,1,1900]
[null,null,null,null,null,null,null,null," ",null,1,1900]
[null,null,null,null,null,null,null,null," ",null,1,1900]
[null,null,null,null,null,null,null,null," ",null,1,1900]
[null,null,null,null,null,null,null,null," ",null,1,1900]
[null,null,null,null,null,null,null,null," ",null,1,1900]
[null,null,null,null,null,null,null,null," ",null,1,1900]
[null,null,null,null,null,null,null,null," ",null,1,1900]
[null,null,null,null,null,null,null,null," ",null,1,1900]
[null,null,null,null,null,null,null,null," ",null,1,1900]
[null,null,null,null,null,null,null,null," ",null,1,1900]
[null,null,null,null,null,null,null,null," ",null,1,1900]
[null,null,null,null,null,null,null,null," ",null,1,1900]
[null,null,null,null,null,null,null,null," ",null,1,1900]
[null,null,null,null,null,null,null,null," ",null,1,1900]
[null,null,null,null,null,null,null,null," ",null,1,1900]
[null,null,null,null,null,null,null,null," ",null,1,1900]
[null,null,null,null,null,null,null,null," ",null,1,1900]
[null,null,null,null,null,null,null,null," ",null,1,1900]
[null,null,null,null,null,null,null,null," ",null,1,1900]
[null,null,null,null,null,null,null,null," ",null,1,1900]
[null,null,null,null,null,null,null,null," ",null,1,1900]
[null,null,null,null,null,null,null,null," ",null,1,1900]
[null,null,null,null,null,null,null,null," ",null,1,1900]
[null,null,null,null,null,null,null,null," ",null,1,1900]
[null,null,null,null,null,null,null,null," ",null,1,1900]
[null,null,null,null,null,null,null,null," ",null,1,1900]
[null,null,null,null,null,null,null,null," ",null,1,1900]
[null,null,null,null,null,null,null,null," ",null,1,1900]
[null,null,null,null,null,null,null,null,{"$f":"+IF(H1080=H1079,\" \",H1080)","v":" "},null,{"$f":"+MONTH(A1080)","v":1},{"$f":"+YEAR(A1080)","v":1900}]
[null,null,null,null,null,null,null,null," ",null,1,1900]
[null,null,null,null,null,null,null,null," ",null,1,1900]
[null,null,null,null,null,null,null,null," ",null,1,1900]
[null,null,null,null,null,null,null,null," ",null,1,1900]
[null,null,null,null,null,null,null,null," ",null,1,1900]
[null,null,null,null,null,null,null,null," ",null,1,1900]
[null,null,null,null,null,null,null,null," ",null,1,1900]
[null,null,null,null,null,null,null,null," ",null,1,1900]
[null,null,null,null,null,null,null,null," ",null,1,1900]
[null,null,null,null,null,null,null,null," ",null,1,1900]
[null,null,null,null,null,null,null,null," ",null,1,1900]
[null,null,null,null,null,null,null,null," ",null,1,1900]
[null,null,null,null,null,null,null,null," ",null,1,1900]
[null,null,null,null,null,null,null,null," ",null,1,1900]
[null,null,null,null,null,null,null,null," ",null,1,1900]
[null,null,null,null,null,null,null,null," ",null,1,1900]
[null,null,null,null,null,null,null,null," ",null,1,1900]
[null,null,null,null,null,null,null,null," ",null,1,1900]
[null,null,null,null,null,null,null,null," ",null,1,1900]
[null,null,null,null,null,null,null,null," ",null,1,1900]
[null,null,null,null,null,null,null,null," ",null,1,1900]
[null,null,null,null,null,null,null,null," ",null,1,1900]
[null,null,null,null,null,null,null,null," ",null,1,1900]
[null,null,null,null,null,null,null,null," ",null,1,1900]
[null,null,null,null,null,null,null,null," ",null,1,1900]
[null,null,null,null,null,null,null,null," ",null,1,1900]
[null,null,null,null,null,null,null,null," ",null,1,1900]
[null,null,null,null,null,null,null,null," ",null,1,1900]
[null,null,null,null,null,null,null,null," ",null,1,1900]
[null,null,null,null,null,null,null,null," ",null,1,1900]
[null,null,null,null,null,null,null,null," ",null,1,1900]
[null,null,null,null,null,null,null,null," ",null,1,1900]
[null,null,null,null,null,null,null,null," ",null,1,1900]
[null,null,null,null,null,null,null,null," ",null,1,1900]
[null,null,null,null,null,null,null,null," ",null,1,1900]
[null,null,null,null,null,null,null,null," ",null,1,1900]
[null,null,null,null,null,null,null,null," ",null,1,1900]
[null,null,null,null,null,null,null,null," ",null,1,1900]
[null,null,null,null,null,null,null,null," ",null,1,1900]
[null,null,null,null,null,null,null,null," ",null,1,1900]
[null,null,null,null,null,null,null,null," ",null,1,1900]
[null,null,null,null,null,null,null,null," ",null,1,1900]
[null,null,null,null,null,null,null,null," ",null,1,1900]
[null,null,null,null,null,null,null,null," ",null,1,1900]
[null,null,null,null,null,null,null,null," ",null,1,1900]
[null,null,null,null,null,null,null,null," ",null,1,1900]
[null,null,null,null,null,null,null,null," ",null,1,1900]
[null,null,null,null,null,null,null,null," ",null,1,1900]
[null,null,null,null,null,null,null,null," ",null,1,1900]
[null,null,null,null,null,null,null,null," ",null,1,1900]
[null,null,null,null,null,null,null,null," ",null,1,1900]
[null,null,null,null,null,null,null,null," ",null,1,1900]
[null,null,null,null,null,null,null,null," ",null,1,1900]
[null,null,null,null,null,null,null,null," ",null,1,1900]
[null,null,null,null,null,null,null,null," ",null,1,1900]
[null,null,null,null,null,null,null,null," ",null,1,1900]
[null,null,null,null,null,null,null,null," ",null,1,1900]
[null,null,null,null,null,null,null,null," ",null,1,1900]
[null,null,null,null,null,null,null,null," ",null,1,1900]
[null,null,null,null,null,null,null,null," ",null,1,1900]
[null,null,null,null,null,null,null,null," ",null,1,1900]
[null,null,null,null,null,null,null,null," ",null,1,1900]
[null,null,null,null,null,null,null,null," ",null,1,1900]
[null,null,null,null,null,null,null,null,{"$f":"+IF(H1144=H1143,\" \",H1144)","v":" "},null,{"$f":"+MONTH(A1144)","v":1},{"$f":"+YEAR(A1144)","v":1900}]
[null,null,null,null,null,null,null,null," ",null,1,1900]
[null,null,null,null,null,null,null,null," ",null,1,1900]
[null,null,null,null,null,null,null,null," ",null,1,1900]
[null,null,null,null,null,null,null,null," ",null,1,1900]
[null,null,null,null,null,null,null,null," ",null,1,1900]
[null,null,null,null,null,null,null,null," ",null,1,1900]
[null,null,null,null,null,null,null,null," ",null,1,1900]
[null,null,null,null,null,null,null,null," ",null,1,1900]
[null,null,null,null,null,null,null,null," ",null,1,1900]
[null,null,null,null,null,null,null,null," ",null,1,1900]
[null,null,null,null,null,null,null,null," ",null,1,1900]
[null,null,null,null,null,null,null,null," ",null,1,1900]
[null,null,null,null,null,null,null,null," ",null,1,1900]
[null,null,null,null,null,null,null,null," ",null,1,1900]
[null,null,null,null,null,null,null,null," ",null,1,1900]
[null,null,null,null,null,null,null,null," ",null,1,1900]
[null,null,null,null,null,null,null,null," ",null,1,1900]
[null,null,null,null,null,null,null,null," ",null,1,1900]
[null,null,null,null,null,null,null,null," ",null,1,1900]
[null,null,null,null,null,null,null,null," ",null,1,1900]
[null,null,null,null,null,null,null,null," ",null,1,1900]
[null,null,null,null,null,null,null,null," ",null,1,1900]
[null,null,null,null,null,null,null,null," ",null,1,1900]
[null,null,null,null,null,null,null,null," ",null,1,1900]
[null,null,null,null,null,null,null,null," ",null,1,1900]
[null,null,null,null,null,null,null,null," ",null,1,1900]
[null,null,null,null,null,null,null,null," ",null,1,1900]
[null,null,null,null,null,null,null,null," ",null,1,1900]
[null,null,null,null,null,null,null,null," ",null,1,1900]
[null,null,null,null,null,null,null,null," ",null,1,1900]
[null,null,null,null,null,null,null,null," ",null,1,1900]
[null,null,null,null,null,null,null,null," ",null,1,1900]
[null,null,null,null,null,null,null,null," ",null,1,1900]
[null,null,null,null,null,null,null,null," ",null,1,1900]
[null,null,null,null,null,null,null,null," ",null,1,1900]
[null,null,null,null,null,null,null,null," ",null,1,1900]
[null,null,null,null,null,null,null,null," ",null,1,1900]
[null,null,null,null,null,null,null,null," ",null,1,1900]
[null,null,null,null,null,null,null,null," ",null,1,1900]
[null,null,null,null,null,null,null,null," ",null,1,1900]
[null,null,null,null,null,null,null,null," ",null,1,1900]
[null,null,null,null,null,null,null,null," ",null,1,1900]
[null,null,null,null,null,null,null,null," ",null,1,1900]
[null,null,null,null,null,null,null,null," ",null,1,1900]
[null,null,null,null,null,null,null,null," ",null,1,1900]
[null,null,null,null,null,null,null,null," ",null,1,1900]
[null,null,null,null,null,null,null,null," ",null,1,1900]
[null,null,null,null,null,null,null,null," ",null,1,1900]
[null,null,null,null,null,null,null,null," ",null,1,1900]
[null,null,null,null,null,null,null,null," ",null,1,1900]
[null,null,null,null,null,null,null,null," ",null,1,1900]
[null,null,null,null,null,null,null,null," ",null,1,1900]
[null,null,null,null,null,null,null,null," ",null,1,1900]
[null,null,null,null,null,null,null,null," ",null,1,1900]
[null,null,null,null,null,null,null,null," ",null,1,1900]
[null,null,null,null,null,null,null,null," ",null,1,1900]
[null,null,null,null,null,null,null,null," ",null,1,1900]
[null,null,null,null,null,null,null,null," ",null,1,1900]
[null,null,null,null,null,null,null,null," ",null,1,1900]
[null,null,null,null,null,null,null,null," ",null,1,1900]
[null,null,null,null,null,null,null,null," ",null,1,1900]
[null,null,null,null,null,null,null,null," ",null,1,1900]
[null,null,null,null,null,null,null,null," ",null,1,1900]
[null,null,null,null,null,null,null,null,{"$f":"+IF(H1208=H1207,\" \",H1208)","v":" "},null,{"$f":"+MONTH(A1208)","v":1},{"$f":"+YEAR(A1208)","v":1900}]
[null,null,null,null,null,null,null,null," ",null,1,1900]
[null,null,null,null,null,null,null,null," ",null,1,1900]
[null,null,null,null,null,null,null,null," ",null,1,1900]
[null,null,null,null,null,null,null,null," ",null,1,1900]
[null,null,null,null,null,null,null,null," ",null,1,1900]
[null,null,null,null,null,null,null,null," ",null,1,1900]
[null,null,null,null,null,null,null,null," ",null,1,1900]
[null,null,null,null,null,null,null,null," ",null,1,1900]
[null,null,null,null,null,null,null,null," ",null,1,1900]
[null,null,null,null,null,null,null,null," ",null,1,1900]
[null,null,null,null,null,null,null,null," ",null,1,1900]
[null,null,null,null,null,null,null,null," ",null,1,1900]
[null,null,null,null,null,null,null,null," ",null,1,1900]
[null,null,null,null,null,null,null,null," ",null,1,1900]
[null,null,null,null,null,null,null,null," ",null,1,1900]
[null,null,null,null,null,null,null,null," ",null,1,1900]
[null,null,null,null,null,null,null,null," ",null,1,1900]
[null,null,null,null,null,null,null,null," ",null,1,1900]
[null,null,null,null,null,null,null,null," ",null,1,1900]
[null,null,null,null,null,null,null,null," ",null,1,1900]
[null,null,null,null,null,null,null,null," ",null,1,1900]
[null,null,null,null,null,null,null,null," ",null,1,1900]
[null,null,null,null,null,null,null,null," ",null,1,1900]
[null,null,null,null,null,null,null,null," ",null,1,1900]
[null,null,null,null,null,null,null,null," ",null,1,1900]
[null,null,null,null,null,null,null,null," ",null,1,1900]
[null,null,null,null,null,null,null,null," ",null,1,1900]
[null,null,null,null,null,null,null,null," ",null,1,1900]
[null,null,null,null,null,null,null,null," ",null,1,1900]
[null,null,null,null,null,null,null,null," ",null,1,1900]
[null,null,null,null,null,null,null,null," ",null,1,1900]
[null,null,null,null,null,null,null,null," ",null,1,1900]
[null,null,null,null,null,null,null,null," ",null,1,1900]
[null,null,null,null,null,null,null,null," ",null,1,1900]
[null,null,null,null,null,null,null,null," ",null,1,1900]
[null,null,null,null,null,null,null,null," ",null,1,1900]
[null,null,null,null,null,null,null,null," ",null,1,1900]
[null,null,null,null,null,null,null,null," ",null,1,1900]
[null,null,null,null,null,null,null,null," ",null,1,1900]
[null,null,null,null,null,null,null,null," ",null,1,1900]
[null,null,null,null,null,null,null,null," ",null,1,1900]
[null,null,null,null,null,null,null,null," ",null,1,1900]
[null,null,null,null,null,null,null,null," ",null,1,1900]
[null,null,null,null,null,null,null,null," ",null,1,1900]
[null,null,null,null,null,null,null,null," ",null,1,1900]
[null,null,null,null,null,null,null,null," ",null,1,1900]
[null,null,null,null,null,null,null,null," ",null,1,1900]
[null,null,null,null,null,null,null,null," ",null,1,1900]
[null,null,null,null,null,null,null,null," ",null,1,1900]
[null,null,null,null,null,null,null,null," ",null,1,1900]
[null,null,null,null,null,null,null,null," ",null,1,1900]
[null,null,null,null,null,null,null,null," ",null,1,1900]
[null,null,null,null,null,null,null,null," ",null,1,1900]
[null,null,null,null,null,null,null,null," ",null,1,1900]
[null,null,null,null,null,null,null,null," ",null,1,1900]
[null,null,null,null,null,null,null,null," ",null,1,1900]
[null,null,null,null,null,null,null,null," ",null,1,1900]
[null,null,null,null,null,null,null,null," ",null,1,1900]
[null,null,null,null,null,null,null,null," ",null,1,1900]
[null,null,null,null,null,null,null,null," ",null,1,1900]
[null,null,null,null,null,null,null,null," ",null,1,1900]
[null,null,null,null,null,null,null,null," ",null,1,1900]
[null,null,null,null,null,null,null,null," ",null,1,1900]
[null,null,null,null,null,null,null,null,{"$f":"+IF(H1272=H1271,\" \",H1272)","v":" "},null,{"$f":"+MONTH(A1272)","v":1},{"$f":"+YEAR(A1272)","v":1900}]
[null,null,null,null,null,null,null,null," ",null,1,1900]
[null,null,null,null,null,null,null,null," ",null,1,1900]
[null,null,null,null,null,null,null,null," ",null,1,1900]
[null,null,null,null,null,null,null,null," ",null,1,1900]
[null,null,null,null,null,null,null,null," ",null,1,1900]
[null,null,null,null,null,null,null,null," ",null,1,1900]
[null,null,null,null,null,null,null,null," ",null,1,1900]
[null,null,null,null,null,null,null,null," ",null,1,1900]
[null,null,null,null,null,null,null,null," ",null,1,1900]
[null,null,null,null,null,null,null,null," ",null,1,1900]
[null,null,null,null,null,null,null,null," ",null,1,1900]
[null,null,null,null,null,null,null,null," ",null,1,1900]
[null,null,null,null,null,null,null,null," ",null,1,1900]
[null,null,null,null,null,null,null,null," ",null,1,1900]
[null,null,null,null,null,null,null,null," ",null,1,1900]
[null,null,null,null,null,null,null,null," ",null,1,1900]
[null,null,null,null,null,null,null,null," ",null,1,1900]
[null,null,null,null,null,null,null,null," ",null,1,1900]
[null,null,null,null,null,null,null,null," ",null,1,1900]
[null,null,null,null,null,null,null,null," ",null,1,1900]
[null,null,null,null,null,null,null,null," ",null,1,1900]
[null,null,null,null,null,null,null,null," ",null,1,1900]
[null,null,null,null,null,null,null,null," ",null,1,1900]
[null,null,null,null,null,null,null,null," ",null,1,1900]
[null,null,null,null,null,null,null,null," ",null,1,1900]
[null,null,null,null,null,null,null,null," ",null,1,1900]
[null,null,null,null,null,null,null,null," ",null,1,1900]
[null,null,null,null,null,null,null,null," ",null,1,1900]
[null,null,null,null,null,null,null,null," ",null,1,1900]
[null,null,null,null,null,null,null,null," ",null,1,1900]
[null,null,null,null,null,null,null,null," ",null,1,1900]
[null,null,null,null,null,null,null,null," ",null,1,1900]
[null,null,null,null,null,null,null,null," ",null,1,1900]
[null,null,null,null,null,null,null,null," ",null,1,1900]
[null,null,null,null,null,null,null,null," ",null,1,1900]
[null,null,null,null,null,null,null,null," ",null,1,1900]
[null,null,null,null,null,null,null,null," ",null,1,1900]
[null,null,null,null,null,null,null,null," ",null,1,1900]
[null,null,null,null,null,null,null,null," ",null,1,1900]
[null,null,null,null,null,null,null,null," ",null,1,1900]
[null,null,null,null,null,null,null,null," ",null,1,1900]
[null,null,null,null,null,null,null,null," ",null,1,1900]
[null,null,null,null,null,null,null,null," ",null,1,1900]
[null,null,null,null,null,null,null,null," ",null,1,1900]
[null,null,null,null,null,null,null,null," ",null,1,1900]
[null,null,null,null,null,null,null,null," ",null,1,1900]
[null,null,null,null,null,null,null,null," ",null,1,1900]
[null,null,null,null,null,null,null,null," ",null,1,1900]
[null,null,null,null,null,null,null,null," ",null,1,1900]
[null,null,null,null,null,null,null,null," ",null,1,1900]
[null,null,null,null,null,null,null,null," ",null,1,1900]
[null,null,null,null,null,null,null,null," ",null,1,1900]
[null,null,null,null,null,null,null,null," ",null,1,1900]
[null,null,null,null,null,null,null,null," ",null,1,1900]
[null,null,null,null,null,null,null,null," ",null,1,1900]
[null,null,null,null,null,null,null,null," ",null,1,1900]
[null,null,null,null,null,null,null,null," ",null,1,1900]
[null,null,null,null,null,null,null,null," ",null,1,1900]
[null,null,null,null,null,null,null,null," ",null,1,1900]
[null,null,null,null,null,null,null,null," ",null,1,1900]
[null,null,null,null,null,null,null,null," ",null,1,1900]
[null,null,null,null,null,null,null,null," ",null,1,1900]
[null,null,null,null,null,null,null,null," ",null,1,1900]
[null,null,null,null,null,null,null,null,{"$f":"+IF(H1336=H1335,\" \",H1336)","v":" "},null,{"$f":"+MONTH(A1336)","v":1},{"$f":"+YEAR(A1336)","v":1900}]
[null,null,null,null,null,null,null,null," ",null,1,1900]
[null,null,null,null,null,null,null,null," ",null,1,1900]
[null,null,null,null,null,null,null,null," ",null,1,1900]
[null,null,null,null,null,null,null,null," ",null,1,1900]
[null,null,null,null,null,null,null,null," ",null,1,1900]
[null,null,null,null,null,null,null,null," ",null,1,1900]
[null,null,null,null,null,null,null,null," ",null,1,1900]
[null,null,null,null,null,null,null,null," ",null,1,1900]
[null,null,null,null,null,null,null,null," ",null,1,1900]
[null,null,null,null,null,null,null,null," ",null,1,1900]
[null,null,null,null,null,null,null,null," ",null,1,1900]
[null,null,null,null,null,null,null,null," ",null,1,1900]
[null,null,null,null,null,null,null,null," ",null,1,1900]
[null,null,null,null,null,null,null,null," ",null,1,1900]
[null,null,null,null,null,null,null,null," ",null,1,1900]
[null,null,null,null,null,null,null,null," ",null,1,1900]
[null,null,null,null,null,null,null,null," ",null,1,1900]
[null,null,null,null,null,null,null,null," ",null,1,1900]
[null,null,null,null,null,null,null,null," ",null,1,1900]
[null,null,null,null,null,null,null,null," ",null,1,1900]
[null,null,null,null,null,null,null,null," ",null,1,1900]
[null,null,null,null,null,null,null,null," ",null,1,1900]
[null,null,null,null,null,null,null,null," ",null,1,1900]
[null,null,null,null,null,null,null,null," ",null,1,1900]
[null,null,null,null,null,null,null,null," ",null,1,1900]
[null,null,null,null,null,null,null,null," ",null,1,1900]
[null,null,null,null,null,null,null,null," ",null,1,1900]
[null,null,null,null,null,null,null,null," ",null,1,1900]
[null,null,null,null,null,null,null,null," ",null,1,1900]
[null,null,null,null,null,null,null,null," ",null,1,1900]
[null,null,null,null,null,null,null,null," ",null,1,1900]
[null,null,null,null,null,null,null,null," ",null,1,1900]
[null,null,null,null,null,null,null,null," ",null,1,1900]
[null,null,null,null,null,null,null,null," ",null,1,1900]
[null,null,null,null,null,null,null,null," ",null,1,1900]
[null,null,null,null,null,null,null,null," ",null,1,1900]
[null,null,null,null,null,null,null,null," ",null,1,1900]
[null,null,null,null,null,null,null,null," ",null,1,1900]
[null,null,null,null,null,null,null,null," ",null,1,1900]
[null,null,null,null,null,null,null,null," ",null,1,1900]
[null,null,null,null,null,null,null,null," ",null,1,1900]
[null,null,null,null,null,null,null,null," ",null,1,1900]
[null,null,null,null,null,null,null,null," ",null,1,1900]
[null,null,null,null,null,null,null,null," ",null,1,1900]
[null,null,null,null,null,null,null,null," ",null,1,1900]
[null,null,null,null,null,null,null,null," ",null,1,1900]
[null,null,null,null,null,null,null,null," ",null,1,1900]
[null,null,null,null,null,null,null,null," ",null,1,1900]
[null,null,null,null,null,null,null,null," ",null,1,1900]
[null,null,null,null,null,null,null,null," ",null,1,1900]
[null,null,null,null,null,null,null,null," ",null,1,1900]
[null,null,null,null,null,null,null,null," ",null,1,1900]
[null,null,null,null,null,null,null,null," ",null,1,1900]
[null,null,null,null,null,null,null,null," ",null,1,1900]
[null,null,null,null,null,null,null,null," ",null,1,1900]
[null,null,null,null,null,null,null,null," ",null,1,1900]
[null,null,null,null,null,null,null,null," ",null,1,1900]
[null,null,null,null,null,null,null,null," ",null,1,1900]
[null,null,null,null,null,null,null,null," ",null,1,1900]
[null,null,null,null,null,null,null,null," ",null,1,1900]
[null,null,null,null,null,null,null,null," ",null,1,1900]
[null,null,null,null,null,null,null,null," ",null,1,1900]
[null,null,null,null,null,null,null,null," ",null,1,1900]
[null,null,null,null,null,null,null,null,{"$f":"+IF(H1400=H1399,\" \",H1400)","v":" "},null,{"$f":"+MONTH(A1400)","v":1},{"$f":"+YEAR(A1400)","v":1900}]
[null,null,null,null,null,null,null,null," ",null,1,1900]
[null,null,null,null,null,null,null,null," ",null,1,1900]
[null,null,null,null,null,null,null,null," ",null,1,1900]
[null,null,null,null,null,null,null,null," ",null,1,1900]
[null,null,null,null,null,null,null,null," ",null,1,1900]
[null,null,null,null,null,null,null,null," ",null,1,1900]
[null,null,null,null,null,null,null,null," ",null,1,1900]
[null,null,null,null,null,null,null,null," ",null,1,1900]
[null,null,null,null,null,null,null,null," ",null,1,1900]
[null,null,null,null,null,null,null,null," ",null,1,1900]
[null,null,null,null,null,null,null,null," ",null,1,1900]
[null,null,null,null,null,null,null,null," ",null,1,1900]
[null,null,null,null,null,null,null,null," ",null,1,1900]
[null,null,null,null,null,null,null,null," ",null,1,1900]
[null,null,null,null,null,null,null,null," ",null,1,1900]
[null,null,null,null,null,null,null,null," ",null,1,1900]
[null,null,null,null,null,null,null,null," ",null,1,1900]
[null,null,null,null,null,null,null,null," ",null,1,1900]
[null,null,null,null,null,null,null,null," ",null,1,1900]
[null,null,null,null,null,null,null,null," ",null,1,1900]
[null,null,null,null,null,null,null,null," ",null,1,1900]
[null,null,null,null,null,null,null,null," ",null,1,1900]
[null,null,null,null,null,null,null,null," ",null,1,1900]
[null,null,null,null,null,null,null,null," ",null,1,1900]
[null,null,null,null,null,null,null,null," ",null,1,1900]
[null,null,null,null,null,null,null,null," ",null,1,1900]
[null,null,null,null,null,null,null,null," ",null,1,1900]
[null,null,null,null,null,null,null,null," ",null,1,1900]
[null,null,null,null,null,null,null,null," ",null,1,1900]
[null,null,null,null,null,null,null,null," ",null,1,1900]
[null,null,null,null,null,null,null,null," ",null,1,1900]
[null,null,null,null,null,null,null,null," ",null,1,1900]
[null,null,null,null,null,null,null,null," ",null,1,1900]
[null,null,null,null,null,null,null,null," ",null,1,1900]
[null,null,null,null,null,null,null,null," ",null,1,1900]
[null,null,null,null,null,null,null,null," ",null,1,1900]
[null,null,null,null,null,null,null,null," ",null,1,1900]
[null,null,null,null,null,null,null,null," ",null,1,1900]
[null,null,null,null,null,null,null,null," ",null,1,1900]
[null,null,null,null,null,null,null,null," ",null,1,1900]
[null,null,null,null,null,null,null,null," ",null,1,1900]
[null,null,null,null,null,null,null,null," ",null,1,1900]
[null,null,null,null,null,null,null,null," ",null,1,1900]
[null,null,null,null,null,null,null,null," ",null,1,1900]
[null,null,null,null,null,null,null,null," ",null,1,1900]
[null,null,null,null,null,null,null,null," ",null,1,1900]
[null,null,null,null,null,null,null,null," ",null,1,1900]
[null,null,null,null,null,null,null,null," ",null,1,1900]
[null,null,null,null,null,null,null,null," ",null,1,1900]
[null,null,null,null,null,null,null,null," ",null,1,1900]
[null,null,null,null,null,null,null,null," ",null,1,1900]
[null,null,null,null,null,null,null,null," ",null,1,1900]
[null,null,null,null,null,null,null,null," ",null,1,1900]
[null,null,null,null,null,null,null,null," ",null,1,1900]
[null,null,null,null,null,null,null,null," ",null,1,1900]
[null,null,null,null,null,null,null,null," ",null,1,1900]
[null,null,null,null,null,null,null,null," ",null,1,1900]
[null,null,null,null,null,null,null,null," ",null,1,1900]
[null,null,null,null,null,null,null,null," ",null,1,1900]
[null,null,null,null,null,null,null,null," ",null,1,1900]
[null,null,null,null,null,null,null,null," ",null,1,1900]
[null,null,null,null,null,null,null,null," ",null,1,1900]
[null,null,null,null,null,null,null,null," ",null,1,1900]
[null,null,null,null,null,null,null,null,{"$f":"+IF(H1464=H1463,\" \",H1464)","v":" "},null,{"$f":"+MONTH(A1464)","v":1},{"$f":"+YEAR(A1464)","v":1900}]
[null,null,null,null,null,null,null,null," ",null,1,1900]
[null,null,null,null,null,null,null,null," ",null,1,1900]
[null,null,null,null,null,null,null,null," ",null,1,1900]
[null,null,null,null,null,null,null,null," ",null,1,1900]
[null,null,null,null,null,null,null,null," ",null,1,1900]
[null,null,null,null,null,null,null,null," ",null,1,1900]
[null,null,null,null,null,null,null,null," ",null,1,1900]
[null,null,null,null,null,null,null,null," ",null,1,1900]
[null,null,null,null,null,null,null,null," ",null,1,1900]
[null,null,null,null,null,null,null,null," ",null,1,1900]
[null,null,null,null,null,null,null,null," ",null,1,1900]
[null,null,null,null,null,null,null,null," ",null,1,1900]
[null,null,null,null,null,null,null,null," ",null,1,1900]
[null,null,null,null,null,null,null,null," ",null,1,1900]
[null,null,null,null,null,null,null,null," ",null,1,1900]
[null,null,null,null,null,null,null,null," ",null,1,1900]
[null,null,null,null,null,null,null,null," ",null,1,1900]
[null,null,null,null,null,null,null,null," ",null,1,1900]
[null,null,null,null,null,null,null,null," ",null,1,1900]
[null,null,null,null,null,null,null,null," ",null,1,1900]
[null,null,null,null,null,null,null,null," ",null,1,1900]
[null,null,null,null,null,null,null,null," ",null,1,1900]
[null,null,null,null,null,null,null,null," ",null,1,1900]
[null,null,null,null,null,null,null,null," ",null,1,1900]
[null,null,null,null,null,null,null,null," ",null,1,1900]
[null,null,null,null,null,null,null,null," ",null,1,1900]
[null,null,null,null,null,null,null,null," ",null,1,1900]
[null,null,null,null,null,null,null,null," ",null,1,1900]
[null,null,null,null,null,null,null,null," ",null,1,1900]
[null,null,null,null,null,null,null,null," ",null,1,1900]
[null,null,null,null,null,null,null,null," ",null,1,1900]
[null,null,null,null,null,null,null,null," ",null,1,1900]
[null,null,null,null,null,null,null,null," ",null,1,1900]
[null,null,null,null,null,null,null,null," ",null,1,1900]
[null,null,null,null,null,null,null,null," ",null,1,1900]
[null,null,null,null,null,null,null,null," ",null,1,1900]
[null,null,null,null,null,null,null,null," ",null,1,1900]
[null,null,null,null,null,null,null,null," ",null,1,1900]
[null,null,null,null,null,null,null,null," ",null,1,1900]
[null,null,null,null,null,null,null,null," ",null,1,1900]
[null,null,null,null,null,null,null,null," ",null,1,1900]
[null,null,null,null,null,null,null,null," ",null,1,1900]
[null,null,null,null,null,null,null,null," ",null,1,1900]
[null,null,null,null,null,null,null,null," ",null,1,1900]
[null,null,null,null,null,null,null,null," ",null,1,1900]
[null,null,null,null,null,null,null,null," ",null,1,1900]
[null,null,null,null,null,null,null,null," ",null,1,1900]
[null,null,null,null,null,null,null,null," ",null,1,1900]
[null,null,null,null,null,null,null,null," ",null,1,1900]
[null,null,null,null,null,null,null,null," ",null,1,1900]
[null,null,null,null,null,null,null,null," ",null,1,1900]
[null,null,null,null,null,null,null,null," ",null,1,1900]
[null,null,null,null,null,null,null,null," ",null,1,1900]
[null,null,null,null,null,null,null,null," ",null,1,1900]
[null,null,null,null,null,null,null,null," ",null,1,1900]
[null,null,null,null,null,null,null,null," ",null,1,1900]
[null,null,null,null,null,null,null,null," ",null,1,1900]
[null,null,null,null,null,null,null,null," ",null,1,1900]
[null,null,null,null,null,null,null,null," ",null,1,1900]
[null,null,null,null,null,null,null,null," ",null,1,1900]
[null,null,null,null,null,null,null,null," ",null,1,1900]
[null,null,null,null,null,null,null,null," ",null,1,1900]
[null,null,null,null,null,null,null,null," ",null,1,1900]
[null,null,null,null,null,null,null,null,{"$f":"+IF(H1528=H1527,\" \",H1528)","v":" "},null,{"$f":"+MONTH(A1528)","v":1},{"$f":"+YEAR(A1528)","v":1900}]
[null,null,null,null,null,null,null,null," ",null,1,1900]
[null,null,null,null,null,null,null,null," ",null,1,1900]
[null,null,null,null,null,null,null,null," ",null,1,1900]
[null,null,null,null,null,null,null,null," ",null,1,1900]
[null,null,null,null,null,null,null,null," ",null,1,1900]
[null,null,null,null,null,null,null,null," ",null,1,1900]
[null,null,null,null,null,null,null,null," ",null,1,1900]
[null,null,null,null,null,null,null,null," ",null,1,1900]
[null,null,null,null,null,null,null,null," ",null,1,1900]
[null,null,null,null,null,null,null,null," ",null,1,1900]
[null,null,null,null,null,null,null,null," ",null,1,1900]
[null,null,null,null,null,null,null,null," ",null,1,1900]
[null,null,null,null,null,null,null,null," ",null,1,1900]
[null,null,null,null,null,null,null,null," ",null,1,1900]
[null,null,null,null,null,null,null,null," ",null,1,1900]
[null,null,null,null,null,null,null,null," ",null,1,1900]
[null,null,null,null,null,null,null,null," ",null,1,1900]
[null,null,null,null,null,null,null,null," ",null,1,1900]
[null,null,null,null,null,null,null,null," ",null,1,1900]
[null,null,null,null,null,null,null,null," ",null,1,1900]
[null,null,null,null,null,null,null,null," ",null,1,1900]
[null,null,null,null,null,null,null,null," ",null,1,1900]
[null,null,null,null,null,null,null,null," ",null,1,1900]
[null,null,null,null,null,null,null,null," ",null,1,1900]
[null,null,null,null,null,null,null,null," ",null,1,1900]
[null,null,null,null,null,null,null,null," ",null,1,1900]
[null,null,null,null,null,null,null,null," ",null,1,1900]
[null,null,null,null,null,null,null,null," ",null,1,1900]
[null,null,null,null,null,null,null,null," ",null,1,1900]
[null,null,null,null,null,null,null,null," ",null,1,1900]
[null,null,null,null,null,null,null,null," ",null,1,1900]
[null,null,null,null,null,null,null,null," ",null,1,1900]
[null,null,null,null,null,null,null,null," ",null,1,1900]
[null,null,null,null,null,null,null,null," ",null,1,1900]
[null,null,null,null,null,null,null,null," ",null,1,1900]
[null,null,null,null,null,null,null,null," ",null,1,1900]
[null,null,null,null,null,null,null,null," ",null,1,1900]
[null,null,null,null,null,null,null,null," ",null,1,1900]
[null,null,null,null,null,null,null,null," ",null,1,1900]
[null,null,null,null,null,null,null,null," ",null,1,1900]
[null,null,null,null,null,null,null,null," ",null,1,1900]
[null,null,null,null,null,null,null,null," ",null,1,1900]
[null,null,null,null,null,null,null,null," ",null,1,1900]
[null,null,null,null,null,null,null,null," ",null,1,1900]
[null,null,null,null,null,null,null,null," ",null,1,1900]
[null,null,null,null,null,null,null,null," ",null,1,1900]
[null,null,null,null,null,null,null,null," ",null,1,1900]
[null,null,null,null,null,null,null,null," ",null,1,1900]
[null,null,null,null,null,null,null,null," ",null,1,1900]
[null,null,null,null,null,null,null,null," ",null,1,1900]
[null,null,null,null,null,null,null,null," ",null,1,1900]
[null,null,null,null,null,null,null,null," ",null,1,1900]
[null,null,null,null,null,null,null,null," ",null,1,1900]
[null,null,null,null,null,null,null,null," ",null,1,1900]
[null,null,null,null,null,null,null,null," ",null,1,1900]
[null,null,null,null,null,null,null,null," ",null,1,1900]
[null,null,null,null,null,null,null,null," ",null,1,1900]
[null,null,null,null,null,null,null,null," ",null,1,1900]
[null,null,null,null,null,null,null,null," ",null,1,1900]
[null,null,null,null,null,null,null,null," ",null,1,1900]
[null,null,null,null,null,null,null,null," ",null,1,1900]
[null,null,null,null,null,null,null,null," ",null,1,1900]
[null,null,null,null,null,null,null,null," ",null,1,1900]
[null,null,null,null,null,null,null,null,{"$f":"+IF(H1592=H1591,\" \",H1592)","v":" "},null,{"$f":"+MONTH(A1592)","v":1},{"$f":"+YEAR(A1592)","v":1900}]
[null,null,null,null,null,null,null,null," ",null,1,1900]
[null,null,null,null,null,null,null,null," ",null,1,1900]
[null,null,null,null,null,null,null,null," ",null,1,1900]
[null,null,null,null,null,null,null,null," ",null,1,1900]
[null,null,null,null,null,null,null,null," ",null,1,1900]
[null,null,null,null,null,null,null,null," ",null,1,1900]
[null,null,null,null,null,null,null,null," ",null,1,1900]
[null,null,null,null,null,null,null,null," ",null,1,1900]
[null,null,null,null,null,null,null,null," ",null,1,1900]
[null,null,null,null,null,null,null,null," ",null,1,1900]
[null,null,null,null,null,null,null,null," ",null,1,1900]
[null,null,null,null,null,null,null,null," ",null,1,1900]
[null,null,null,null,null,null,null,null," ",null,1,1900]
[null,null,null,null,null,null,null,null," ",null,1,1900]
[null,null,null,null,null,null,null,null," ",null,1,1900]
[null,null,null,null,null,null,null,null," ",null,1,1900]
[null,null,null,null,null,null,null,null," ",null,1,1900]
[null,null,null,null,null,null,null,null," ",null,1,1900]
[null,null,null,null,null,null,null,null," ",null,1,1900]
[null,null,null,null,null,null,null,null," ",null,1,1900]
[null,null,null,null,null,null,null,null," ",null,1,1900]
[null,null,null,null,null,null,null,null," ",null,1,1900]
[null,null,null,null,null,null,null,null," ",null,1,1900]
[null,null,null,null,null,null,null,null," ",null,1,1900]
[null,null,null,null,null,null,null,null," ",null,1,1900]
[null,null,null,null,null,null,null,null," ",null,1,1900]
[null,null,null,null,null,null,null,null," ",null,1,1900]
[null,null,null,null,null,null,null,null," ",null,1,1900]
[null,null,null,null,null,null,null,null," ",null,1,1900]
[null,null,null,null,null,null,null,null," ",null,1,1900]
[null,null,null,null,null,null,null,null," ",null,1,1900]
[null,null,null,null,null,null,null,null," ",null,1,1900]
[null,null,null,null,null,null,null,null," ",null,1,1900]
[null,null,null,null,null,null,null,null," ",null,1,1900]
[null,null,null,null,null,null,null,null," ",null,1,1900]
[null,null,null,null,null,null,null,null," ",null,1,1900]
[null,null,null,null,null,null,null,null," ",null,1,1900]
[null,null,null,null,null,null,null,null," ",null,1,1900]
[null,null,null,null,null,null,null,null," ",null,1,1900]
[null,null,null,null,null,null,null,null," ",null,1,1900]
[null,null,null,null,null,null,null,null," ",null,1,1900]
[null,null,null,null,null,null,null,null," ",null,1,1900]
[null,null,null,null,null,null,null,null," ",null,1,1900]
[null,null,null,null,null,null,null,null," ",null,1,1900]
[null,null,null,null,null,null,null,null," ",null,1,1900]
[null,null,null,null,null,null,null,null," ",null,1,1900]
[null,null,null,null,null,null,null,null," ",null,1,1900]
[null,null,null,null,null,null,null,null," ",null,1,1900]
[null,null,null,null,null,null,null,null," ",null,1,1900]
[null,null,null,null,null,null,null,null," ",null,1,1900]
[null,null,null,null,null,null,null,null," ",null,1,1900]
[null,null,null,null,null,null,null,null," ",null,1,1900]
[null,null,null,null,null,null,null,null," ",null,1,1900]
[null,null,null,null,null,null,null,null," ",null,1,1900]
[null,null,null,null,null,null,null,null," ",null,1,1900]
[null,null,null,null,null,null,null,null," ",null,1,1900]
[null,null,null,null,null,null,null,null," ",null,1,1900]
[null,null,null,null,null,null,null,null," ",null,1,1900]
[null,null,null,null,null,null,null,null," ",null,1,1900]
[null,null,null,null,null,null,null,null," ",null,1,1900]
[null,null,null,null,null,null,null,null," ",null,1,1900]
[null,null,null,null,null,null,null,null," ",null,1,1900]
[null,null,null,null,null,null,null,null," ",null,1,1900]
[null,null,null,null,null,null,null,null,{"$f":"+IF(H1656=H1655,\" \",H1656)","v":" "},null,{"$f":"+MONTH(A1656)","v":1},{"$f":"+YEAR(A1656)","v":1900}]
[null,null,null,null,null,null,null,null," ",null,1,1900]
[null,null,null,null,null,null,null,null," ",null,1,1900]
[null,null,null,null,null,null,null,null," ",null,1,1900]
[null,null,null,null,null,null,null,null," ",null,1,1900]
[null,null,null,null,null,null,null,null," ",null,1,1900]
[null,null,null,null,null,null,null,null," ",null,1,1900]
[null,null,null,null,null,null,null,null," ",null,1,1900]
[null,null,null,null,null,null,null,null," ",null,1,1900]
[null,null,null,null,null,null,null,null," ",null,1,1900]
[null,null,null,null,null,null,null,null," ",null,1,1900]
[null,null,null,null,null,null,null,null," ",null,1,1900]
[null,null,null,null,null,null,null,null," ",null,1,1900]
[null,null,null,null,null,null,null,null," ",null,1,1900]
[null,null,null,null,null,null,null,null," ",null,1,1900]
[null,null,null,null,null,null,null,null," ",null,1,1900]
[null,null,null,null,null,null,null,null," ",null,1,1900]
[null,null,null,null,null,null,null,null," ",null,1,1900]
[null,null,null,null,null,null,null,null," ",null,1,1900]
[null,null,null,null,null,null,null,null," ",null,1,1900]
[null,null,null,null,null,null,null,null," ",null,1,1900]
[null,null,null,null,null,null,null,null," ",null,1,1900]
[null,null,null,null,null,null,null,null," ",null,1,1900]
[null,null,null,null,null,null,null,null," ",null,1,1900]
[null,null,null,null,null,null,null,null," ",null,1,1900]
[null,null,null,null,null,null,null,null," ",null,1,1900]
[null,null,null,null,null,null,null,null," ",null,1,1900]
[null,null,null,null,null,null,null,null," ",null,1,1900]
[null,null,null,null,null,null,null,null," ",null,1,1900]
[null,null,null,null,null,null,null,null," ",null,1,1900]
[null,null,null,null,null,null,null,null," ",null,1,1900]
[null,null,null,null,null,null,null,null," ",null,1,1900]
[null,null,null,null,null,null,null,null," ",null,1,1900]
[null,null,null,null,null,null,null,null," ",null,1,1900]
[null,null,null,null,null,null,null,null," ",null,1,1900]
[null,null,null,null,null,null,null,null," ",null,1,1900]
[null,null,null,null,null,null,null,null," ",null,1,1900]
[null,null,null,null,null,null,null,null," ",null,1,1900]
[null,null,null,null,null,null,null,null," ",null,1,1900]
[null,null,null,null,null,null,null,null," ",null,1,1900]
[null,null,null,null,null,null,null,null," ",null,1,1900]
[null,null,null,null,null,null,null,null," ",null,1,1900]
[null,null,null,null,null,null,null,null," ",null,1,1900]
[null,null,null,null,null,null,null,null," ",null,1,1900]
[null,null,null,null,null,null,null,null," ",null,1,1900]
[null,null,null,null,null,null,null,null," ",null,1,1900]
[null,null,null,null,null,null,null,null," ",null,1,1900]
[null,null,null,null,null,null,null,null," ",null,1,1900]
[null,null,null,null,null,null,null,null," ",null,1,1900]
[null,null,null,null,null,null,null,null," ",null,1,1900]
[null,null,null,null,null,null,null,null," ",null,1,1900]
[null,null,null,null,null,null,null,null," ",null,1,1900]
[null,null,null,null,null,null,null,null," ",null,1,1900]
[null,null,null,null,null,null,null,null," ",null,1,1900]
[null,null,null,null,null,null,null,null," ",null,1,1900]
[null,null,null,null,null,null,null,null," ",null,1,1900]
[null,null,null,null,null,null,null,null," ",null,1,1900]
[null,null,null,null,null,null,null,null," ",null,1,1900]
[null,null,null,null,null,null,null,null," ",null,1,1900]
[null,null,null,null,null,null,null,null," ",null,1,1900]
[null,null,null,null,null,null,null,null," ",null,1,1900]
[null,null,null,null,null,null,null,null," ",null,1,1900]
[null,null,null,null,null,null,null,null," ",null,1,1900]
[null,null,null,null,null,null,null,null," ",null,1,1900]
[null,null,null,null,null,null,null,null,{"$f":"+IF(H1720=H1719,\" \",H1720)","v":" "},null,{"$f":"+MONTH(A1720)","v":1},{"$f":"+YEAR(A1720)","v":1900}]
[null,null,null,null,null,null,null,null," ",null,1,1900]
[null,null,null,null,null,null,null,null," ",null,1,1900]
[null,null,null,null,null,null,null,null," ",null,1,1900]
[null,null,null,null,null,null,null,null," ",null,1,1900]
[null,null,null,null,null,null,null,null," ",null,1,1900]
[null,null,null,null,null,null,null,null," ",null,1,1900]
[null,null,null,null,null,null,null,null," ",null,1,1900]
[null,null,null,null,null,null,null,null," ",null,1,1900]
[null,null,null,null,null,null,null,null," ",null,1,1900]
[null,null,null,null,null,null,null,null," ",null,1,1900]
[null,null,null,null,null,null,null,null," ",null,1,1900]
[null,null,null,null,null,null,null,null," ",null,1,1900]
[null,null,null,null,null,null,null,null," ",null,1,1900]
[null,null,null,null,null,null,null,null," ",null,1,1900]
[null,null,null,null,null,null,null,null," ",null,1,1900]
[null,null,null,null,null,null,null,null," ",null,1,1900]
[null,null,null,null,null,null,null,null," ",null,1,1900]
[null,null,null,null,null,null,null,null," ",null,1,1900]
[null,null,null,null,null,null,null,null," ",null,1,1900]
[null,null,null,null,null,null,null,null," ",null,1,1900]
[null,null,null,null,null,null,null,null," ",null,1,1900]
[null,null,null,null,null,null,null,null," ",null,1,1900]
[null,null,null,null,null,null,null,null," ",null,1,1900]
[null,null,null,null,null,null,null,null," ",null,1,1900]
[null,null,null,null,null,null,null,null," ",null,1,1900]
[null,null,null,null,null,null,null,null," ",null,1,1900]
[null,null,null,null,null,null,null,null," ",null,1,1900]
[null,null,null,null,null,null,null,null," ",null,1,1900]
[null,null,null,null,null,null,null,null," ",null,1,1900]
[null,null,null,null,null,null,null,null," ",null,1,1900]
[null,null,null,null,null,null,null,null," ",null,1,1900]
[null,null,null,null,null,null,null,null," ",null,1,1900]
[null,null,null,null,null,null,null,null," ",null,1,1900]
[null,null,null,null,null,null,null,null," ",null,1,1900]
[null,null,null,null,null,null,null,null," ",null,1,1900]
[null,null,null,null,null,null,null,null," ",null,1,1900]
[null,null,null,null,null,null,null,null," ",null,1,1900]
[null,null,null,null,null,null,null,null," ",null,1,1900]
[null,null,null,null,null,null,null,null," ",null,1,1900]
[null,null,null,null,null,null,null,null," ",null,1,1900]
[null,null,null,null,null,null,null,null," ",null,1,1900]
[null,null,null,null,null,null,null,null," ",null,1,1900]
[null,null,null,null,null,null,null,null," ",null,1,1900]
[null,null,null,null,null,null,null,null," ",null,1,1900]
[null,null,null,null,null,null,null,null," ",null,1,1900]
[null,null,null,null,null,null,null,null," ",null,1,1900]
[null,null,null,null,null,null,null,null," ",null,1,1900]
[null,null,null,null,null,null,null,null," ",null,1,1900]
[null,null,null,null,null,null,null,null," ",null,1,1900]
[null,null,null,null,null,null,null,null," ",null,1,1900]
[null,null,null,null,null,null,null,null," ",null,1,1900]
[null,null,null,null,null,null,null,null," ",null,1,1900]
[null,null,null,null,null,null,null,null," ",null,1,1900]
[null,null,null,null,null,null,null,null," ",null,1,1900]
[null,null,null,null,null,null,null,null," ",null,1,1900]
[null,null,null,null,null,null,null,null," ",null,1,1900]
[null,null,null,null,null,null,null,null," ",null,1,1900]
[null,null,null,null,null,null,null,null," ",null,1,1900]
[null,null,null,null,null,null,null,null," ",null,1,1900]
[null,null,null,null,null,null,null,null," ",null,1,1900]
[null,null,null,null,null,null,null,null," ",null,1,1900]
[null,null,null,null,null,null,null,null," ",null,1,1900]
[null,null,null,null,null,null,null,null," ",null,1,1900]
[null,null,null,null,null,null,null,null,{"$f":"+IF(H1784=H1783,\" \",H1784)","v":" "},null,{"$f":"+MONTH(A1784)","v":1},{"$f":"+YEAR(A1784)","v":1900}]
[null,null,null,null,null,null,null,null," ",null,1,1900]
[null,null,null,null,null,null,null,null," ",null,1,1900]
[null,null,null,null,null,null,null,null," ",null,1,1900]
[null,null,null,null,null,null,null,null," ",null,1,1900]
[null,null,null,null,null,null,null,null," ",null,1,1900]
[null,null,null,null,null,null,null,null," ",null,1,1900]
[null,null,null,null,null,null,null,null," ",null,1,1900]
[null,null,null,null,null,null,null,null," ",null,1,1900]
[null,null,null,null,null,null,null,null," ",null,1,1900]
[null,null,null,null,null,null,null,null," ",null,1,1900]
[null,null,null,null,null,null,null,null," ",null,1,1900]
[null,null,null,null,null,null,null,null," ",null,1,1900]
[null,null,null,null,null,null,null,null," ",null,1,1900]
[null,null,null,null,null,null,null,null," ",null,1,1900]
[null,null,null,null,null,null,null,null," ",null,1,1900]
[null,null,null,null,null,null,null,null," ",null,1,1900]
[null,null,null,null,null,null,null,null," ",null,1,1900]
[null,null,null,null,null,null,null,null," ",null,1,1900]
[null,null,null,null,null,null,null,null," ",null,1,1900]
[null,null,null,null,null,null,null,null," ",null,1,1900]
[null,null,null,null,null,null,null,null," ",null,1,1900]
[null,null,null,null,null,null,null,null," ",null,1,1900]
[null,null,null,null,null,null,null,null," ",null,1,1900]
[null,null,null,null,null,null,null,null," ",null,1,1900]
[null,null,null,null,null,null,null,null," ",null,1,1900]
[null,null,null,null,null,null,null,null," ",null,1,1900]
[null,null,null,null,null,null,null,null," ",null,1,1900]
[null,null,null,null,null,null,null,null," ",null,1,1900]
[null,null,null,null,null,null,null,null," ",null,1,1900]
[null,null,null,null,null,null,null,null," ",null,1,1900]
[null,null,null,null,null,null,null,null," ",null,1,1900]
[null,null,null,null,null,null,null,null," ",null,1,1900]
[null,null,null,null,null,null,null,null," ",null,1,1900]
[null,null,null,null,null,null,null,null," ",null,1,1900]
[null,null,null,null,null,null,null,null," ",null,1,1900]
[null,null,null,null,null,null,null,null," ",null,1,1900]
[null,null,null,null,null,null,null,null," ",null,1,1900]
[null,null,null,null,null,null,null,null," ",null,1,1900]
[null,null,null,null,null,null,null,null," ",null,1,1900]
[null,null,null,null,null,null,null,null," ",null,1,1900]
[null,null,null,null,null,null,null,null," ",null,1,1900]
[null,null,null,null,null,null,null,null," ",null,1,1900]
[null,null,null,null,null,null,null,null," ",null,1,1900]
[null,null,null,null,null,null,null,null," ",null,1,1900]
[null,null,null,null,null,null,null,null," ",null,1,1900]
[null,null,null,null,null,null,null,null," ",null,1,1900]
[null,null,null,null,null,null,null,null," ",null,1,1900]
[null,null,null,null,null,null,null,null," ",null,1,1900]
[null,null,null,null,null,null,null,null," ",null,1,1900]
[null,null,null,null,null,null,null,null," ",null,1,1900]
[null,null,null,null,null,null,null,null," ",null,1,1900]
[null,null,null,null,null,null,null,null," ",null,1,1900]
[null,null,null,null,null,null,null,null," ",null,1,1900]
[null,null,null,null,null,null,null,null," ",null,1,1900]
[null,null,null,null,null,null,null,null," ",null,1,1900]
[null,null,null,null,null,null,null,null," ",null,1,1900]
[null,null,null,null,null,null,null,null," ",null,1,1900]
[null,null,null,null,null,null,null,null," ",null,1,1900]
[null,null,null,null,null,null,null,null," ",null,1,1900]
[null,null,null,null,null,null,null,null," ",null,1,1900]
[null,null,null,null,null,null,null,null," ",null,1,1900]
[null,null,null,null,null,null,null,null," ",null,1,1900]
[null,null,null,null,null,null,null,null," ",null,1,1900]
[null,null,null,null,null,null,null,null,{"$f":"+IF(H1848=H1847,\" \",H1848)","v":" "},null,{"$f":"+MONTH(A1848)","v":1},{"$f":"+YEAR(A1848)","v":1900}]
[null,null,null,null,null,null,null,null," ",null,1,1900]
[null,null,null,null,null,null,null,null," ",null,1,1900]
[null,null,null,null,null,null,null,null," ",null,1,1900]
[null,null,null,null,null,null,null,null," ",null,1,1900]
[null,null,null,null,null,null,null,null," ",null,1,1900]
[null,null,null,null,null,null,null,null," ",null,1,1900]
[null,null,null,null,null,null,null,null," ",null,1,1900]
[null,null,null,null,null,null,null,null," ",null,1,1900]
[null,null,null,null,null,null,null,null," ",null,1,1900]
[null,null,null,null,null,null,null,null," ",null,1,1900]
[null,null,null,null,null,null,null,null," ",null,1,1900]
[null,null,null,null,null,null,null,null," ",null,1,1900]
[null,null,null,null,null,null,null,null," ",null,1,1900]
[null,null,null,null,null,null,null,null," ",null,1,1900]
[null,null,null,null,null,null,null,null," ",null,1,1900]
[null,null,null,null,null,null,null,null," ",null,1,1900]
[null,null,null,null,null,null,null,null," ",null,1,1900]
[null,null,null,null,null,null,null,null," ",null,1,1900]
[null,null,null,null,null,null,null,null," ",null,1,1900]
[null,null,null,null,null,null,null,null," ",null,1,1900]
[null,null,null,null,null,null,null,null," ",null,1,1900]
[null,null,null,null,null,null,null,null," ",null,1,1900]
[null,null,null,null,null,null,null,null," ",null,1,1900]
[null,null,null,null,null,null,null,null," ",null,1,1900]
[null,null,null,null,null,null,null,null," ",null,1,1900]
[null,null,null,null,null,null,null,null," ",null,1,1900]
[null,null,null,null,null,null,null,null," ",null,1,1900]
[null,null,null,null,null,null,null,null," ",null,1,1900]
[null,null,null,null,null,null,null,null," ",null,1,1900]
[null,null,null,null,null,null,null,null," ",null,1,1900]
[null,null,null,null,null,null,null,null," ",null,1,1900]
[null,null,null,null,null,null,null,null," ",null,1,1900]
[null,null,null,null,null,null,null,null," ",null,1,1900]
[null,null,null,null,null,null,null,null," ",null,1,1900]
[null,null,null,null,null,null,null,null," ",null,1,1900]
[null,null,null,null,null,null,null,null," ",null,1,1900]
[null,null,null,null,null,null,null,null," ",null,1,1900]
[null,null,null,null,null,null,null,null," ",null,1,1900]
[null,null,null,null,null,null,null,null," ",null,1,1900]
[null,null,null,null,null,null,null,null," ",null,1,1900]
[null,null,null,null,null,null,null,null," ",null,1,1900]
[null,null,null,null,null,null,null,null," ",null,1,1900]
[null,null,null,null,null,null,null,null," ",null,1,1900]
[null,null,null,null,null,null,null,null," ",null,1,1900]
[null,null,null,null,null,null,null,null," ",null,1,1900]
[null,null,null,null,null,null,null,null," ",null,1,1900]
[null,null,null,null,null,null,null,null," ",null,1,1900]
[null,null,null,null,null,null,null,null," ",null,1,1900]
[null,null,null,null,null,null,null,null," ",null,1,1900]
[null,null,null,null,null,null,null,null," ",null,1,1900]
[null,null,null,null,null,null,null,null," ",null,1,1900]
[null,null,null,null,null,null,null,null," ",null,1,1900]
[null,null,null,null,null,null,null,null," ",null,1,1900]
[null,null,null,null,null,null,null,null," ",null,1,1900]
[null,null,null,null,null,null,null,null," ",null,1,1900]
[null,null,null,null,null,null,null,null," ",null,1,1900]
[null,null,null,null,null,null,null,null," ",null,1,1900]
[null,null,null,null,null,null,null,null," ",null,1,1900]
[null,null,null,null,null,null,null,null," ",null,1,1900]
[null,null,null,null,null,null,null,null," ",null,1,1900]
[null,null,null,null,null,null,null,null," ",null,1,1900]
[null,null,null,null,null,null,null,null," ",null,1,1900]
[null,null,null,null,null,null,null,null," ",null,1,1900]
[null,null,null,null,null,null,null,null,{"$f":"+IF(H1912=H1911,\" \",H1912)","v":" "},null,{"$f":"+MONTH(A1912)","v":1},{"$f":"+YEAR(A1912)","v":1900}]
[null,null,null,null,null,null,null,null," ",null,1,1900]
[null,null,null,null,null,null,null,null," ",null,1,1900]
[null,null,null,null,null,null,null,null," ",null,1,1900]
[null,null,null,null,null,null,null,null," ",null,1,1900]
[null,null,null,null,null,null,null,null," ",null,1,1900]
[null,null,null,null,null,null,null,null," ",null,1,1900]
[null,null,null,null,null,null,null,null," ",null,1,1900]
[null,null,null,null,null,null,null,null," ",null,1,1900]
[null,null,null,null,null,null,null,null," ",null,1,1900]
[null,null,null,null,null,null,null,null," ",null,1,1900]
[null,null,null,null,null,null,null,null," ",null,1,1900]
[null,null,null,null,null,null,null,null," ",null,1,1900]
[null,null,null,null,null,null,null,null," ",null,1,1900]
[null,null,null,null,null,null,null,null," ",null,1,1900]
[null,null,null,null,null,null,null,null," ",null,1,1900]
[null,null,null,null,null,null,null,null," ",null,1,1900]
[null,null,null,null,null,null,null,null," ",null,1,1900]
[null,null,null,null,null,null,null,null," ",null,1,1900]
[null,null,null,null,null,null,null,null," ",null,1,1900]
[null,null,null,null,null,null,null,null," ",null,1,1900]
[null,null,null,null,null,null,null,null," ",null,1,1900]
[null,null,null,null,null,null,null,null," ",null,1,1900]
[null,null,null,null,null,null,null,null," ",null,1,1900]
[null,null,null,null,null,null,null,null," ",null,1,1900]
[null,null,null,null,null,null,null,null," ",null,1,1900]
[null,null,null,null,null,null,null,null," ",null,1,1900]
[null,null,null,null,null,null,null,null," ",null,1,1900]
[null,null,null,null,null,null,null,null," ",null,1,1900]
[null,null,null,null,null,null,null,null," ",null,1,1900]
[null,null,null,null,null,null,null,null," ",null,1,1900]
[null,null,null,null,null,null,null,null," ",null,1,1900]
[null,null,null,null,null,null,null,null," ",null,1,1900]
[null,null,null,null,null,null,null,null," ",null,1,1900]
[null,null,null,null,null,null,null,null," ",null,1,1900]
[null,null,null,null,null,null,null,null," ",null,1,1900]
[null,null,null,null,null,null,null,null," ",null,1,1900]
[null,null,null,null,null,null,null,null," ",null,1,1900]
[null,null,null,null,null,null,null,null," ",null,1,1900]
[null,null,null,null,null,null,null,null," ",null,1,1900]
[null,null,null,null,null,null,null,null," ",null,1,1900]
[null,null,null,null,null,null,null,null," ",null,1,1900]
[null,null,null,null,null,null,null,null," ",null,1,1900]
[null,null,null,null,null,null,null,null," ",null,1,1900]
[null,null,null,null,null,null,null,null," ",null,1,1900]
[null,null,null,null,null,null,null,null," ",null,1,1900]
[null,null,null,null,null,null,null,null," ",null,1,1900]
[null,null,null,null,null,null,null,null," ",null,1,1900]
[null,null,null,null,null,null,null,null," ",null,1,1900]
[null,null,null,null,null,null,null,null," ",null,1,1900]
[null,null,null,null,null,null,null,null," ",null,1,1900]
[null,null,null,null,null,null,null,null," ",null,1,1900]
[null,null,null,null,null,null,null,null," ",null,1,1900]
[null,null,null,null,null,null,null,null," ",null,1,1900]
[null,null,null,null,null,null,null,null," ",null,1,1900]
[null,null,null,null,null,null,null,null," ",null,1,1900]
[null,null,null,null,null,null,null,null," ",null,1,1900]
[null,null,null,null,null,null,null,null," ",null,1,1900]
[null,null,null,null,null,null,null,null," ",null,1,1900]
[null,null,null,null,null,null,null,null," ",null,1,1900]
[null,null,null,null,null,null,null,null," ",null,1,1900]
[null,null,null,null,null,null,null,null," ",null,1,1900]
[null,null,null,null,null,null,null,null," ",null,1,1900]
[null,null,null,null,null,null,null,null," ",null,1,1900]
[null,null,null,null,null,null,null,null,{"$f":"+IF(H1976=H1975,\" \",H1976)","v":" "},null,{"$f":"+MONTH(A1976)","v":1},{"$f":"+YEAR(A1976)","v":1900}]
[null,null,null,null,null,null,null,null," ",null,1,1900]
[null,null,null,null,null,null,null,null," ",null,1,1900]
[null,null,null,null,null,null,null,null," ",null,1,1900]
[null,null,null,null,null,null,null,null," ",null,1,1900]
[null,null,null,null,null,null,null,null," ",null,1,1900]
[null,null,null,null,null,null,null,null," ",null,1,1900]
[null,null,null,null,null,null,null,null," ",null,1,1900]
[null,null,null,null,null,null,null,null," ",null,1,1900]
[null,null,null,null,null,null,null,null," ",null,1,1900]
[null,null,null,null,null,null,null,null," ",null,1,1900]
[null,null,null,null,null,null,null,null," ",null,1,1900]
[null,null,null,null,null,null,null,null," ",null,1,1900]
[null,null,null,null,null,null,null,null," ",null,1,1900]
[null,null,null,null,null,null,null,null," ",null,1,1900]
[null,null,null,null,null,null,null,null," ",null,1,1900]
[null,null,null,null,null,null,null,null," ",null,1,1900]
[null,null,null,null,null,null,null,null," ",null,1,1900]
[null,null,null,null,null,null,null,null," ",null,1,1900]
[null,null,null,null,null,null,null,null," ",null,1,1900]
[null,null,null,null,null,null,null,null," ",null,1,1900]
[null,null,null,null,null,null,null,null," ",null,1,1900]
[null,null,null,null,null,null,null,null," ",null,1,1900]
[null,null,null,null,null,null,null,null," ",null,1,1900]
[null,null,null,null,null,null,null,null," ",null,1,1900]
[null,null,null,null,null,null,null,null," ",null,1,1900]
[null,null,null,null,null,null,null,null," ",null,1,1900]
[null,null,null,null,null,null,null,null," ",null,1,1900]
[null,null,null,null,null,null,null,null," ",null,1,1900]
[null,null,null,null,null,null,null,null," ",null,1,1900]
[null,null,null,null,null,null,null,null," ",null,1,1900]
[null,null,null,null,null,null,null,null," ",null,1,1900]
[null,null,null,null,null,null,null,null," ",null,1,1900]
[null,null,null,null,null,null,null,null," ",null,1,1900]
[null,null,null,null,null,null,null,null," ",null,1,1900]
[null,null,null,null,null,null,null,null," ",null,1,1900]
[null,null,null,null,null,null,null,null," ",null,1,1900]
[null,null,null,null,null,null,null,null," ",null,1,1900]
[null,null,null,null,null,null,null,null," ",null,1,1900]
[null,null,null,null,null,null,null,null," ",null,1,1900]
[null,null,null,null,null,null,null,null," ",null,1,1900]
[null,null,null,null,null,null,null,null," ",null,1,1900]
[null,null,null,null,null,null,null,null," ",null,1,1900]
[null,null,null,null,null,null,null,null," ",null,1,1900]
[null,null,null,null,null,null,null,null," ",null,1,1900]
[null,null,null,null,null,null,null,null," ",null,1,1900]
[null,null,null,null,null,null,null,null," ",null,1,1900]
[null,null,null,null,null,null,null,null," ",null,1,1900]
[null,null,null,null,null,null,null,null," ",null,1,1900]
[null,null,null,null,null,null,null,null," ",null,1,1900]
[null,null,null,null,null,null,null,null," ",null,1,1900]
[null,null,null,null,null,null,null,null," ",null,1,1900]
[null,null,null,null,null,null,null,null," ",null,1,1900]
[null,null,null,null,null,null,null,null," ",null,1,1900]
[null,null,null,null,null,null,null,null," ",null,1,1900]
[null,null,null,null,null,null,null,null," ",null,1,1900]
[null,null,null,null,null,null,null,null," ",null,1,1900]
[null,null,null,null,null,null,null,null," ",null,1,1900]
[null,null,null,null,null,null,null,null," ",null,1,1900]
[null,null,null,null,null,null,null,null," ",null,1,1900]
[null,null,null,null,null,null,null,null," ",null,1,1900]
[null,null,null,null,null,null,null,null," ",null,1,1900]
[null,null,null,null,null,null,null,null," ",null,1,1900]
[null,null,null,null,null,null,null,null," ",null,1,1900]
[null,null,null,null,null,null,null,null," ",null,1,1900]
[null,null,null,null,null,null,null,null," ",null,1,1900]
[null,null,null,null,null,null,null,null," ",null,1,1900]
[null,null,null,null,null,null,null,null," ",null,1,1900]
[null,null,null,null,null,null,null,null," ",null,1,1900]
[null,null,null,null,null,null,null,null," ",null,1,1900]
[null,null,null,null,null,null,null,null," ",null,1,1900]
[null,null,null,null,null,null,null,null," ",null,1,1900]
[null,null,null,null,null,null,null,null," ",null,1,1900]
[null,null,null,null,null,null,null,null," ",null,1,1900]
[null,null,null,null,null,null,null,null," ",null,1,1900]
[null,null,null,null,null,null,null,null," ",null,1,1900]
[null,null,null,null,null,null,null,null," ",null,1,1900]
[null,null,null,null,null,null,null,null," ",null,1,1900]
[null,null,null,null,null,null,null,null," ",null,1,1900]
[null,null,null,null,null,null,null,null," ",null,1,1900]
[null,null,null,null,null,null,null,null," ",null,1,1900]
[null,null,null,null,null,null,null,null," ",null,1,1900]
[null,null,null,null,null,null,null,null," ",null,1,1900]
[null,null,null,null,null,null,null,null," ",null,1,1900]
[null,null,null,null,null,null,null,null," ",null,1,1900]
[null,null,null,null,null,null,null,null," ",null,1,1900]
[null,null,null,null,null,null,null,null," ",null,1,1900]
[null,null,null,null,null,null,null,null," ",null,1,1900]
[null,null,null,null,null,null,null,null," ",null,1,1900]
[null,null,null,null,null,null,null,null," ",null,1,1900]
[null,null,null,null,null,null,null,null," ",null,1,1900]
[null,null,null,null,null,null,null,null," ",null,1,1900]
[null,null,null,null,null,null,null,null," ",null,1,1900]
[null,null,null,null,null,null,null,null," ",null,1,1900]
[null,null,null,null,null,null,null,null," ",null,1,1900]
[null,null,null,null,null,null,null,null," ",null,1,1900]
[null,null,null,null,null,null,null,null," ",null,1,1900]
[null,null,null,null,null,null,null,null," ",null,1,1900]
[null,null,null,null,null,null,null,null," ",null,1,1900]
[null,null,null,null,null,null,null,null," ",null,1,1900]
[null,null,null,null,null,null,null,null," ",null,1,1900]
[null,null,null,null,null,null,null,null," ",null,1,1900]
[null,null,null,null,null,null,null,null," ",null,1,1900]
[null,null,null,null,null,null,null,null," ",null,1,1900]
[null,null,null,null,null,null,null,null," ",null,1,1900]
[null,null,null,null,null,null,null,null," ",null,1,1900]
[null,null,null,null,null,null,null,null," ",null,1,1900]
[null,null,null,null,null,null,null,null," ",null,1,1900]
[null,null,null,null,null,null,null,null," ",null,1,1900]
[null,null,null,null,null,null,null,null," ",null,1,1900]
[null,null,null,null,null,null,null,null," ",null,1,1900]
[null,null,null,null,null,null,null,null," ",null,1,1900]
[null,null,null,null,null,null,null,null," ",null,1,1900]
[null,null,null,null,null,null,null,null," ",null,1,1900]
[null,null,null,null,null,null,null,null," ",null,1,1900]
[null,null,null,null,null,null,null,null,{"$f":"+IF(H4856=H4855,\" \",H4856)","v":" "},null,{"$f":"+MONTH(A4856)","v":1},{"$f":"+YEAR(A4856)","v":1900}]
[null,null,null,null,null,null,null,null," ",null,1,1900]
[null,null,null,null,null,null,null,null," ",null,1,1900]
[null,null,null,null,null,null,null,null," ",null,1,1900]
[null,null,null,null,null,null,null,null," ",null,1,1900]
[null,null,null,null,null,null,null,null," ",null,1,1900]
[null,null,null,null,null,null,null,null," ",null,1,1900]
[null,null,null,null,null,null,null,null," ",null,1,1900]
[null,null,null,null,null,null,null,null," ",null,1,1900]
[null,null,null,null,null,null,null,null," ",null,1,1900]
[null,null,null,null,null,null,null,null," ",null,1,1900]
[null,null,null,null,null,null,null,null," ",null,1,1900]
[null,null,null,null,null,null,null,null," ",null,1,1900]
[null,null,null,null,null,null,null,null," ",null,1,1900]
[null,null,null,null,null,null,null,null," ",null,1,1900]
[null,null,null,null,null,null,null,null," ",null,1,1900]
[null,null,null,null,null,null,null,null," ",null,1,1900]
[null,null,null,null,null,null,null,null," ",null,1,1900]
[null,null,null,null,null,null,null,null," ",null,1,1900]
[null,null,null,null,null,null,null,null," ",null,1,1900]
[null,null,null,null,null,null,null,null," ",null,1,1900]
[null,null,null,null,null,null,null,null," ",null,1,1900]
[null,null,null,null,null,null,null,null,{"$f":"+IF(H5560=H5559,\" \",H5560)","v":" "},null,{"$f":"+MONTH(A5560)","v":1},{"$f":"+YEAR(A5560)","v":1900}]
[null,null,null,null,null,null,null,null," ",null,1,1900]
[null,null,null,null,null,null,null,null," ",null,1,1900]
[null,null,null,null,null,null,null,null," ",null,1,1900]
[null,null,null,null,null,null,null,null," ",null,1,1900]
[null,null,null,null,null,null,null,null," ",null,1,1900]
[null,null,null,null,null,null,null,null," ",null,1,1900]
[null,null,null,null,null,null,null,null," ",null,1,1900]
[null,null,null,null,null,null,null,null," ",null,1,1900]
[null,null,null,null,null,null,null,null,{"$f":"+IF(H5816=H5815,\" \",H5816)","v":" "},null,{"$f":"+MONTH(A5816)","v":1},{"$f":"+YEAR(A5816)","v":1900}]
[null,null,null,null,null,null,null,null," ",null,1,1900]
[null,null,null,null,null,null,null,null," ",null,1,1900]
[null,null,null,null,null,null,null,null," ",null,1,1900]
[null,null,null,null,null,null,null,null," ",null,1,1900]
[null,null,null,null,null,null,null,null," ",null,1,1900]
[null,null,null,null,null,null,null,null," ",null,1,1900]
[null,null,null,null,null,null,null,null," ",null,1,1900]
[null,null,null,null,null,null,null,null," ",null,1,1900]
[null,null,null,null,null,null,null,null," ",null,1,1900]
[null,null,null,null,null,null,null,null," ",null,1,1900]
[null,null,null,null,null,null,null,null," ",null,1,1900]
[null,null,null,null,null,null,null,null," ",null,1,1900]
[null,null,null,null,null,null,null,null," ",null,1,1900]
[null,null,null,null,null,null,null,null," ",null,1,1900]
[null,null,null,null,null,null,null,null," ",null,1,1900]
[null,null,null,null,null,null,null,null," ",null,1,1900]
[null,null,null,null,null,null,null,null," ",null,1,1900]
[null,null,null,null,null,null,null,null," ",null,1,1900]
[null,null,null,null,null,null,null,null," ",null,1,1900]
[null,null,null,null,null,null,null,null," ",null,1,1900]
[null,null,null,null,null,null,null,null," ",null,1,1900]
[null,null,null,null,null,null,null,null," ",null,1,1900]
[null,null,null,null,null,null,null,null," ",null,1,1900]
[null,null,null,null,null,null,null,null,{"$f":"+IF(H6584=H6583,\" \",H6584)","v":" "},null,{"$f":"+MONTH(A6584)","v":1},{"$f":"+YEAR(A6584)","v":1900}]
[null,null,null,null,null,null,null,null," ",null,1,1900]
[null,null,null,null,null,null,null,null," ",null,1,1900]
[null,null,null,null,null,null,null,null," ",null,1,1900]
[null,null,null,null,null,null,null,null," ",null,1,1900]
[null,null,null,null,null,null,null,null," ",null,1,1900]
[null,null,null,null,null,null,null,null," ",null,1,1900]
[null,null,null,null,null,null,null,null," ",null,1,1900]
[null,null,null,null,null,null,null,null," ",null,1,1900]
[null,null,null,null,null,null,null,null," ",null,1,1900]
[null,null,null,null,null,null,null,null," ",null,1,1900]
[null,null,null,null,null,null,null,null," ",null,1,1900]
[null,null,null,null,null,null,null,null," ",null,1,1900]
[null,null,null,null,null,null,null,null," ",null,1,1900]
[null,null,null,null,null,null,null,null," ",null,1,1900]
[null,null,null,null,null,null,null,null," ",null,1,1900]
[null,null,null,null,null,null,null,null," ",null,1,1900]
[null,null,null,null,null,null,null,null," ",null,1,1900]
[null,null,null,null,null,null,null,null," ",null,1,1900]
[null,null,null,null,null,null,null,null," ",null,1,1900]
[null,null,null,null,null,null,null,null," ",null,1,1900]
[null,null,null,null,null,null,null,null," ",null,1,1900]
[null,null,null,null,null,null,null,null," ",null,1,1900]
[null,null,null,null,null,null,null,null," ",null,1,1900]
[null,null,null,null,null,null,null,null," ",null,1,1900]
[null,null,null,null,null,null,null,null," ",null,1,1900]
[null,null,null,null,null,null,null,null," ",null,1,1900]
[null,null,null,null,null,null,null,null," ",null,1,1900]
[null,null,null,null,null,null,null,null," ",null,1,1900]
[null,null,null,null,null,null,null,null," ",null,1,1900]
[null,null,null,null,null,null,null,null," ",null,1,1900]
[null,null,null,null,null,null,null,null," ",null,1,1900]
[null,null,null,null,null,null,null,null," ",null,1,1900]
[null,null,null,null,null,null,null,null," ",null,1,1900]
[null,null,null,null,null,null,null,null," ",null,1,1900]
[null,null,null,null,null,null,null,null," ",null,1,1900]
[null,null,null,null,null,null,null,null," ",null,1,1900]
[null,null,null,null,null,null,null,null," ",null,1,1900]
[null,null,null,null,null,null,null,null," ",null,1,1900]
[null,null,null,null,null,null,null,null," ",null,1,1900]
[null,null,null,null,null,null,null,null," ",null,1,1900]
[null,null,null,null,null,null,null,null," ",null,1,1900]
[null,null,null,null,null,null,null,null," ",null,1,1900]
[null,null,null,null,null,null,null,null," ",null,1,1900]
[null,null,null,null,null,null,null,null," ",null,1,1900]
[null,null,null,null,null,null,null,null," ",null,1,1900]
[null,null,null,null,null,null,null,null," ",null,1,1900]
[null,null,null,null,null,null,null,null," ",null,1,1900]
[null,null,null,null,null,null,null,null," ",null,1,1900]
[null,null,null,null,null,null,null,null," ",null,1,1900]
[null,null,null,null,null,null,null,null," ",null,1,1900]
[null,null,null,null,null,null,null,null," ",null,1,1900]
[null,null,null,null,null,null,null,null," ",null,1,1900]
[null,null,null,null,null,null,null,null," ",null,1,1900]
[null,null,null,null,null,null,null,null," ",null,1,1900]
[null,null,null,null,null,null,null,null," ",null,1,1900]
[null,null,null,null,null,null,null,null," ",null,1,1900]
[null,null,null,null,null,null,null,null," ",null,1,1900]
[null,null,null,null,null,null,null,null," ",null,1,1900]
[null,null,null,null,null,null,null,null," ",null,1,1900]
[null,null,null,null,null,null,null,null," ",null,1,1900]
[null,null,null,null,null,null,null,null," ",null,1,1900]
[null,null,null,null,null,null,null,null," ",null,1,1900]
[null,null,null,null,null,null,null,null," ",null,1,1900]
[null,null,null,null,null,null,null,null," ",null,1,1900]
[null,null,null,null,null,null,null,null," ",null,1,1900]
[null,null,null,null,null,null,null,null," ",null,1,1900]
[null,null,null,null,null,null,null,null," ",null,1,1900]
[null,null,null,null,null,null,null,null," ",null,1,1900]
[null,null,null,null,null,null,null,null,{"$f":"+IF(H8760=H8759,\" \",H8760)","v":" "},null,{"$f":"+MONTH(A8760)","v":1},{"$f":"+YEAR(A8760)","v":1900}]
[null,null,null,null,null,null,null,null," ",null,1,1900]
[null,null,null,null,null,null,null,null," ",null,1,1900]
[null,null,null,null,null,null,null,null," ",null,1,1900]
[null,null,null,null,null,null,null,null," ",null,1,1900]
[null,null,null,null,null,null,null,null," ",null,1,1900]
[null,null,null,null,null,null,null,null," ",null,1,1900]
[null,null,null,null,null,null,null,null," ",null,1,1900]
[null,null,null,null,null,null,null,null," ",null,1,1900]
[null,null,null,null,null,null,null,null," ",null,1,1900]
[null,null,null,null,null,null,null,null," ",null,1,1900]
[null,null,null,null,null,null,null,null," ",null,1,1900]
[null,null,null,null,null,null,null,null," ",null,1,1900]
[null,null,null,null,null,null,null,null," ",null,1,1900]
[null,null,null,null,null,null,null,null," ",null,1,1900]
[null,null,null,null,null,null,null,null," ",null,1,1900]
[null,null,null,null,null,null,null,null," ",null,1,1900]
[null,null,null,null,null,null,null,null," ",null,1,1900]
[null,null,null,null,null,null,null,null," ",null,1,1900]
[null,null,null,null,null,null,null,null," ",null,1,1900]
[null,null,null,null,null,null,null,null," ",null,1,1900]
[null,null,null,null,null,null,null,null," ",null,1,1900]
[null,null,null,null,null,null,null,null," ",null,1,1900]
[null,null,null,null,null,null,null,null," ",null,1,1900]
[null,null,null,null,null,null,null,null," ",null,1,1900]
[null,null,null,null,null,null,null,null," ",null,1,1900]
[null,null,null,null,null,null,null,null,{"$f":"+IF(H9592=H9591,\" \",H9592)","v":" "},null,{"$f":"+MONTH(A9592)","v":1},{"$f":"+YEAR(A9592)","v":1900}]
[null,null,null,null,null,null,null,null," ",null,1,1900]
[null,null,null,null,null,null,null,null," ",null,1,1900]
[null,null,null,null,null,null,null,null," ",null,1,1900]
[null,null,null,null,null,null,null,null," ",null,1,1900]
[null,null,null,null,null,null,null,null," ",null,1,1900]
[null,null,null,null,null,null,null,null," ",null,1,1900]
[null,null,null,null,null,null,null,null," ",null,1,1900]
[null,null,null,null,null,null,null,null," ",null,1,1900]
[null,null,null,null,null,null,null,null," ",null,1,1900]
[null,null,null,null,null,null,null,null," ",null,1,1900]
[null,null,null,null,null,null,null,null," ",null,1,1900]
[null,null,null,null,null,null,null,null," ",null,1,1900]
[null,null,null,null,null,null,null,null," ",null,1,1900]
[null,null,null,null,null,null,null,null," ",null,1,1900]
[null,null,null,null,null,null,null,null," ",null,1,1900]
[null,null,null,null,null,null,null,null," ",null,1,1900]
[null,null,null,null,null,null,null,null," ",null,1,1900]
[null,null,null,null,null,null,null,null," ",null,1,1900]
[null,null,null,null,null,null,null,null," ",null,1,1900]
[null,null,null,null,null,null,null,null," ",null,1,1900]
[null,null,null,null,null,null,null,null," ",null,1,1900]
[null,null,null,null,null,null,null,null," ",null,1,1900]
[null,null,null,null,null,null,null,null," ",null,1,1900]
[null,null,null,null,null,null,null,null," ",null,1,1900]
[null,null,null,null,null,null,null,null," ",null,1,1900]
[null,null,null,null,null,null,null,null," ",null,1,1900]
[null,null,null,null,null,null,null,null," ",null,1,1900]
[null,null,null,null,null,null,null,null," ",null,1,1900]
[null,null,null,null,null,null,null,null," ",null,1,1900]
[null,null,null,null,null,null,null,null," ",null,1,1900]
[null,null,null,null,null,null,null,null," ",null,1,1900]
[null,null,null,null,null,null,null,null," ",null,1,1900]
[null,null,null,null,null,null,null,null,{"$f":"+IF(H10616=H10615,\" \",H10616)","v":" "},null,{"$f":"+MONTH(A10616)","v":1},{"$f":"+YEAR(A10616)","v":1900}]
[null,null,null,null,null,null,null,null," ",null,1,1900]
[null,null,null,null,null,null,null,null," ",null,1,1900]
[null,null,null,null,null,null,null,null," ",null,1,1900]
[null,null,null,null,null,null,null,null," ",null,1,1900]
[null,null,null,null,null,null,null,null," ",null,1,1900]
[null,null,null,null,null,null,null,null," ",null,1,1900]
[null,null,null,null,null,null,null,null," ",null,1,1900]
[null,null,null,null,null,null,null,null," ",null,1,1900]
[null,null,null,null,null,null,null,null," ",null,1,1900]
[null,null,null,null,null,null,null,null," ",null,1,1900]
[null,null,null,null,null,null,null,null," ",null,1,1900]
[null,null,null,null,null,null,null,null," ",null,1,1900]
[null,null,null,null,null,null,null,null," ",null,1,1900]
[null,null,null,null,null,null,null,null," ",null,1,1900]
[null,null,null,null,null,null,null,null," ",null,1,1900]
[null,null,null,null,null,null,null,null," ",null,1,1900]
[null,null,null,null,null,null,null,null," ",null,1,1900]
[null,null,null,null,null,null,null,null," ",null,1,1900]
[null,null,null,null,null,null,null,null," ",null,1,1900]
[null,null,null,null,null,null,null,null," ",null,1,1900]
[null,null,null,null,null,null,null,null," ",null,1,1900]
[null,null,null,null,null,null,null,null," ",null,1,1900]
[null,null,null,null,null,null,null,null," ",null,1,1900]
[null,null,null,null,null,null,null,null," ",null,1,1900]
[null,null,null,null,null,null,null,null," ",null,1,1900]
[null,null,null,null,null,null,null,null," ",null,1,1900]
[null,null,null,null,null,null,null,null," ",null,1,1900]
[null,null,null,null,null,null,null,null," ",null,1,1900]
[null,null,null,null,null,null,null,null," ",null,1,1900]
[null,null,null,null,null,null,null,null," ",null,1,1900]
[null,null,null,null,null,null,null,null," ",null,1,1900]
[null,null,null,null,null,null,null,null," ",null,1,1900]
[null,null,null,null,null,null,null,null," ",null,1,1900]
[null,null,null,null,null,null,null,null," ",null,1,1900]
[null,null,null,null,null,null,null,null," ",null,1,1900]
[null,null,null,null,null,null,null,null," ",null,1,1900]
[null,null,null,null,null,null,null,null," ",null,1,1900]
[null,null,null,null,null,null,null,null," ",null,1,1900]
[null,null,null,null,null,null,null,null," ",null,1,1900]
[null,null,null,null,null,null,null,null," ",null,1,1900]
[null,null,null,null,null,null,null,null," ",null,1,1900]
[null,null,null,null,null,null,null,null," ",null,1,1900]
[null,null,null,null,null,null,null,null," ",null,1,1900]
[null,null,null,null,null,null,null,null," ",null,1,1900]
[null,null,null,null,null,null,null,null," ",null,1,1900]
[null,null,null,null,null,null,null,null," ",null,1,1900]
[null,null,null,null,null,null,null,null," ",null,1,1900]
[null,null,null,null,null,null,null,null," ",null,1,1900]
[null,null,null,null,null,null,null,null," ",null,1,1900]
[null,null,null,null,null,null,null,null," ",null,1,1900]
[null,null,null,null,null,null,null,null," ",null,1,1900]
[null,null,null,null,null,null,null,null," ",null,1,1900]
[null,null,null,null,null,null,null,null," ",null,1,1900]
[null,null,null,null,null,null,null,null," ",null,1,1900]
[null,null,null,null,null,null,null,null," ",null,1,1900]
[null,null,null,null,null,null,null,null," ",null,1,1900]
[null,null,null,null,null,null,null,null," ",null,1,1900]
[null,null,null,null,null,null,null,null," ",null,1,1900]
[null,null,null,null,null,null,null,null," ",null,1,1900]
[null,null,null,null,null,null,null,null," ",null,1,1900]
[null,null,null,null,null,null,null,null," ",null,1,1900]
[null,null,null,null,null,null,null,null," ",null,1,1900]
[null,null,null,null,null,null,null,null," ",null,1,1900]
[null,null,null,null,null,null,null,null," ",null,1,1900]
[null,null,null,null,null,null,null,null," ",null,1,1900]
[null,null,null,null,null,null,null,null," ",null,1,1900]
[null,null,null,null,null,null,null,null," ",null,1,1900]
[null,null,null,null,null,null,null,null," ",null,1,1900]
[null,null,null,null,null,null,null,null," ",null,1,1900]
[null,null,null,null,null,null,null,null," ",null,1,1900]
[null,null,null,null,null,null,null,null," ",null,1,1900]
[null,null,null,null,null,null,null,null," ",null,1,1900]
[null,null,null,null,null,null,null,null," ",null,1,1900]
[null,null,null,null,null,null,null,null," ",null,1,1900]
[null,null,null,null,null,null,null,null," ",null,1,1900]
[null,null,null,null,null,null,null,null," ",null,1,1900]
[null,null,null,null,null,null,null,null," ",null,1,1900]
[null,null,null,null,null,null,null,null," ",null,1,1900]
[null,null,null,null,null,null,null,null," ",null,1,1900]
[null,null,null,null,null,null,null,null," ",null,1,1900]
[null,null,null,null,null,null,null,null," ",null,1,1900]
[null,null,null,null,null,null,null,null," ",null,1,1900]
[null,null,null,null,null,null,null,null," ",null,1,1900]
[null,null,null,null,null,null,null,null," ",null,1,1900]
[null,null,null,null,null,null,null,null," ",null,1,1900]
[null,null,null,null,null,null,null,null," ",null,1,1900]
[null,null,null,null,null,null,null,null," ",null,1,1900]
[null,null,null,null,null,null,null,null," ",null,1,1900]
[null,null,null,null,null,null,null,null," ",null,1,1900]
[null,null,null,null,null,null,null,null," ",null,1,1900]
[null,null,null,null,null,null,null,null," ",null,1,1900]
[null,null,null,null,null,null,null,null," ",null,1,1900]
[null,null,null,null,null,null,null,null," ",null,1,1900]
[null,null,null,null,null,null,null,null," ",null,1,1900]
[null,null,null,null,null,null,null,null," ",null,1,1900]
[null,null,null,null,null,null,null,null," ",null,1,1900]
[null,null,null,null,null,null,null,null," ",null,1,1900]
[null,null,null,null,null,null,null,null," ",null,1,1900]
[null,null,null,null,null,null,null,null," ",null,1,1900]
[null,null,null,null,null,null,null,null," ",null,1,1900]
[null,null,null,null,null,null,null,null," ",null,1,1900]
[null,null,null,null,null,null,null,null," ",null,1,1900]
[null,null,null,null,null,null,null,null," ",null,1,1900]
[null,null,null,null,null,null,null,null," ",null,1,1900]
[null,null,null,null,null,null,null,null," ",null,1,1900]
[null,null,null,null,null,null,null,null," ",null,1,1900]
[null,null,null,null,null,null,null,null," ",null,1,1900]
[null,null,null,null,null,null,null,null," ",null,1,1900]
[null,null,null,null,null,null,null,null," ",null,1,1900]
[null,null,null,null,null,null,null,null," ",null,1,1900]
[null,null,null,null,null,null,null,null," ",null,1,1900]
[null,null,null,null,null,null,null,null," ",null,1,1900]
[null,null,null,null,null,null,null,null," ",null,1,1900]
[null,null,null,null,null,null,null,null," ",null,1,1900]
[null,null,null,null,null,null,null,null," ",null,1,1900]
[null,null,null,null,null,null,null,null," ",null,1,1900]
[null,null,null,null,null,null,null,null," ",null,1,1900]
[null,null,null,null,null,null,null,null," ",null,1,1900]
[null,null,null,null,null,null,null,null," ",null,1,1900]
[null,null,null,null,null,null,null,null," ",null,1,1900]
[null,null,null,null,null,null,null,null," ",null,1,1900]
[null,null,null,null,null,null,null,null," ",null,1,1900]
[null,null,null,null,null,null,null,null," ",null,1,1900]
[null,null,null,null,null,null,null,null," ",null,1,1900]
[null,null,null,null,null,null,null,null," ",null,1,1900]
[null,null,null,null,null,null,null,null," ",null,1,1900]
[null,null,null,null,null,null,null,null," ",null,1,1900]
[null,null,null,null,null,null,null,null," ",null,1,1900]
[null,null,null,null,null,null,null,null," ",null,1,1900]
[null,null,null,null,null,null,null,null," ",null,1,1900]
[null,null,null,null,null,null,null,null," ",null,1,1900]
[null,null,null,null,null,null,null,null," ",null,1,1900]
[null,null,null,null,null,null,null,null," ",null,1,1900]
[null,null,null,null,null,null,null,null," ",null,1,1900]
[null,null,null,null,null,null,null,null," ",null,1,1900]
[null,null,null,null,null,null,null,null," ",null,1,1900]
[null,null,null,null,null,null,null,null," ",null,1,1900]
[null,null,null,null,null,null,null,null," ",null,1,1900]
[null,null,null,null,null,null,null,null," ",null,1,1900]
[null,null,null,null,null,null,null,null," ",null,1,1900]
[null,null,null,null,null,null,null,null," ",null,1,1900]
[null,null,null,null,null,null,null,null," ",null,1,1900]
[null,null,null,null,null,null,null,null," ",null,1,1900]
[null,null,null,null,null,null,null,null,{"$f":"+IF(H15160=H15159,\" \",H15160)","v":" "},null,{"$f":"+MONTH(A15160)","v":1},{"$f":"+YEAR(A15160)","v":1900}]
[null,null,null,null,null,null,null,null," ",null,1,1900]
[null,null,null,null,null,null,null,null," ",null,1,1900]
[null,null,null,null,null,null,null,null," ",null,1,1900]
[null,null,null,null,null,null,null,null," ",null,1,1900]
[null,null,null,null,null,null,null,null," ",null,1,1900]
[null,null,null,null,null,null,null,null," ",null,1,1900]
[null,null,null,null,null,null,null,null," ",null,1,1900]
[null,null,null,null,null,null,null,null," ",null,1,1900]
[null,null,null,null,null,null,null,null," ",null,1,1900]
[null,null,null,null,null,null,null,null," ",null,1,1900]
[null,null,null,null,null,null,null,null," ",null,1,1900]
[null,null,null,null,null,null,null,null," ",null,1,1900]
[null,null,null,null,null,null,null,null," ",null,1,1900]
[null,null,null,null,null,null,null,null," ",null,1,1900]
[null,null,null,null,null,null,null,null," ",null,1,1900]
[null,null,null,null,null,null,null,null," ",null,1,1900]
[null,null,null,null,null,null,null,null," ",null,1,1900]
[null,null,null,null,null,null,null,null," ",null,1,1900]
[null,null,null,null,null,null,null,null," ",null,1,1900]
[null,null,null,null,null,null,null,null," ",null,1,1900]
[null,null,null,null,null,null,null,null," ",null,1,1900]
[null,null,null,null,null,null,null,null," ",null,1,1900]
[null,null,null,null,null,null,null,null," ",null,1,1900]
[null,null,null,null,null,null,null,null," ",null,1,1900]
[null,null,null,null,null,null,null,null," ",null,1,1900]
[null,null,null,null,null,null,null,null," ",null,1,1900]
[null,null,null,null,null,null,null,null," ",null,1,1900]
[null,null,null,null,null,null,null,null," ",null,1,1900]
[null,null,null,null,null,null,null,null," ",null,1,1900]
[null,null,null,null,null,null,null,null," ",null,1,1900]
[null,null,null,null,null,null,null,null," ",null,1,1900]
[null,null,null,null,null,null,null,null," ",null,1,1900]
[null,null,null,null,null,null,null,null," ",null,1,1900]
[null,null,null,null,null,null,null,null," ",null,1,1900]
[null,null,null,null,null,null,null,null," ",null,1,1900]
[null,null,null,null,null,null,null,null," ",null,1,1900]
[null,null,null,null,null,null,null,null," ",null,1,1900]
[null,null,null,null,null,null,null,null," ",null,1,1900]
[null,null,null,null,null,null,null,null," ",null,1,1900]
[null,null,null,null,null,null,null,null," ",null,1,1900]
[null,null,null,null,null,null,null,null," ",null,1,1900]
[null,null,null,null,null,null,null,null," ",null,1,1900]
[null,null,null,null,null,null,null,null," ",null,1,1900]
[null,null,null,null,null,null,null,null," ",null,1,1900]
[null,null,null,null,null,null,null,null," ",null,1,1900]
[null,null,null,null,null,null,null,null," ",null,1,1900]
[null,null,null,null,null,null,null,null," ",null,1,1900]
[null,null,null,null,null,null,null,null," ",null,1,1900]
[null,null,null,null,null,null,null,null," ",null,1,1900]
[null,null,null,null,null,null,null,null," ",null,1,1900]
[null,null,null,null,null,null,null,null," ",null,1,1900]
[null,null,null,null,null,null,null,null," ",null,1,1900]
[null,null,null,null,null,null,null,null," ",null,1,1900]
[null,null,null,null,null,null,null,null," ",null,1,1900]
[null,null,null,null,null,null,null,null," ",null,1,1900]
[null,null,null,null,null,null,null,null," ",null,1,1900]
[null,null,null,null,null,null,null,null," ",null,1,1900]
[null,null,null,null,null,null,null,null," ",null,1,1900]
[null,null,null,null,null,null,null,null," ",null,1,1900]
[null,null,null,null,null,null,null,null," ",null,1,1900]
[null,null,null,null,null,null,null,null," ",null,1,1900]
[null,null,null,null,null,null,null,null," ",null,1,1900]
[null,null,null,null,null,null,null,null," ",null,1,1900]
[null,null,null,null,null,null,null,null," ",null,1,1900]
[null,null,null,null,null,null,null,null," ",null,1,1900]
[null,null,null,null,null,null,null,null," ",null,1,1900]
[null,null,null,null,null,null,null,null," ",null,1,1900]
[null,null,null,null,null,null,null,null," ",null,1,1900]
[null,null,null,null,null,null,null,null," ",null,1,1900]
[null,null,null,null,null,null,null,null," ",null,1,1900]
[null,null,null,null,null,null,null,null," ",null,1,1900]
[null,null,null,null,null,null,null,null," ",null,1,1900]
[null,null,null,null,null,null,null,null," ",null,1,1900]
[null,null,null,null,null,null,null,null," ",null,1,1900]
[null,null,null,null,null,null,null,null," ",null,1,1900]
[null,null,null,null,null,null,null,null," ",null,1,1900]
[null,null,null,null,null,null,null,null," ",null,1,1900]
[null,null,null,null,null,null,null,null," ",null,1,1900]
[null,null,null,null,null,null,null,null," ",null,1,1900]
[null,null,null,null,null,null,null,null," ",null,1,1900]
[null,null,null,null,null,null,null,null," ",null,1,1900]
[null,null,null,null,null,null,null,null," ",null,1,1900]
[null,null,null,null,null,null,null,null," ",null,1,1900]
[null,null,null,null,null,null,null,null," ",null,1,1900]
[null,null,null,null,null,null,null,null," ",null,1,1900]
[null,null,null,null,null,null,null,null," ",null,1,1900]
[null,null,null,null,null,null,null,null," ",null,1,1900]
[null,null,null,null,null,null,null,null," ",null,1,1900]
[null,null,null,null,null,null,null,null," ",null,1,1900]
[null,null,null,null,null,null,null,null," ",null,1,1900]
[null,null,null,null,null,null,null,null," ",null,1,1900]
[null,null,null,null,null,null,null,null," ",null,1,1900]
[null,null,null,null,null,null,null,null," ",null,1,1900]
[null,null,null,null,null,null,null,null," ",null,1,1900]
[null,null,null,null,null,null,null,null,{"$f":"+IF(H18168=H18167,\" \",H18168)","v":" "},null,{"$f":"+MONTH(A18168)","v":1},{"$f":"+YEAR(A18168)","v":1900}]
[null,null,null,null,null,null,null,null," ",null,1,1900]
[null,null,null,null,null,null,null,null," ",null,1,1900]
[null,null,null,null,null,null,null,null," ",null,1,1900]
[null,null,null,null,null,null,null,null," ",null,1,1900]
[null,null,null,null,null,null,null,null," ",null,1,1900]
[null,null,null,null,null,null,null,null," ",null,1,1900]
[null,null,null,null,null,null,null,null," ",null,1,1900]
[null,null,null,null,null,null,null,null," ",null,1,1900]
[null,null,null,null,null,null,null,null," ",null,1,1900]
[null,null,null,null,null,null,null,null," ",null,1,1900]
[null,null,null,null,null,null,null,null," ",null,1,1900]
[null,null,null,null,null,null,null,null," ",null,1,1900]
[null,null,null,null,null,null,null,null," ",null,1,1900]
[null,null,null,null,null,null,null,null," ",null,1,1900]
[null,null,null,null,null,null,null,null," ",null,1,1900]
[null,null,null,null,null,null,null,null," ",null,1,1900]
[null,null,null,null,null,null,null,null," ",null,1,1900]
[null,null,null,null,null,null,null,null," ",null,1,1900]
[null,null,null,null,null,null,null,null," ",null,1,1900]
[null,null,null,null,null,null,null,null," ",null,1,1900]
[null,null,null,null,null,null,null,null," ",null,1,1900]
[null,null,null,null,null,null,null,null," ",null,1,1900]
[null,null,null,null,null,null,null,null," ",null,1,1900]
[null,null,null,null,null,null,null,null," ",null,1,1900]
[null,null,null,null,null,null,null,null," ",null,1,1900]
[null,null,null,null,null,null,null,null," ",null,1,1900]
[null,null,null,null,null,null,null,null," ",null,1,1900]
[null,null,null,null,null,null,null,null," ",null,1,1900]
[null,null,null,null,null,null,null,null," ",null,1,1900]
[null,null,null,null,null,null,null,null," ",null,1,1900]
[null,null,null,null,null,null,null,null," ",null,1,1900]
[null,null,null,null,null,null,null,null," ",null,1,1900]
[null,null,null,null,null,null,null,null,{"$f":"+IF(H19192=H19191,\" \",H19192)","v":" "},null,{"$f":"+MONTH(A19192)","v":1},{"$f":"+YEAR(A19192)","v":1900}]
[null,null,null,null,null,null,null,null," ",null,1,1900]
[null,null,null,null,null,null,null,null," ",null,1,1900]
[null,null,null,null,null,null,null,null," ",null,1,1900]
[null,null,null,null,null,null,null,null," ",null,1,1900]
[null,null,null,null,null,null,null,null," ",null,1,1900]
[null,null,null,null,null,null,null,null," ",null,1,1900]
[null,null,null,null,null,null,null,null," ",null,1,1900]
[null,null,null,null,null,null,null,null," ",null,1,1900]
[null,null,null,null,null,null,null,null," ",null,1,1900]
[null,null,null,null,null,null,null,null," ",null,1,1900]
[null,null,null,null,null,null,null,null," ",null,1,1900]
[null,null,null,null,null,null,null,null," ",null,1,1900]
[null,null,null,null,null,null,null,null," ",null,1,1900]
[null,null,null,null,null,null,null,null," ",null,1,1900]
[null,null,null,null,null,null,null,null," ",null,1,1900]
[null,null,null,null,null,null,null,null," ",null,1,1900]
[null,null,null,null,null,null,null,null," ",null,1,1900]
[null,null,null,null,null,null,null,null," ",null,1,1900]
[null,null,null,null,null,null,null,null," ",null,1,1900]
[null,null,null,null,null,null,null,null," ",null,1,1900]
[null,null,null,null,null,null,null,null," ",null,1,1900]
[null,null,null,null,null,null,null,null," ",null,1,1900]
[null,null,null,null,null,null,null,null," ",null,1,1900]
[null,null,null,null,null,null,null,null," ",null,1,1900]
[null,null,null,null,null,null,null,null," ",null,1,1900]
[null,null,null,null,null,null,null,null," ",null,1,1900]
[null,null,null,null,null,null,null,null," ",null,1,1900]
[null,null,null,null,null,null,null,null," ",null,1,1900]
[null,null,null,null,null,null,null,null," ",null,1,1900]
[null,null,null,null,null,null,null,null," ",null,1,1900]
[null,null,null,null,null,null,null,null," ",null,1,1900]
[null,null,null,null,null,null,null,null," ",null,1,1900]
[null,null,null,null,null,null,null,null," ",null,1,1900]
[null,null,null,null,null,null,null,null," ",null,1,1900]
[null,null,null,null,null,null,null,null," ",null,1,1900]
[null,null,null,null,null,null,null,null," ",null,1,1900]
[null,null,null,null,null,null,null,null," ",null,1,1900]
[null,null,null,null,null,null,null,null," ",null,1,1900]
[null,null,null,null,null,null,null,null,{"$f":"+IF(H20408=H20407,\" \",H20408)","v":" "},null,{"$f":"+MONTH(A20408)","v":1},{"$f":"+YEAR(A20408)","v":1900}]
[null,null,null,null,null,null,null,null," ",null,1,1900]
[null,null,null,null,null,null,null,null," ",null,1,1900]
[null,null,null,null,null,null,null,null," ",null,1,1900]
[null,null,null,null,null,null,null,null," ",null,1,1900]
[null,null,null,null,null,null,null,null," ",null,1,1900]
[null,null,null,null,null,null,null,null," ",null,1,1900]
[null,null,null,null,null,null,null,null," ",null,1,1900]
[null,null,null,null,null,null,null,null," ",null,1,1900]
[null,null,null,null,null,null,null,null," ",null,1,1900]
[null,null,null,null,null,null,null,null," ",null,1,1900]
[null,null,null,null,null,null,null,null," ",null,1,1900]
[null,null,null,null,null,null,null,null," ",null,1,1900]
[null,null,null,null,null,null,null,null," ",null,1,1900]
[null,null,null,null,null,null,null,null," ",null,1,1900]
[null,null,null,null,null,null,null,null," ",null,1,1900]
[null,null,null,null,null,null,null,null," ",null,1,1900]
[null,null,null,null,null,null,null,null," ",null,1,1900]
[null,null,null,null,null,null,null,null," ",null,1,1900]
[null,null,null,null,null,null,null,null," ",null,1,1900]
[null,null,null,null,null,null,null,null," ",null,1,1900]
[null,null,null,null,null,null,null,null," ",null,1,1900]
[null,null,null,null,null,null,null,null," ",null,1,1900]
[null,null,null,null,null,null,null,null," ",null,1,1900]
[null,null,null,null,null,null,null,null," ",null,1,1900]
[null,null,null,null,null,null,null,null," ",null,1,1900]
[null,null,null,null,null,null,null,null," ",null,1,1900]
[null,null,null,null,null,null,null,null," ",null,1,1900]
[null,null,null,null,null,null,null,null," ",null,1,1900]
[null,null,null,null,null,null,null,null," ",null,1,1900]
[null,null,null,null,null,null,null,null," ",null,1,1900]
[null,null,null,null,null,null,null,null," ",null,1,1900]
[null,null,null,null,null,null,null,null," ",null,1,1900]
[null,null,null,null,null,null,null,null," ",null,1,1900]
[null,null,null,null,null,null,null,null," ",null,1,1900]
[null,null,null,null,null,null,null,null," ",null,1,1900]
[null,null,null,null,null,null,null,null," ",null,1,1900]
[null,null,null,null,null,null,null,null," ",null,1,1900]
[null,null,null,null,null,null,null,null," ",null,1,1900]
[null,null,null,null,null,null,null,null," ",null,1,1900]
[null,null,null,null,null,null,null,null," ",null,1,1900]
[null,null,null,null,null,null,null,null," ",null,1,1900]
[null,null,null,null,null,null,null,null," ",null,1,1900]
[null,null,null,null,null,null,null,null," ",null,1,1900]
[null,null,null,null,null,null,null,null," ",null,1,1900]
[null,null,null,null,null,null,null,null," ",null,1,1900]
[null,null,null,null,null,null,null,null," ",null,1,1900]
[null,null,null,null,null,null,null,null," ",null,1,1900]
[null,null,null,null,null,null,null,null," ",null,1,1900]
[null,null,null,null,null,null,null,null," ",null,1,1900]
[null,null,null,null,null,null,null,null," ",null,1,1900]
[null,null,null,null,null,null,null,null," ",null,1,1900]
[null,null,null,null,null,null,null,null," ",null,1,1900]
[null,null,null,null,null,null,null,null," ",null,1,1900]
[null,null,null,null,null,null,null,null," ",null,1,1900]
[null,null,null,null,null,null,null,null," ",null,1,1900]
[null,null,null,null,null,null,null,null," ",null,1,1900]
[null,null,null,null,null,null,null,null," ",null,1,1900]
[null,null,null,null,null,null,null,null," ",null,1,1900]
[null,null,null,null,null,null,null,null," ",null,1,1900]
[null,null,null,null,null,null,null,null," ",null,1,1900]
[null,null,null,null,null,null,null,null," ",null,1,1900]
[null,null,null,null,null,null,null,null,{"$f":"+IF(H22392=H22391,\" \",H22392)","v":" "},null,{"$f":"+MONTH(A22392)","v":1},{"$f":"+YEAR(A22392)","v":1900}]
[null,null,null,null,null,null,null,null," ",null,1,1900]
[null,null,null,null,null,null,null,null," ",null,1,1900]
[null,null,null,null,null,null,null,null," ",null,1,1900]
[null,null,null,null,null,null,null,null," ",null,1,1900]
[null,null,null,null,null,null,null,null," ",null,1,1900]
[null,null,null,null,null,null,null,null," ",null,1,1900]
[null,null,null,null,null,null,null,null," ",null,1,1900]
[null,null,null,null,null,null,null,null," ",null,1,1900]
[null,null,null,null,null,null,null,null," ",null,1,1900]
[null,null,null,null,null,null,null,null," ",null,1,1900]
[null,null,null,null,null,null,null,null," ",null,1,1900]
[null,null,null,null,null,null,null,null," ",null,1,1900]
[null,null,null,null,null,null,null,null," ",null,1,1900]
[null,null,null,null,null,null,null,null," ",null,1,1900]
[null,null,null,null,null,null,null,null," ",null,1,1900]
[null,null,null,null,null,null,null,null," ",null,1,1900]
[null,null,null,null,null,null,null,null," ",null,1,1900]
[null,null,null,null,null,null,null,null," ",null,1,1900]
[null,null,null,null,null,null,null,null," ",null,1,1900]
[null,null,null,null,null,null,null,null," ",null,1,1900]
[null,null,null,null,null,null,null,null," ",null,1,1900]
[null,null,null,null,null,null,null,null," ",null,1,1900]
[null,null,null,null,null,null,null,null," ",null,1,1900]
[null,null,null,null,null,null,null,null," ",null,1,1900]
[null,null,null,null,null,null,null,null," ",null,1,1900]
[null,null,null,null,null,null,null,null," ",null,1,1900]
[null,null,null,null,null,null,null,null," ",null,1,1900]
[null,null,null,null,null,null,null,null," ",null,1,1900]
[null,null,null,null,null,null,null,null," ",null,1,1900]
[null,null,null,null,null,null,null,null," ",null,1,1900]
[null,null,null,null,null,null,null,null,{"$f":"+IF(H23352=H23351,\" \",H23352)","v":" "},null,{"$f":"+MONTH(A23352)","v":1},{"$f":"+YEAR(A23352)","v":1900}]
[null,null,null,null,null,null,null,null," ",null,1,1900]
[null,null,null,null,null,null,null,null," ",null,1,1900]
[null,null,null,null,null,null,null,null," ",null,1,1900]
[null,null,null,null,null,null,null,null," ",null,1,1900]
[null,null,null,null,null,null,null,null," ",null,1,1900]
[null,null,null,null,null,null,null,null," ",null,1,1900]
[null,null,null,null,null,null,null,null," ",null,1,1900]
[null,null,null,null,null,null,null,null," ",null,1,1900]
[null,null,null,null,null,null,null,null," ",null,1,1900]
[null,null,null,null,null,null,null,null," ",null,1,1900]
[null,null,null,null,null,null,null,null," ",null,1,1900]
[null,null,null,null,null,null,null,null," ",null,1,1900]
[null,null,null,null,null,null,null,null," ",null,1,1900]
[null,null,null,null,null,null,null,null," ",null,1,1900]
[null,null,null,null,null,null,null,null," ",null,1,1900]
[null,null,null,null,null,null,null,null," ",null,1,1900]
[null,null,null,null,null,null,null,null," ",null,1,1900]
[null,null,null,null,null,null,null,null," ",null,1,1900]
[null,null,null,null,null,null,null,null," ",null,1,1900]
[null,null,null,null,null,null,null,null," ",null,1,1900]
[null,null,null,null,null,null,null,null," ",null,1,1900]
[null,null,null,null,null,null,null,null," ",null,1,1900]
[null,null,null,null,null,null,null,null," ",null,1,1900]
[null,null,null,null,null,null,null,null," ",null,1,1900]
[null,null,null,null,null,null,null,null," ",null,1,1900]
[null,null,null,null,null,null,null,null," ",null,1,1900]
[null,null,null,null,null,null,null,null," ",null,1,1900]
[null,null,null,null,null,null,null,null," ",null,1,1900]
[null,null,null,null,null,null,null,null," ",null,1,1900]
[null,null,null,null,null,null,null,null," ",null,1,1900]
[null,null,null,null,null,null,null,null," ",null,1,1900]
[null,null,null,null,null,null,null,null," ",null,1,1900]
[null,null,null,null,null,null,null,null," ",null,1,1900]
[null,null,null,null,null,null,null,null," ",null,1,1900]
[null,null,null,null,null,null,null,null," ",null,1,1900]
[null,null,null,null,null,null,null,null," ",null,1,1900]
[null,null,null,null,null,null,null,null," ",null,1,1900]
[null,null,null,null,null,null,null,null," ",null,1,1900]
[null,null,null,null,null,null,null,null," ",null,1,1900]
[null,null,null,null,null,null,null,null," ",null,1,1900]
[null,null,null,null,null,null,null,null," ",null,1,1900]
[null,null,null,null,null,null,null,null," ",null,1,1900]
[null,null,null,null,null,null,null,null," ",null,1,1900]
[null,null,null,null,null,null,null,null," ",null,1,1900]
[null,null,null,null,null,null,null,null," ",null,1,1900]
[null,null,null,null,null,null,null,null," ",null,1,1900]
[null,null,null,null,null,null,null,null," ",null,1,1900]
[null,null,null,null,null,null,null,null," ",null,1,1900]
[null,null,null,null,null,null,null,null," ",null,1,1900]
[null,null,null,null,null,null,null,null," ",null,1,1900]
[null,null,null,null,null,null,null,null," ",null,1,1900]
[null,null,null,null,null,null,null,null," ",null,1,1900]
[null,null,null,null,null,null,null,null," ",null,1,1900]
[null,null,null,null,null,null,null,null," ",null,1,1900]
[null,null,null,null,null,null,null,null," ",null,1,1900]
[null,null,null,null,null,null,null,null," ",null,1,1900]
[null,null,null,null,null,null,null,null," ",null,1,1900]
[null,null,null,null,null,null,null,null," ",null,1,1900]
[null,null,null,null,null,null,null,null," ",null,1,1900]
[null,null,null,null,null,null,null,null," ",null,1,1900]
[null,null,null,null,null,null,null,null," ",null,1,1900]
[null,null,null,null,null,null,null,null," ",null,1,1900]
[null,null,null,null,null,null,null,null," ",null,1,1900]
[null,null,null,null,null,null,null,null," ",null,1,1900]
[null,null,null,null,null,null,null,null," ",null,1,1900]
[null,null,null,null,null,null,null,null," ",null,1,1900]
[null,null,null,null,null,null,null,null," ",null,1,1900]
[null,null,null,null,null,null,null,null," ",null,1,1900]
[null,null,null,null,null,null,null,null," ",null,1,1900]
[null,null,null,null,null,null,null,null," ",null,1,1900]
[null,null,null,null,null,null,null,null," ",null,1,1900]
[null,null,null,null,null,null,null,null," ",null,1,1900]
[null,null,null,null,null,null,null,null," ",null,1,1900]
[null,null,null,null,null,null,null,null," ",null,1,1900]
[null,null,null,null,null,null,null,null," ",null,1,1900]
[null,null,null,null,null,null,null,null," ",null,1,1900]
[null,null,null,null,null,null,null,null," ",null,1,1900]
[null,null,null,null,null,null,null,null," ",null,1,1900]
[null,null,null,null,null,null,null,null," ",null,1,1900]
[null,null,null,null,null,null,null,null," ",null,1,1900]
[null,null,null,null,null,null,null,null," ",null,1,1900]
[null,null,null,null,null,null,null,null," ",null,1,1900]
[null,null,null,null,null,null,null,null," ",null,1,1900]
[null,null,null,null,null,null,null,null," ",null,1,1900]
[null,null,null,null,null,null,null,null," ",null,1,1900]
[null,null,null,null,null,null,null,null," ",null,1,1900]
[null,null,null,null,null,null,null,null," ",null,1,1900]
[null,null,null,null,null,null,null,null," ",null,1,1900]
[null,null,null,null,null,null,null,null," ",null,1,1900]
[null,null,null,null,null,null,null,null," ",null,1,1900]
[null,null,null,null,null,null,null,null," ",null,1,1900]
[null,null,null,null,null,null,null,null," ",null,1,1900]
[null,null,null,null,null,null,null,null,{"$f":"+IF(H26296=H26295,\" \",H26296)","v":" "},null,{"$f":"+MONTH(A26296)","v":1},{"$f":"+YEAR(A26296)","v":1900}]
[null,null,null,null,null,null,null,null," ",null,1,1900]
[null,null,null,null,null,null,null,null," ",null,1,1900]
[null,null,null,null,null,null,null,null," ",null,1,1900]
[null,null,null,null,null,null,null,null," ",null,1,1900]
[null,null,null,null,null,null,null,null," ",null,1,1900]
[null,null,null,null,null,null,null,null," ",null,1,1900]
[null,null,null,null,null,null,null,null," ",null,1,1900]
[null,null,null,null,null,null,null,null," ",null,1,1900]
[null,null,null,null,null,null,null,null," ",null,1,1900]
[null,null,null,null,null,null,null,null," ",null,1,1900]
[null,null,null,null,null,null,null,null," ",null,1,1900]
[null,null,null,null,null,null,null,null," ",null,1,1900]
[null,null,null,null,null,null,null,null," ",null,1,1900]
[null,null,null,null,null,null,null,null," ",null,1,1900]
[null,null,null,null,null,null,null,null," ",null,1,1900]
[null,null,null,null,null,null,null,null," ",null,1,1900]
[null,null,null,null,null,null,null,null," ",null,1,1900]
[null,null,null,null,null,null,null,null," ",null,1,1900]
[null,null,null,null,null,null,null,null," ",null,1,1900]
[null,null,null,null,null,null,null,null," ",null,1,1900]
[null,null,null,null,null,null,null,null," ",null,1,1900]
[null,null,null,null,null,null,null,null," ",null,1,1900]
[null,null,null,null,null,null,null,null," ",null,1,1900]
[null,null,null,null,null,null,null,null," ",null,1,1900]
[null,null,null,null,null,null,null,null," ",null,1,1900]
[null,null,null,null,null,null,null,null," ",null,1,1900]
[null,null,null,null,null,null,null,null," ",null,1,1900]
[null,null,null,null,null,null,null,null," ",null,1,1900]
[null,null,null,null,null,null,null,null," ",null,1,1900]
[null,null,null,null,null,null,null,null," ",null,1,1900]
[null,null,null,null,null,null,null,null,{"$f":"+IF(H27256=H27255,\" \",H27256)","v":" "},null,{"$f":"+MONTH(A27256)","v":1},{"$f":"+YEAR(A27256)","v":1900}]
[null,null,null,null,null,null,null,null," ",null,1,1900]
[null,null,null,null,null,null,null,null," ",null,1,1900]
[null,null,null,null,null,null,null,null," ",null,1,1900]
[null,null,null,null,null,null,null,null," ",null,1,1900]
[null,null,null,null,null,null,null,null," ",null,1,1900]
[null,null,null,null,null,null,null,null," ",null,1,1900]
[null,null,null,null,null,null,null,null," ",null,1,1900]
[null,null,null,null,null,null,null,null," ",null,1,1900]
[null,null,null,null,null,null,null,null," ",null,1,1900]
[null,null,null,null,null,null,null,null," ",null,1,1900]
[null,null,null,null,null,null,null,null," ",null,1,1900]
[null,null,null,null,null,null,null,null," ",null,1,1900]
[null,null,null,null,null,null,null,null," ",null,1,1900]
[null,null,null,null,null,null,null,null," ",null,1,1900]
[null,null,null,null,null,null,null,null," ",null,1,1900]
[null,null,null,null,null,null,null,null,{"$f":"+IF(H27768=H27767,\" \",H27768)","v":" "},null,{"$f":"+MONTH(A27768)","v":1},{"$f":"+YEAR(A27768)","v":1900}]
[null,null,null,null,null,null,null,null," ",null,1,1900]
[null,null,null,null,null,null,null,null," ",null,1,1900]
[null,null,null,null,null,null,null,null," ",null,1,1900]
[null,null,null,null,null,null,null,null," ",null,1,1900]
[null,null,null,null,null,null,null,null," ",null,1,1900]
[null,null,null,null,null,null,null,null," ",null,1,1900]
[null,null,null,null,null,null,null,null," ",null,1,1900]
[null,null,null,null,null,null,null,null," ",null,1,1900]
[null,null,null,null,null,null,null,null," ",null,1,1900]
[null,null,null,null,null,null,null,null," ",null,1,1900]
[null,null,null,null,null,null,null,null," ",null,1,1900]
[null,null,null,null,null,null,null,null," ",null,1,1900]
[null,null,null,null,null,null,null,null," ",null,1,1900]
[null,null,null,null,null,null,null,null," ",null,1,1900]
[null,null,null,null,null,null,null,null," ",null,1,1900]
[null,null,null,null,null,null,null,null," ",null,1,1900]
[null,null,null,null,null,null,null,null," ",null,1,1900]
[null,null,null,null,null,null,null,null," ",null,1,1900]
[null,null,null,null,null,null,null,null," ",null,1,1900]
[null,null,null,null,null,null,null,null," ",null,1,1900]
[null,null,null,null,null,null,null,null," ",null,1,1900]
[null,null,null,null,null,null,null,null," ",null,1,1900]
[null,null,null,null,null,null,null,null," ",null,1,1900]
[null,null,null,null,null,null,null,null," ",null,1,1900]
[null,null,null,null,null,null,null,null," ",null,1,1900]
[null,null,null,null,null,null,null,null," ",null,1,1900]
[null,null,null,null,null,null,null,null," ",null,1,1900]
[null,null,null,null,null,null,null,null," ",null,1,1900]
[null,null,null,null,null,null,null,null," ",null,1,1900]
[null,null,null,null,null,null,null,null," ",null,1,1900]
[null,null,null,null,null,null,null,null," ",null,1,1900]
[null,null,null,null,null,null,null,null," ",null,1,1900]
[null,null,null,null,null,null,null,null," ",null,1,1900]
[null,null,null,null,null,null,null,null," ",null,1,1900]
[null,null,null,null,null,null,null,null," ",null,1,1900]
[null,null,null,null,null,null,null,null," ",null,1,1900]
[null,null,null,null,null,null,null,null," ",null,1,1900]
[null,null,null,null,null,null,null,null," ",null,1,1900]
[null,null,null,null,null,null,null,null," ",null,1,1900]
[null,null,null,null,null,null,null,null," ",null,1,1900]
[null,null,null,null,null,null,null,null," ",null,1,1900]
[null,null,null,null,null,null,null,null," ",null,1,1900]
[null,null,null,null,null,null,null,null," ",null,1,1900]
[null,null,null,null,null,null,null,null," ",null,1,1900]
[null,null,null,null,null,null,null,null," ",null,1,1900]
[null,null,null,null,null,null,null,null," ",null,1,1900]
[null,null,null,null,null,null,null,null," ",null,1,1900]
[null,null,null,null,null,null,null,null," ",null,1,1900]
[null,null,null,null,null,null,null,null," ",null,1,1900]
[null,null,null,null,null,null,null,null," ",null,1,1900]
[null,null,null,null,null,null,null,null," ",null,1,1900]
[null,null,null,null,null,null,null,null," ",null,1,1900]
[null,null,null,null,null,null,null,null," ",null,1,1900]
[null,null,null,null,null,null,null,null," ",null,1,1900]
[null,null,null,null,null,null,null,null," ",null,1,1900]
[null,null,null,null,null,null,null,null," ",null,1,1900]
[null,null,null,null,null,null,null,null," ",null,1,1900]
[null,null,null,null,null,null,null,null," ",null,1,1900]
[null,null,null,null,null,null,null,null," ",null,1,1900]
[null,null,null,null,null,null,null,null," ",null,1,1900]
[null,null,null,null,null,null,null,null," ",null,1,1900]
[null,null,null,null,null,null,null,null," ",null,1,1900]
[null,null,null,null,null,null,null,null," ",null,1,1900]
[null,null,null,null,null,null,null,null," ",null,1,1900]
[null,null,null,null,null,null,null,null," ",null,1,1900]
[null,null,null,null,null,null,null,null," ",null,1,1900]
[null,null,null,null,null,null,null,null," ",null,1,1900]
[null,null,null,null,null,null,null,null," ",null,1,1900]
[null,null,null,null,null,null,null,null," ",null,1,1900]
[null,null,null,null,null,null,null,null," ",null,1,1900]
[null,null,null,null,null,null,null,null," ",null,1,1900]
[null,null,null,null,null,null,null,null," ",null,1,1900]
[null,null,null,null,null,null,null,null," ",null,1,1900]
[null,null,null,null,null,null,null,null," ",null,1,1900]
[null,null,null,null,null,null,null,null," ",null,1,1900]
[null,null,null,null,null,null,null,null," ",null,1,1900]
[null,null,null,null,null,null,null,null," ",null,1,1900]
[null,null,null,null,null,null,null,null," ",null,1,1900]
[null,null,null,null,null,null,null,null," ",null,1,1900]
[null,null,null,null,null,null,null,null," ",null,1,1900]
[null,null,null,null,null,null,null,null," ",null,1,1900]
[null,null,null,null,null,null,null,null," ",null,1,1900]
[null,null,null,null,null,null,null,null," ",null,1,1900]
[null,null,null,null,null,null,null,null," ",null,1,1900]
[null,null,null,null,null,null,null,null," ",null,1,1900]
[null,null,null,null,null,null,null,null," ",null,1,1900]
[null,null,null,null,null,null,null,null," ",null,1,1900]
[null,null,null,null,null,null,null,null," ",null,1,1900]
[null,null,null,null,null,null,null,null," ",null,1,1900]
[null,null,null,null,null,null,null,null," ",null,1,1900]
[null,null,null,null,null,null,null,null," ",null,1,1900]
[null,null,null,null,null,null,null,null," ",null,1,1900]
[null,null,null,null,null,null,null,null," ",null,1,1900]
[null,null,null,null,null,null,null,null," ",null,1,1900]
[null,null,null,null,null,null,null,null," ",null,1,1900]
[null,null,null,null,null,null,null,null," ",null,1,1900]
[null,null,null,null,null,null,null,null," ",null,1,1900]
[null,null,null,null,null,null,null,null," ",null,1,1900]
[null,null,null,null,null,null,null,null," ",null,1,1900]
[null,null,null,null,null,null,null,null," ",null,1,1900]
[null,null,null,null,null,null,null,null," ",null,1,1900]
[null,null,null,null,null,null,null,null," ",null,1,1900]
[null,null,null,null,null,null,null,null," ",null,1,1900]
[null,null,null,null,null,null,null,null," ",null,1,1900]
[null,null,null,null,null,null,null,null," ",null,1,1900]
[null,null,null,null,null,null,null,null," ",null,1,1900]
[null,null,null,null,null,null,null,null," ",null,1,1900]
[null,null,null,null,null,null,null,null," ",null,1,1900]
[null,null,null,null,null,null,null,null," ",null,1,1900]
[null,null,null,null,null,null,null,null," ",null,1,1900]
[null,null,null,null,null,null,null,null," ",null,1,1900]
[null,null,null,null,null,null,null,null," ",null,1,1900]
[null,null,null,null,null,null,null,null," ",null,1,1900]
[null,null,null,null,null,null,null,null," ",null,1,1900]
[null,null,null,null,null,null,null,null," ",null,1,1900]
[null,null,null,null,null,null,null,null," ",null,1,1900]
[null,null,null,null,null,null,null,null," ",null,1,1900]
[null,null,null,null,null,null,null,null," ",null,1,1900]
[null,null,null,null,null,null,null,null," ",null,1,1900]
[null,null,null,null,null,null,null,null," ",null,1,1900]
[null,null,null,null,null,null,null,null," ",null,1,1900]
[null,null,null,null,null,null,null,null," ",null,1,1900]
[null,null,null,null,null,null,null,null," ",null,1,1900]
[null,null,null,null,null,null,null,null," ",null,1,1900]
[null,null,null,null,null,null,null,null," ",null,1,1900]
[null,null,null,null,null,null,null,null," ",null,1,1900]
[null,null,null,null,null,null,null,null," ",null,1,1900]
[null,null,null,null,null,null,null,null," ",null,1,1900]
[null,null,null,null,null,null,null,null," ",null,1,1900]
[null,null,null,null,null,null,null,null," ",null,1,1900]
[null,null,null,null,null,null,null,null," ",null,1,1900]
[null,null,null,null,null,null,null,null," ",null,1,1900]
[null,null,null,null,null,null,null,null," ",null,1,1900]
[null,null,null,null,null,null,null,null," ",null,1,1900]
[null,null,null,null,null,null,null,null," ",null,1,1900]
[null,null,null,null,null,null,null,null," ",null,1,1900]
[null,null,null,null,null,null,null,null," ",null,1,1900]
[null,null,null,null,null,null,null,null," ",null,1,1900]
[null,null,null,null,null,null,null,null," ",null,1,1900]
[null,null,null,null,null,null,null,null," ",null,1,1900]
[null,null,null,null,null,null,null,null," ",null,1,1900]
[null,null,null,null,null,null,null,null," ",null,1,1900]
[null,null,null,null,null,null,null,null," ",null,1,1900]
[null,null,null,null,null,null,null,null," ",null,1,1900]
[null,null,null,null,null,null,null,null," ",null,1,1900]
[null,null,null,null,null,null,null,null," ",null,1,1900]
[null,null,null,null,null,null,null,null," ",null,1,1900]
[null,null,null,null,null,null,null,null," ",null,1,1900]
[null,null,null,null,null,null,null,null," ",null,1,1900]
[null,null,null,null,null,null,null,null," ",null,1,1900]
[null,null,null,null,null,null,null,null," ",null,1,1900]
[null,null,null,null,null,null,null,null," ",null,1,1900]
[null,null,null,null,null,null,null,null," ",null,1,1900]
[null,null,null,null,null,null,null,null," ",null,1,1900]
[null,null,null,null,null,null,null,null," ",null,1,1900]
[null,null,null,null,null,null,null,null," ",null,1,1900]
[null,null,null,null,null,null,null,null," ",null,1,1900]
[null,null,null,null,null,null,null,null," ",null,1,1900]
[null,null,null,null,null,null,null,null," ",null,1,1900]
[null,null,null,null,null,null,null,null," ",null,1,1900]
[null,null,null,null,null,null,null,null," ",null,1,1900]
[null,null,null,null,null,null,null,null," ",null,1,1900]
[null,null,null,null,null,null,null,null," ",null,1,1900]
[null,null,null,null,null,null,null,null," ",null,1,1900]
[null,null,null,null,null,null,null,null," ",null,1,1900]
[null,null,null,null,null,null,null,null," ",null,1,1900]
[null,null,null,null,null,null,null,null," ",null,1,1900]
[null,null,null,null,null,null,null,null," ",null,1,1900]
[null,null,null,null,null,null,null,null," ",null,1,1900]
[null,null,null,null,null,null,null,null," ",null,1,1900]
[null,null,null,null,null,null,null,null," ",null,1,1900]
[null,null,null,null,null,null,null,null," ",null,1,1900]
[null,null,null,null,null,null,null,null," ",null,1,1900]
[null,null,null,null,null,null,null,null," ",null,1,1900]
[null,null,null,null,null,null,null,null," ",null,1,1900]
[null,null,null,null,null,null,null,null," ",null,1,1900]
[null,null,null,null,null,null,null,null," ",null,1,1900]
[null,null,null,null,null,null,null,null," ",null,1,1900]
[null,null,null,null,null,null,null,null," ",null,1,1900]
[null,null,null,null,null,null,null,null," ",null,1,1900]
[null,null,null,null,null,null,null,null," ",null,1,1900]
[null,null,null,null,null,null,null,null," ",null,1,1900]
[null,null,null,null,null,null,null,null," ",null,1,1900]
[null,null,null,null,null,null,null,null," ",null,1,1900]
[null,null,null,null,null,null,null,null," ",null,1,1900]
[null,null,null,null,null,null,null,null," ",null,1,1900]
[null,null,null,null,null,null,null,null," ",null,1,1900]
[null,null,null,null,null,null,null,null," ",null,1,1900]
[null,null,null,null,null,null,null,null," ",null,1,1900]
[null,null,null,null,null,null,null,null," ",null,1,1900]
[null,null,null,null,null,null,null,null," ",null,1,1900]
[null,null,null,null,null,null,null,null," ",null,1,1900]
[null,null,null,null,null,null,null,null," ",null,1,1900]
[null,null,null,null,null,null,null,null," ",null,1,1900]
[null,null,null,null,null,null,null,null," ",null,1,1900]
[null,null,null,null,null,null,null,null," ",null,1,1900]
[null,null,null,null,null,null,null,null," ",null,1,1900]
[null,null,null,null,null,null,null,null," ",null,1,1900]
[null,null,null,null,null,null,null,null," ",null,1,1900]
[null,null,null,null,null,null,null,null," ",null,1,1900]
[null,null,null,null,null,null,null,null," ",null,1,1900]
[null,null,null,null,null,null,null,null," ",null,1,1900]
[null,null,null,null,null,null,null,null," ",null,1,1900]
[null,null,null,null,null,null,null,null," ",null,1,1900]
[null,null,null,null,null,null,null,null," ",null,1,1900]
[null,null,null,null,null,null,null,null," ",null,1,1900]
[null,null,null,null,null,null,null,null," ",null,1,1900]
[null,null,null,null,null,null,null,null," ",null,1,1900]
[null,null,null,null,null,null,null,null," ",null,1,1900]
[null,null,null,null,null,null,null,null," ",null,1,1900]
[null,null,null,null,null,null,null,null," ",null,1,1900]
[null,null,null,null,null,null,null,null," ",null,1,1900]
[null,null,null,null,null,null,null,null," ",null,1,1900]
[null,null,null,null,null,null,null,null," ",null,1,1900]
[null,null,null,null,null,null,null,null," ",null,1,1900]
[null,null,null,null,null,null,null,null," ",null,1,1900]
[null,null,null,null,null,null,null,null," ",null,1,1900]
[null,null,null,null,null,null,null,null," ",null,1,1900]
[null,null,null,null,null,null,null,null," ",null,1,1900]
[null,null,null,null,null,null,null,null," ",null,1,1900]
[null,null,null,null,null,null,null,null," ",null,1,1900]
[null,null,null,null,null,null,null,null," ",null,1,1900]
[null,null,null,null,null,null,null,null," ",null,1,1900]
[null,null,null,null,null,null,null,null," ",null,1,1900]
[null,null,null,null,null,null,null,null," ",null,1,1900]
[null,null,null,null,null,null,null,null," ",null,1,1900]
[null,null,null,null,null,null,null,null," ",null,1,1900]
[null,null,null,null,null,null,null,null," ",null,1,1900]
[null,null,null,null,null,null,null,null," ",null,1,1900]
[null,null,null,null,null,null,null,null," ",null,1,1900]
[null,null,null,null,null,null,null,null," ",null,1,1900]
[null,null,null,null,null,null,null,null," ",null,1,1900]
[null,null,null,null,null,null,null,null," ",null,1,1900]
[null,null,null,null,null,null,null,null," ",null,1,1900]
[null,null,null,null,null,null,null,null," ",null,1,1900]
[null,null,null,null,null,null,null,null," ",null,1,1900]
[null,null,null,null,null,null,null,null," ",null,1,1900]
[null,null,null,null,null,null,null,null," ",null,1,1900]
[null,null,null,null,null,null,null,null," ",null,1,1900]
[null,null,null,null,null,null,null,null," ",null,1,1900]
[null,null,null,null,null,null,null,null," ",null,1,1900]
[null,null,null,null,null,null,null,null," ",null,1,1900]
[null,null,null,null,null,null,null,null," ",null,1,1900]
[null,null,null,null,null,null,null,null," ",null,1,1900]
[null,null,null,null,null,null,null,null," ",null,1,1900]
[null,null,null,null,null,null,null,null," ",null,1,1900]
[null,null,null,null,null,null,null,null," ",null,1,1900]
[null,null,null,null,null,null,null,null," ",null,1,1900]
[null,null,null,null,null,null,null,null," ",null,1,1900]
[null,null,null,null,null,null,null,null," ",null,1,1900]
[null,null,null,null,null,null,null,null," ",null,1,1900]
[null,null,null,null,null,null,null,null," ",null,1,1900]
[null,null,null,null,null,null,null,null," ",null,1,1900]
[null,null,null,null,null,null,null,null," ",null,1,1900]
[null,null,null,null,null,null,null,null," ",null,1,1900]
[null,null,null,null,null,null,null,null," ",null,1,1900]
[null,null,null,null,null,null,null,null," ",null,1,1900]
[null,null,null,null,null,null,null,null," ",null,1,1900]
[null,null,null,null,null,null,null,null," ",null,1,1900]
[null,null,null,null,null,null,null,null," ",null,1,1900]
[null,null,null,null,null,null,null,null," ",null,1,1900]
[null,null,null,null,null,null,null,null," ",null,1,1900]
[null,null,null,null,null,null,null,null," ",null,1,1900]
[null,null,null,null,null,null,null,null," ",null,1,1900]
[null,null,null,null,null,null,null,null," ",null,1,1900]
[null,null,null,null,null,null,null,null," ",null,1,1900]
[null,null,null,null,null,null,null,null," ",null,1,1900]
[null,null,null,null,null,null,null,null," ",null,1,1900]
[null,null,null,null,null,null,null,null," ",null,1,1900]
[null,null,null,null,null,null,null,null," ",null,1,1900]
[null,null,null,null,null,null,null,null," ",null,1,1900]
[null,null,null,null,null,null,null,null," ",null,1,1900]
[null,null,null,null,null,null,null,null," ",null,1,1900]
[null,null,null,null,null,null,null,null," ",null,1,1900]
[null,null,null,null,null,null,null,null," ",null,1,1900]
[null,null,null,null,null,null,null,null," ",null,1,1900]
[null,null,null,null,null,null,null,null," ",null,1,1900]
[null,null,null,null,null,null,null,null," ",null,1,1900]
[null,null,null,null,null,null,null,null," ",null,1,1900]
[null,null,null,null,null,null,null,null," ",null,1,1900]
[null,null,null,null,null,null,null,null," ",null,1,1900]
[null,null,null,null,null,null,null,null," ",null,1,1900]
[null,null,null,null,null,null,null,null," ",null,1,1900]
[null,null,null,null,null,null,null,null," ",null,1,1900]
[null,null,null,null,null,null,null,null," ",null,1,1900]
[null,null,null,null,null,null,null,null," ",null,1,1900]
[null,null,null,null,null,null,null,null," ",null,1,1900]
[null,null,null,null,null,null,null,null," ",null,1,1900]
[null,null,null,null,null,null,null,null," ",null,1,1900]
[null,null,null,null,null,null,null,null," ",null,1,1900]
[null,null,null,null,null,null,null,null," ",null,1,1900]
[null,null,null,null,null,null,null,null," ",null,1,1900]
[null,null,null,null,null,null,null,null," ",null,1,1900]
[null,null,null,null,null,null,null,null," ",null,1,1900]
[null,null,null,null,null,null,null,null," ",null,1,1900]
[null,null,null,null,null,null,null,null," ",null,1,1900]
[null,null,null,null,null,null,null,null," ",null,1,1900]
[null,null,null,null,null,null,null,null," ",null,1,1900]
[null,null,null,null,null,null,null,null," ",null,1,1900]
[null,null,null,null,null,null,null,null," ",null,1,1900]
[null,null,null,null,null,null,null,null," ",null,1,1900]
[null,null,null,null,null,null,null,null," ",null,1,1900]
[null,null,null,null,null,null,null,null," ",null,1,1900]
[null,null,null,null,null,null,null,null," ",null,1,1900]
[null,null,null,null,null,null,null,null," ",null,1,1900]
[null,null,null,null,null,null,null,null," ",null,1,1900]
[null,null,null,null,null,null,null,null," ",null,1,1900]
[null,null,null,null,null,null,null,null," ",null,1,1900]
[null,null,null,null,null,null,null,null," ",null,1,1900]
[null,null,null,null,null,null,null,null," ",null,1,1900]
[null,null,null,null,null,null,null,null," ",null,1,1900]
[null,null,null,null,null,null,null,null," ",null,1,1900]
[null,null,null,null,null,null,null,null," ",null,1,1900]
[null,null,null,null,null,null,null,null," ",null,1,1900]
[null,null,null,null,null,null,null,null," ",null,1,1900]
[null,null,null,null,null,null,null,null," ",null,1,1900]
[null,null,null,null,null,null,null,null," ",null,1,1900]
[null,null,null,null,null,null,null,null," ",null,1,1900]
[null,null,null,null,null,null,null,null," ",null,1,1900]
[null,null,null,null,null,null,null,null," ",null,1,1900]
[null,null,null,null,null,null,null,null," ",null,1,1900]
[null,null,null,null,null,null,null,null," ",null,1,1900]
[null,null,null,null,null,null,null,null,{"$f":"+IF(H37944=H37943,\" \",H37944)","v":" "},null,{"$f":"+MONTH(A37944)","v":1},{"$f":"+YEAR(A37944)","v":1900}]
[null,null,null,null,null,null,null,null," ",null,1,1900]
[null,null,null,null,null,null,null,null," ",null,1,1900]
[null,null,null,null,null,null,null,null," ",null,1,1900]
[null,null,null,null,null,null,null,null," ",null,1,1900]
[null,null,null,null,null,null,null,null," ",null,1,1900]
[null,null,null,null,null,null,null,null," ",null,1,1900]
[null,null,null,null,null,null,null,null," ",null,1,1900]
[null,null,null,null,null,null,null,null," ",null,1,1900]
[null,null,null,null,null,null,null,null," ",null,1,1900]
[null,null,null,null,null,null,null,null," ",null,1,1900]
[null,null,null,null,null,null,null,null," ",null,1,1900]
[null,null,null,null,null,null,null,null," ",null,1,1900]
[null,null,null,null,null,null,null,null," ",null,1,1900]
[null,null,null,null,null,null,null,null," ",null,1,1900]
[null,null,null,null,null,null,null,null," ",null,1,1900]
[null,null,null,null,null,null,null,null," ",null,1,1900]
[null,null,null,null,null,null,null,null," ",null,1,1900]
[null,null,null,null,null,null,null,null," ",null,1,1900]
[null,null,null,null,null,null,null,null," ",null,1,1900]
[null,null,null,null,null,null,null,null," ",null,1,1900]
[null,null,null,null,null,null,null,null," ",null,1,1900]
[null,null,null,null,null,null,null,null," ",null,1,1900]
[null,null,null,null,null,null,null,null," ",null,1,1900]
[null,null,null,null,null,null,null,null," ",null,1,1900]
[null,null,null,null,null,null,null,null," ",null,1,1900]
[null,null,null,null,null,null,null,null," ",null,1,1900]
[null,null,null,null,null,null,null,null," ",null,1,1900]
[null,null,null,null,null,null,null,null," ",null,1,1900]
[null,null,null,null,null,null,null,null," ",null,1,1900]
[null,null,null,null,null,null,null,null," ",null,1,1900]
[null,null,null,null,null,null,null,null," ",null,1,1900]
[null,null,null,null,null,null,null,null," ",null,1,1900]
[null,null,null,null,null,null,null,null," ",null,1,1900]
[null,null,null,null,null,null,null,null," ",null,1,1900]
[null,null,null,null,null,null,null,null," ",null,1,1900]
[null,null,null,null,null,null,null,null," ",null,1,1900]
[null,null,null,null,null,null,null,null," ",null,1,1900]
[null,null,null,null,null,null,null,null," ",null,1,1900]
[null,null,null,null,null,null,null,null," ",null,1,1900]
[null,null,null,null,null,null,null,null," ",null,1,1900]
[null,null,null,null,null,null,null,null," ",null,1,1900]
[null,null,null,null,null,null,null,null," ",null,1,1900]
[null,null,null,null,null,null,null,null," ",null,1,1900]
[null,null,null,null,null,null,null,null," ",null,1,1900]
[null,null,null,null,null,null,null,null," ",null,1,1900]
[null,null,null,null,null,null,null,null," ",null,1,1900]
[null,null,null,null,null,null,null,null," ",null,1,1900]
[null,null,null,null,null,null,null,null," ",null,1,1900]
[null,null,null,null,null,null,null,null," ",null,1,1900]
[null,null,null,null,null,null,null,null," ",null,1,1900]
[null,null,null,null,null,null,null,null," ",null,1,1900]
[null,null,null,null,null,null,null,null," ",null,1,1900]
[null,null,null,null,null,null,null,null," ",null,1,1900]
[null,null,null,null,null,null,null,null," ",null,1,1900]
[null,null,null,null,null,null,null,null," ",null,1,1900]
[null,null,null,null,null,null,null,null," ",null,1,1900]
[null,null,null,null,null,null,null,null," ",null,1,1900]
[null,null,null,null,null,null,null,null," ",null,1,1900]
[null,null,null,null,null,null,null,null,{"$f":"+IF(H39800=H39799,\" \",H39800)","v":" "},null,{"$f":"+MONTH(A39800)","v":1},{"$f":"+YEAR(A39800)","v":1900}]
[null,null,null,null,null,null,null,null," ",null,1,1900]
[null,null,null,null,null,null,null,null," ",null,1,1900]
[null,null,null,null,null,null,null,null," ",null,1,1900]
[null,null,null,null,null,null,null,null," ",null,1,1900]
[null,null,null,null,null,null,null,null," ",null,1,1900]
[null,null,null,null,null,null,null,null," ",null,1,1900]
[null,null,null,null,null,null,null,null," ",null,1,1900]
[null,null,null,null,null,null,null,null," ",null,1,1900]
[null,null,null,null,null,null,null,null," ",null,1,1900]
[null,null,null,null,null,null,null,null," ",null,1,1900]
[null,null,null,null,null,null,null,null," ",null,1,1900]
[null,null,null,null,null,null,null,null," ",null,1,1900]
[null,null,null,null,null,null,null,null," ",null,1,1900]
[null,null,null,null,null,null,null,null," ",null,1,1900]
[null,null,null,null,null,null,null,null," ",null,1,1900]
[null,null,null,null,null,null,null,null," ",null,1,1900]
[null,null,null,null,null,null,null,null," ",null,1,1900]
[null,null,null,null,null,null,null,null," ",null,1,1900]
[null,null,null,null,null,null,null,null," ",null,1,1900]
[null,null,null,null,null,null,null,null," ",null,1,1900]
[null,null,null,null,null,null,null,null," ",null,1,1900]
[null,null,null,null,null,null,null,null," ",null,1,1900]
[null,null,null,null,null,null,null,null," ",null,1,1900]
[null,null,null,null,null,null,null,null," ",null,1,1900]
[null,null,null,null,null,null,null,null," ",null,1,1900]
[null,null,null,null,null,null,null,null," ",null,1,1900]
[null,null,null,null,null,null,null,null," ",null,1,1900]
[null,null,null,null,null,null,null,null," ",null,1,1900]
[null,null,null,null,null,null,null,null," ",null,1,1900]
[null,null,null,null,null,null,null,null," ",null,1,1900]
[null,null,null,null,null,null,null,null," ",null,1,1900]
[null,null,null,null,null,null,null,null," ",null,1,1900]
[null,null,null,null,null,null,null,null," ",null,1,1900]
[null,null,null,null,null,null,null,null,{"$f":"+IF(H40888=H40887,\" \",H40888)","v":" "},null,{"$f":"+MONTH(A40888)","v":1},{"$f":"+YEAR(A40888)","v":1900}]
[null,null,null,null,null,null,null,null," ",null,1,1900]
[null,null,null,null,null,null,null,null," ",null,1,1900]
[null,null,null,null,null,null,null,null," ",null,1,1900]
[null,null,null,null,null,null,null,null," ",null,1,1900]
[null,null,null,null,null,null,null,null," ",null,1,1900]
[null,null,null,null,null,null,null,null," ",null,1,1900]
[null,null,null,null,null,null,null,null," ",null,1,1900]
[null,null,null,null,null,null,null,null," ",null,1,1900]
[null,null,null,null,null,null,null,null," ",null,1,1900]
[null,null,null,null,null,null,null,null," ",null,1,1900]
[null,null,null,null,null,null,null,null," ",null,1,1900]
[null,null,null,null,null,null,null,null," ",null,1,1900]
[null,null,null,null,null,null,null,null," ",null,1,1900]
[null,null,null,null,null,null,null,null," ",null,1,1900]
[null,null,null,null,null,null,null,null," ",null,1,1900]
[null,null,null,null,null,null,null,null," ",null,1,1900]
[null,null,null,null,null,null,null,null," ",null,1,1900]
[null,null,null,null,null,null,null,null," ",null,1,1900]
[null,null,null,null,null,null,null,null," ",null,1,1900]
[null,null,null,null,null,null,null,null," ",null,1,1900]
[null,null,null,null,null,null,null,null," ",null,1,1900]
[null,null,null,null,null,null,null,null," ",null,1,1900]
[null,null,null,null,null,null,null,null," ",null,1,1900]
[null,null,null,null,null,null,null,null," ",null,1,1900]
[null,null,null,null,null,null,null,null," ",null,1,1900]
[null,null,null,null,null,null,null,null," ",null,1,1900]
[null,null,null,null,null,null,null,null," ",null,1,1900]
[null,null,null,null,null,null,null,null," ",null,1,1900]
[null,null,null,null,null,null,null,null," ",null,1,1900]
[null,null,null,null,null,null,null,null," ",null,1,1900]
[null,null,null,null,null,null,null,null,{"$f":"+IF(H41848=H41847,\" \",H41848)","v":" "},null,{"$f":"+MONTH(A41848)","v":1},{"$f":"+YEAR(A41848)","v":1900}]
[null,null,null,null,null,null,null,null," ",null,1,1900]
[null,null,null,null,null,null,null,null," ",null,1,1900]
[null,null,null,null,null,null,null,null," ",null,1,1900]
[null,null,null,null,null,null,null,null," ",null,1,1900]
[null,null,null,null,null,null,null,null," ",null,1,1900]
[null,null,null,null,null,null,null,null," ",null,1,1900]
[null,null,null,null,null,null,null,null," ",null,1,1900]
[null,null,null,null,null,null,null,null," ",null,1,1900]
[null,null,null,null,null,null,null,null," ",null,1,1900]
[null,null,null,null,null,null,null,null," ",null,1,1900]
[null,null,null,null,null,null,null,null," ",null,1,1900]
[null,null,null,null,null,null,null,null," ",null,1,1900]
[null,null,null,null,null,null,null,null," ",null,1,1900]
[null,null,null,null,null,null,null,null," ",null,1,1900]
[null,null,null,null,null,null,null,null," ",null,1,1900]
[null,null,null,null,null,null,null,null," ",null,1,1900]
[null,null,null,null,null,null,null,null," ",null,1,1900]
[null,null,null,null,null,null,null,null," ",null,1,1900]
[null,null,null,null,null,null,null,null," ",null,1,1900]
[null,null,null,null,null,null,null,null," ",null,1,1900]
[null,null,null,null,null,null,null,null," ",null,1,1900]
[null,null,null,null,null,null,null,null," ",null,1,1900]
[null,null,null,null,null,null,null,null," ",null,1,1900]
[null,null,null,null,null,null,null,null," ",null,1,1900]
[null,null,null,null,null,null,null,null," ",null,1,1900]
[null,null,null,null,null,null,null,null," ",null,1,1900]
[null,null,null,null,null,null,null,null," ",null,1,1900]
[null,null,null,null,null,null,null,null," ",null,1,1900]
[null,null,null,null,null,null,null,null," ",null,1,1900]
[null,null,null,null,null,null,null,null," ",null,1,1900]
[null,null,null,null,null,null,null,null," ",null,1,1900]
[null,null,null,null,null,null,null,null," ",null,1,1900]
[null,null,null,null,null,null,null,null," ",null,1,1900]
[null,null,null,null,null,null,null,null," ",null,1,1900]
[null,null,null,null,null,null,null,null," ",null,1,1900]
[null,null,null,null,null,null,null,null," ",null,1,1900]
[null,null,null,null,null,null,null,null," ",null,1,1900]
[null,null,null,null,null,null,null,null," ",null,1,1900]
[null,null,null,null,null,null,null,null," ",null,1,1900]
[null,null,null,null,null,null,null,null," ",null,1,1900]
[null,null,null,null,null,null,null,null," ",null,1,1900]
[null,null,null,null,null,null,null,null," ",null,1,1900]
[null,null,null,null,null,null,null,null," ",null,1,1900]
[null,null,null,null,null,null,null,null," ",null,1,1900]
[null,null,null,null,null,null,null,null," ",null,1,1900]
[null,null,null,null,null,null,null,null," ",null,1,1900]
[null,null,null,null,null,null,null,null," ",null,1,1900]
[null,null,null,null,null,null,null,null," ",null,1,1900]
[null,null,null,null,null,null,null,null," ",null,1,1900]
[null,null,null,null,null,null,null,null," ",null,1,1900]
[null,null,null,null,null,null,null,null," ",null,1,1900]
[null,null,null,null,null,null,null,null," ",null,1,1900]
[null,null,null,null,null,null,null,null," ",null,1,1900]
[null,null,null,null,null,null,null,null," ",null,1,1900]
[null,null,null,null,null,null,null,null," ",null,1,1900]
[null,null,null,null,null,null,null,null," ",null,1,1900]
[null,null,null,null,null,null,null,null," ",null,1,1900]
[null,null,null,null,null,null,null,null," ",null,1,1900]
[null,null,null,null,null,null,null,null," ",null,1,1900]
[null,null,null,null,null,null,null,null," ",null,1,1900]
[null,null,null,null,null,null,null,null," ",null,1,1900]
[null,null,null,null,null,null,null,null," ",null,1,1900]
[null,null,null,null,null,null,null,null,{"$f":"+IF(H43832=H43831,\" \",H43832)","v":" "},null,{"$f":"+MONTH(A43832)","v":1},{"$f":"+YEAR(A43832)","v":1900}]
[null,null,null,null,null,null,null,null," ",null,1,1900]
[null,null,null,null,null,null,null,null," ",null,1,1900]
[null,null,null,null,null,null,null,null," ",null,1,1900]
[null,null,null,null,null,null,null,null," ",null,1,1900]
[null,null,null,null,null,null,null,null," ",null,1,1900]
[null,null,null,null,null,null,null,null," ",null,1,1900]
[null,null,null,null,null,null,null,null," ",null,1,1900]
[null,null,null,null,null,null,null,null," ",null,1,1900]
[null,null,null,null,null,null,null,null," ",null,1,1900]
[null,null,null,null,null,null,null,null," ",null,1,1900]
[null,null,null,null,null,null,null,null," ",null,1,1900]
[null,null,null,null,null,null,null,null," ",null,1,1900]
[null,null,null,null,null,null,null,null," ",null,1,1900]
[null,null,null,null,null,null,null,null," ",null,1,1900]
[null,null,null,null,null,null,null,null," ",null,1,1900]
[null,null,null,null,null,null,null,null," ",null,1,1900]
[null,null,null,null,null,null,null,null," ",null,1,1900]
[null,null,null,null,null,null,null,null," ",null,1,1900]
[null,null,null,null,null,null,null,null," ",null,1,1900]
[null,null,null,null,null,null,null,null," ",null,1,1900]
[null,null,null,null,null,null,null,null," ",null,1,1900]
[null,null,null,null,null,null,null,null," ",null,1,1900]
[null,null,null,null,null,null,null,null," ",null,1,1900]
[null,null,null,null,null,null,null,null," ",null,1,1900]
[null,null,null,null,null,null,null,null," ",null,1,1900]
[null,null,null,null,null,null,null,null," ",null,1,1900]
[null,null,null,null,null,null,null,null," ",null,1,1900]
[null,null,null,null,null,null,null,null," ",null,1,1900]
[null,null,null,null,null,null,null,null," ",null,1,1900]
[null,null,null,null,null,null,null,null,{"$f":"+IF(H44792=H44791,\" \",H44792)","v":" "},null,{"$f":"+MONTH(A44792)","v":1},{"$f":"+YEAR(A44792)","v":1900}]
[null,null,null,null,null,null,null,null," ",null,1,1900]
[null,null,null,null,null,null,null,null," ",null,1,1900]
[null,null,null,null,null,null,null,null," ",null,1,1900]
[null,null,null,null,null,null,null,null," ",null,1,1900]
[null,null,null,null,null,null,null,null," ",null,1,1900]
[null,null,null,null,null,null,null,null," ",null,1,1900]
[null,null,null,null,null,null,null,null," ",null,1,1900]
[null,null,null,null,null,null,null,null," ",null,1,1900]
[null,null,null,null,null,null,null,null," ",null,1,1900]
[null,null,null,null,null,null,null,null," ",null,1,1900]
[null,null,null,null,null,null,null,null," ",null,1,1900]
[null,null,null,null,null,null,null,null," ",null,1,1900]
[null,null,null,null,null,null,null,null," ",null,1,1900]
[null,null,null,null,null,null,null,null," ",null,1,1900]
[null,null,null,null,null,null,null,null," ",null,1,1900]
[null,null,null,null,null,null,null,null," ",null,1,1900]
[null,null,null,null,null,null,null,null," ",null,1,1900]
[null,null,null,null,null,null,null,null," ",null,1,1900]
[null,null,null,null,null,null,null,null," ",null,1,1900]
[null,null,null,null,null,null,null,null," ",null,1,1900]
[null,null,null,null,null,null,null,null," ",null,1,1900]
[null,null,null,null,null,null,null,null," ",null,1,1900]
[null,null,null,null,null,null,null,null," ",null,1,1900]
[null,null,null,null,null,null,null,null," ",null,1,1900]
[null,null,null,null,null,null,null,null," ",null,1,1900]
[null,null,null,null,null,null,null,null," ",null,1,1900]
[null,null,null,null,null,null,null,null," ",null,1,1900]
[null,null,null,null,null,null,null,null," ",null,1,1900]
[null,null,null,null,null,null,null,null," ",null,1,1900]
[null,null,null,null,null,null,null,null," ",null,1,1900]
[null,null,null,null,null,null,null,null,{"$f":"+IF(H45752=H45751,\" \",H45752)","v":" "},null,{"$f":"+MONTH(A45752)","v":1},{"$f":"+YEAR(A45752)","v":1900}]
[null,null,null,null,null,null,null,null," ",null,1,1900]
[null,null,null,null,null,null,null,null," ",null,1,1900]
[null,null,null,null,null,null,null,null," ",null,1,1900]
[null,null,null,null,null,null,null,null," ",null,1,1900]
[null,null,null,null,null,null,null,null," ",null,1,1900]
[null,null,null,null,null,null,null,null," ",null,1,1900]
[null,null,null,null,null,null,null,null," ",null,1,1900]
[null,null,null,null,null,null,null,null," ",null,1,1900]
[null,null,null,null,null,null,null,null," ",null,1,1900]
[null,null,null,null,null,null,null,null," ",null,1,1900]
[null,null,null,null,null,null,null,null," ",null,1,1900]
[null,null,null,null,null,null,null,null," ",null,1,1900]
[null,null,null,null,null,null,null,null," ",null,1,1900]
[null,null,null,null,null,null,null,null," ",null,1,1900]
[null,null,null,null,null,null,null,null," ",null,1,1900]
[null,null,null,null,null,null,null,null," ",null,1,1900]
[null,null,null,null,null,null,null,null," ",null,1,1900]
[null,null,null,null,null,null,null,null," ",null,1,1900]
[null,null,null,null,null,null,null,null," ",null,1,1900]
[null,null,null,null,null,null,null,null," ",null,1,1900]
[null,null,null,null,null,null,null,null," ",null,1,1900]
[null,null,null,null,null,null,null,null," ",null,1,1900]
[null,null,null,null,null,null,null,null," ",null,1,1900]
[null,null,null,null,null,null,null,null," ",null,1,1900]
[null,null,null,null,null,null,null,null," ",null,1,1900]
[null,null,null,null,null,null,null,null," ",null,1,1900]
[null,null,null,null,null,null,null,null," ",null,1,1900]
[null,null,null,null,null,null,null,null," ",null,1,1900]
[null,null,null,null,null,null,null,null," ",null,1,1900]
[null,null,null,null,null,null,null,null," ",null,1,1900]
[null,null,null,null,null,null,null,null," ",null,1,1900]
[null,null,null,null,null,null,null,null," ",null,1,1900]
[null,null,null,null,null,null,null,null," ",null,1,1900]
[null,null,null,null,null,null,null,null," ",null,1,1900]
[null,null,null,null,null,null,null,null," ",null,1,1900]
[null,null,null,null,null,null,null,null," ",null,1,1900]
[null,null,null,null,null,null,null,null," ",null,1,1900]
[null,null,null,null,null,null,null,null," ",null,1,1900]
[null,null,null,null,null,null,null,null," ",null,1,1900]
[null,null,null,null,null,null,null,null," ",null,1,1900]
[null,null,null,null,null,null,null,null," ",null,1,1900]
[null,null,null,null,null,null,null,null," ",null,1,1900]
[null,null,null,null,null,null,null,null," ",null,1,1900]
[null,null,null,null,null,null,null,null," ",null,1,1900]
[null,null,null,null,null,null,null,null," ",null,1,1900]
[null,null,null,null,null,null,null,null," ",null,1,1900]
[null,null,null,null,null,null,null,null," ",null,1,1900]
[null,null,null,null,null,null,null,null," ",null,1,1900]
[null,null,null,null,null,null,null,null," ",null,1,1900]
[null,null,null,null,null,null,null,null," ",null,1,1900]
[null,null,null,null,null,null,null,null," ",null,1,1900]
[null,null,null,null,null,null,null,null," ",null,1,1900]
[null,null,null,null,null,null,null,null," ",null,1,1900]
[null,null,null,null,null,null,null,null," ",null,1,1900]
[null,null,null,null,null,null,null,null," ",null,1,1900]
[null,null,null,null,null,null,null,null," ",null,1,1900]
[null,null,null,null,null,null,null,null," ",null,1,1900]
[null,null,null,null,null,null,null,null," ",null,1,1900]
[null,null,null,null,null,null,null,null," ",null,1,1900]
[null,null,null,null,null,null,null,null," ",null,1,1900]
[null,null,null,null,null,null,null,null," ",null,1,1900]
[null,null,null,null,null,null,null,null," ",null,1,1900]
[null,null,null,null,null,null,null,null," ",null,1,1900]
[null,null,null,null,null,null,null,null," ",null,1,1900]
[null,null,null,null,null,null,null,null," ",null,1,1900]
[null,null,null,null,null,null,null,null," ",null,1,1900]
[null,null,null,null,null,null,null,null," ",null,1,1900]
[null,null,null,null,null,null,null,null," ",null,1,1900]
[null,null,null,null,null,null,null,null," ",null,1,1900]
[null,null,null,null,null,null,null,null," ",null,1,1900]
[null,null,null,null,null,null,null,null," ",null,1,1900]
[null,null,null,null,null,null,null,null," ",null,1,1900]
[null,null,null,null,null,null,null,null," ",null,1,1900]
[null,null,null,null,null,null,null,null," ",null,1,1900]
[null,null,null,null,null,null,null,null," ",null,1,1900]
[null,null,null,null,null,null,null,null," ",null,1,1900]
[null,null,null,null,null,null,null,null," ",null,1,1900]
[null,null,null,null,null,null,null,null," ",null,1,1900]
[null,null,null,null,null,null,null,null," ",null,1,1900]
[null,null,null,null,null,null,null,null," ",null,1,1900]
[null,null,null,null,null,null,null,null," ",null,1,1900]
[null,null,null,null,null,null,null,null," ",null,1,1900]
[null,null,null,null,null,null,null,null," ",null,1,1900]
[null,null,null,null,null,null,null,null," ",null,1,1900]
[null,null,null,null,null,null,null,null," ",null,1,1900]
[null,null,null,null,null,null,null,null," ",null,1,1900]
[null,null,null,null,null,null,null,null," ",null,1,1900]
[null,null,null,null,null,null,null,null," ",null,1,1900]
[null,null,null,null,null,null,null,null," ",null,1,1900]
[null,null,null,null,null,null,null,null," ",null,1,1900]
[null,null,null,null,null,null,null,null," ",null,1,1900]
[null,null,null,null,null,null,null,null," ",null,1,1900]
[null,null,null,null,null,null,null,null," ",null,1,1900]
[null,null,null,null,null,null,null,null," ",null,1,1900]
[null,null,null,null,null,null,null,null," ",null,1,1900]
[null,null,null,null,null,null,null,null," ",null,1,1900]
[null,null,null,null,null,null,null,null," ",null,1,1900]
[null,null,null,null,null,null,null,null," ",null,1,1900]
[null,null,null,null,null,null,null,null," ",null,1,1900]
[null,null,null,null,null,null,null,null," ",null,1,1900]
[null,null,null,null,null,null,null,null," ",null,1,1900]
[null,null,null,null,null,null,null,null," ",null,1,1900]
[null,null,null,null,null,null,null,null," ",null,1,1900]
[null,null,null,null,null,null,null,null," ",null,1,1900]
[null,null,null,null,null,null,null,null," ",null,1,1900]
[null,null,null,null,null,null,null,null," ",null,1,1900]
[null,null,null,null,null,null,null,null," ",null,1,1900]
[null,null,null,null,null,null,null,null," ",null,1,1900]
[null,null,null,null,null,null,null,null," ",null,1,1900]
[null,null,null,null,null,null,null,null," ",null,1,1900]
[null,null,null,null,null,null,null,null," ",null,1,1900]
[null,null,null,null,null,null,null,null," ",null,1,1900]
[null,null,null,null,null,null,null,null," ",null,1,1900]
[null,null,null,null,null,null,null,null," ",null,1,1900]
[null,null,null,null,null,null,null,null," ",null,1,1900]
[null,null,null,null,null,null,null,null," ",null,1,1900]
[null,null,null,null,null,null,null,null," ",null,1,1900]
[null,null,null,null,null,null,null,null," ",null,1,1900]
[null,null,null,null,null,null,null,null," ",null,1,1900]
[null,null,null,null,null,null,null,null," ",null,1,1900]
[null,null,null,null,null,null,null,null," ",null,1,1900]
[null,null,null,null,null,null,null,null," ",null,1,1900]
[null,null,null,null,null,null,null,null," ",null,1,1900]
[null,null,null,null,null,null,null,null," ",null,1,1900]
[null,null,null,null,null,null,null,null," ",null,1,1900]
[null,null,null,null,null,null,null,null," ",null,1,1900]
[null,null,null,null,null,null,null,null," ",null,1,1900]
[null,null,null,null,null,null,null,null," ",null,1,1900]
[null,null,null,null,null,null,null,null," ",null,1,1900]
[null,null,null,null,null,null,null,null," ",null,1,1900]
[null,null,null,null,null,null,null,null," ",null,1,1900]
[null,null,null,null,null,null,null,null," ",null,1,1900]
[null,null,null,null,null,null,null,null," ",null,1,1900]
[null,null,null,null,null,null,null,null," ",null,1,1900]
[null,null,null,null,null,null,null,null," ",null,1,1900]
[null,null,null,null,null,null,null,null," ",null,1,1900]
[null,null,null,null,null,null,null,null," ",null,1,1900]
[null,null,null,null,null,null,null,null," ",null,1,1900]
[null,null,null,null,null,null,null,null," ",null,1,1900]
[null,null,null,null,null,null,null,null," ",null,1,1900]
[null,null,null,null,null,null,null,null," ",null,1,1900]
[null,null,null,null,null,null,null,null," ",null,1,1900]
[null,null,null,null,null,null,null,null," ",null,1,1900]
[null,null,null,null,null,null,null,null," ",null,1,1900]
[null,null,null,null,null,null,null,null," ",null,1,1900]
[null,null,null,null,null,null,null,null," ",null,1,1900]
[null,null,null,null,null,null,null,null," ",null,1,1900]
[null,null,null,null,null,null,null,null," ",null,1,1900]
[null,null,null,null,null,null,null,null," ",null,1,1900]
[null,null,null,null,null,null,null,null," ",null,1,1900]
[null,null,null,null,null,null,null,null," ",null,1,1900]
[null,null,null,null,null,null,null,null," ",null,1,1900]
[null,null,null,null,null,null,null,null," ",null,1,1900]
[null,null,null,null,null,null,null,null," ",null,1,1900]
[null,null,null,null,null,null,null,null," ",null,1,1900]
[null,null,null,null,null,null,null,null," ",null,1,1900]
[null,null,null,null,null,null,null,null," ",null,1,1900]
[null,null,null,null,null,null,null,null," ",null,1,1900]
[null,null,null,null,null,null,null,null," ",null,1,1900]
[null,null,null,null,null,null,null,null," ",null,1,1900]
[null,null,null,null,null,null,null,null," ",null,1,1900]
[null,null,null,null,null,null,null,null," ",null,1,1900]
[null,null,null,null,null,null,null,null," ",null,1,1900]
[null,null,null,null,null,null,null,null," ",null,1,1900]
[null,null,null,null,null,null,null,null," ",null,1,1900]
[null,null,null,null,null,null,null,null," ",null,1,1900]
[null,null,null,null,null,null,null,null," ",null,1,1900]
[null,null,null,null,null,null,null,null," ",null,1,1900]
[null,null,null,null,null,null,null,null," ",null,1,1900]
[null,null,null,null,null,null,null,null," ",null,1,1900]
[null,null,null,null,null,null,null,null," ",null,1,1900]
[null,null,null,null,null,null,null,null," ",null,1,1900]
[null,null,null,null,null,null,null,null," ",null,1,1900]
[null,null,null,null,null,null,null,null," ",null,1,1900]
[null,null,null,null,null,null,null,null," ",null,1,1900]
[null,null,null,null,null,null,null,null," ",null,1,1900]
[null,null,null,null,null,null,null,null," ",null,1,1900]
[null,null,null,null,null,null,null,null," ",null,1,1900]
[null,null,null,null,null,null,null,null," ",null,1,1900]
[null,null,null,null,null,null,null,null," ",null,1,1900]
[null,null,null,null,null,null,null,null," ",null,1,1900]
[null,null,null,null,null,null,null,null," ",null,1,1900]
[null,null,null,null,null,null,null,null," ",null,1,1900]
[null,null,null,null,null,null,null,null," ",null,1,1900]
[null,null,null,null,null,null,null,null," ",null,1,1900]
[null,null,null,null,null,null,null,null," ",null,1,1900]
[null,null,null,null,null,null,null,null," ",null,1,1900]
[null,null,null,null,null,null,null,null," ",null,1,1900]
[null,null,null,null,null,null,null,null," ",null,1,1900]
[null,null,null,null,null,null,null,null," ",null,1,1900]
[null,null,null,null,null,null,null,null," ",null,1,1900]
[null,null,null,null,null,null,null,null," ",null,1,1900]
[null,null,null,null,null,null,null,null," ",null,1,1900]
[null,null,null,null,null,null,null,null," ",null,1,1900]
[null,null,null,null,null,null,null,null," ",null,1,1900]
[null,null,null,null,null,null,null,null," ",null,1,1900]
[null,null,null,null,null,null,null,null," ",null,1,1900]
[null,null,null,null,null,null,null,null," ",null,1,1900]
[null,null,null,null,null,null,null,null," ",null,1,1900]
[null,null,null,null,null,null,null,null," ",null,1,1900]
[null,null,null,null,null,null,null,null," ",null,1,1900]
[null,null,null,null,null,null,null,null," ",null,1,1900]
[null,null,null,null,null,null,null,null," ",null,1,1900]
[null,null,null,null,null,null,null,null," ",null,1,1900]
[null,null,null,null,null,null,null,null," ",null,1,1900]
[null,null,null,null,null,null,null,null," ",null,1,1900]
[null,null,null,null,null,null,null,null," ",null,1,1900]
[null,null,null,null,null,null,null,null," ",null,1,1900]
[null,null,null,null,null,null,null,null," ",null,1,1900]
[null,null,null,null,null,null,null,null," ",null,1,1900]
[null,null,null,null,null,null,null,null,{"$f":"+IF(H52408=H52407,\" \",H52408)","v":" "},null,{"$f":"+MONTH(A52408)","v":1},{"$f":"+YEAR(A52408)","v":1900}]
[null,null,null,null,null,null,null,null," ",null,1,1900]
[null,null,null,null,null,null,null,null," ",null,1,1900]
[null,null,null,null,null,null,null,null," ",null,1,1900]
[null,null,null,null,null,null,null,null," ",null,1,1900]
[null,null,null,null,null,null,null,null," ",null,1,1900]
[null,null,null,null,null,null,null,null," ",null,1,1900]
[null,null,null,null,null,null,null,null," ",null,1,1900]
[null,null,null,null,null,null,null,null," ",null,1,1900]
[null,null,null,null,null,null,null,null," ",null,1,1900]
[null,null,null,null,null,null,null,null," ",null,1,1900]
[null,null,null,null,null,null,null,null," ",null,1,1900]
[null,null,null,null,null,null,null,null," ",null,1,1900]
[null,null,null,null,null,null,null,null," ",null,1,1900]
[null,null,null,null,null,null,null,null," ",null,1,1900]
[null,null,null,null,null,null,null,null," ",null,1,1900]
[null,null,null,null,null,null,null,null," ",null,1,1900]
[null,null,null,null,null,null,null,null," ",null,1,1900]
[null,null,null,null,null,null,null,null," ",null,1,1900]
[null,null,null,null,null,null,null,null," ",null,1,1900]
[null,null,null,null,null,null,null,null," ",null,1,1900]
[null,null,null,null,null,null,null,null," ",null,1,1900]
[null,null,null,null,null,null,null,null," ",null,1,1900]
[null,null,null,null,null,null,null,null," ",null,1,1900]
[null,null,null,null,null,null,null,null," ",null,1,1900]
[null,null,null,null,null,null,null,null," ",null,1,1900]
[null,null,null,null,null,null,null,null," ",null,1,1900]
[null,null,null,null,null,null,null,null," ",null,1,1900]
[null,null,null,null,null,null,null,null," ",null,1,1900]
[null,null,null,null,null,null,null,null," ",null,1,1900]
[null,null,null,null,null,null,null,null," ",null,1,1900]
[null,null,null,null,null,null,null,null," ",null,1,1900]
[null,null,null,null,null,null,null,null," ",null,1,1900]
[null,null,null,null,null,null,null,null," ",null,1,1900]
[null,null,null,null,null,null,null,null," ",null,1,1900]
[null,null,null,null,null,null,null,null," ",null,1,1900]
[null,null,null,null,null,null,null,null," ",null,1,1900]
[null,null,null,null,null,null,null,null," ",null,1,1900]
[null,null,null,null,null,null,null,null," ",null,1,1900]
[null,null,null,null,null,null,null,null," ",null,1,1900]
[null,null,null,null,null,null,null,null," ",null,1,1900]
[null,null,null,null,null,null,null,null," ",null,1,1900]
[null,null,null,null,null,null,null,null," ",null,1,1900]
[null,null,null,null,null,null,null,null," ",null,1,1900]
[null,null,null,null,null,null,null,null," ",null,1,1900]
[null,null,null,null,null,null,null,null," ",null,1,1900]
[null,null,null,null,null,null,null,null," ",null,1,1900]
[null,null,null,null,null,null,null,null," ",null,1,1900]
[null,null,null,null,null,null,null,null," ",null,1,1900]
[null,null,null,null,null,null,null,null," ",null,1,1900]
[null,null,null,null,null,null,null,null," ",null,1,1900]
[null,null,null,null,null,null,null,null," ",null,1,1900]
[null,null,null,null,null,null,null,null," ",null,1,1900]
[null,null,null,null,null,null,null,null," ",null,1,1900]
[null,null,null,null,null,null,null,null," ",null,1,1900]
[null,null,null,null,null,null,null,null," ",null,1,1900]
[null,null,null,null,null,null,null,null," ",null,1,1900]
[null,null,null,null,null,null,null,null," ",null,1,1900]
[null,null,null,null,null,null,null,null," ",null,1,1900]
[null,null,null,null,null,null,null,null," ",null,1,1900]
[null,null,null,null,null,null,null,null," ",null,1,1900]
[null,null,null,null,null,null,null,null," ",null,1,1900]
[null,null,null,null,null,null,null,null," ",null,1,1900]
[null,null,null,null,null,null,null,null," ",null,1,1900]
[null,null,null,null,null,null,null,null," ",null,1,1900]
[null,null,null,null,null,null,null,null," ",null,1,1900]
[null,null,null,null,null,null,null,null," ",null,1,1900]
[null,null,null,null,null,null,null,null," ",null,1,1900]
[null,null,null,null,null,null,null,null," ",null,1,1900]
[null,null,null,null,null,null,null,null," ",null,1,1900]
[null,null,null,null,null,null,null,null," ",null,1,1900]
[null,null,null,null,null,null,null,null," ",null,1,1900]
[null,null,null,null,null,null,null,null," ",null,1,1900]
[null,null,null,null,null,null,null,null," ",null,1,1900]
[null,null,null,null,null,null,null,null," ",null,1,1900]
[null,null,null,null,null,null,null,null," ",null,1,1900]
[null,null,null,null,null,null,null,null," ",null,1,1900]
[null,null,null,null,null,null,null,null," ",null,1,1900]
[null,null,null,null,null,null,null,null," ",null,1,1900]
[null,null,null,null,null,null,null,null," ",null,1,1900]
[null,null,null,null,null,null,null,null," ",null,1,1900]
[null,null,null,null,null,null,null,null," ",null,1,1900]
[null,null,null,null,null,null,null,null," ",null,1,1900]
[null,null,null,null,null,null,null,null," ",null,1,1900]
[null,null,null,null,null,null,null,null," ",null,1,1900]
[null,null,null,null,null,null,null,null," ",null,1,1900]
[null,null,null,null,null,null,null,null," ",null,1,1900]
[null,null,null,null,null,null,null,null," ",null,1,1900]
[null,null,null,null,null,null,null,null," ",null,1,1900]
[null,null,null,null,null,null,null,null," ",null,1,1900]
[null,null,null,null,null,null,null,null," ",null,1,1900]
[null,null,null,null,null,null,null,null," ",null,1,1900]
[null,null,null,null,null,null,null,null," ",null,1,1900]
[null,null,null,null,null,null,null,null," ",null,1,1900]
[null,null,null,null,null,null,null,null," ",null,1,1900]
[null,null,null,null,null,null,null,null," ",null,1,1900]
[null,null,null,null,null,null,null,null," ",null,1,1900]
[null,null,null,null,null,null,null,null,{"$f":"+IF(H55480=H55479,\" \",H55480)","v":" "},null,{"$f":"+MONTH(A55480)","v":1},{"$f":"+YEAR(A55480)","v":1900}]
[null,null,null,null,null,null,null,null," ",null,1,1900]
[null,null,null,null,null,null,null,null," ",null,1,1900]
[null,null,null,null,null,null,null,null," ",null,1,1900]
[null,null,null,null,null,null,null,null," ",null,1,1900]
[null,null,null,null,null,null,null,null," ",null,1,1900]
[null,null,null,null,null,null,null,null," ",null,1,1900]
[null,null,null,null,null,null,null,null," ",null,1,1900]
[null,null,null,null,null,null,null,null," ",null,1,1900]
[null,null,null,null,null,null,null,null," ",null,1,1900]
[null,null,null,null,null,null,null,null," ",null,1,1900]
[null,null,null,null,null,null,null,null," ",null,1,1900]
[null,null,null,null,null,null,null,null," ",null,1,1900]
[null,null,null,null,null,null,null,null," ",null,1,1900]
[null,null,null,null,null,null,null,null," ",null,1,1900]
[null,null,null,null,null,null,null,null," ",null,1,1900]
[null,null,null,null,null,null,null,null," ",null,1,1900]
[null,null,null,null,null,null,null,null," ",null,1,1900]
[null,null,null,null,null,null,null,null," ",null,1,1900]
[null,null,null,null,null,null,null,null," ",null,1,1900]
[null,null,null,null,null,null,null,null," ",null,1,1900]
[null,null,null,null,null,null,null,null," ",null,1,1900]
[null,null,null,null,null,null,null,null," ",null,1,1900]
[null,null,null,null,null,null,null,null," ",null,1,1900]
[null,null,null,null,null,null,null,null," ",null,1,1900]
[null,null,null,null,null,null,null,null," ",null,1,1900]
[null,null,null,null,null,null,null,null," ",null,1,1900]
[null,null,null,null,null,null,null,null," ",null,1,1900]
[null,null,null,null,null,null,null,null," ",null,1,1900]
[null,null,null,null,null,null,null,null," ",null,1,1900]
[null,null,null,null,null,null,null,null," ",null,1,1900]
[null,null,null,null,null,null,null,null,{"$f":"+IF(H56440=H56439,\" \",H56440)","v":" "},null,{"$f":"+MONTH(A56440)","v":1},{"$f":"+YEAR(A56440)","v":1900}]
[null,null,null,null,null,null,null,null," ",null,1,1900]
[null,null,null,null,null,null,null,null," ",null,1,1900]
[null,null,null,null,null,null,null,null," ",null,1,1900]
[null,null,null,null,null,null,null,null," ",null,1,1900]
[null,null,null,null,null,null,null,null," ",null,1,1900]
[null,null,null,null,null,null,null,null," ",null,1,1900]
[null,null,null,null,null,null,null,null," ",null,1,1900]
[null,null,null,null,null,null,null,null," ",null,1,1900]
[null,null,null,null,null,null,null,null," ",null,1,1900]
[null,null,null,null,null,null,null,null," ",null,1,1900]
[null,null,null,null,null,null,null,null," ",null,1,1900]
[null,null,null,null,null,null,null,null," ",null,1,1900]
[null,null,null,null,null,null,null,null," ",null,1,1900]
[null,null,null,null,null,null,null,null," ",null,1,1900]
[null,null,null,null,null,null,null,null," ",null,1,1900]
[null,null,null,null,null,null,null,null," ",null,1,1900]
[null,null,null,null,null,null,null,null," ",null,1,1900]
[null,null,null,null,null,null,null,null," ",null,1,1900]
[null,null,null,null,null,null,null,null," ",null,1,1900]
[null,null,null,null,null,null,null,null," ",null,1,1900]
[null,null,null,null,null,null,null,null," ",null,1,1900]
[null,null,null,null,null,null,null,null," ",null,1,1900]
[null,null,null,null,null,null,null,null," ",null,1,1900]
[null,null,null,null,null,null,null,null," ",null,1,1900]
[null,null,null,null,null,null,null,null," ",null,1,1900]
[null,null,null,null,null,null,null,null," ",null,1,1900]
[null,null,null,null,null,null,null,null," ",null,1,1900]
[null,null,null,null,null,null,null,null," ",null,1,1900]
[null,null,null,null,null,null,null,null," ",null,1,1900]
[null,null,null,null,null,null,null,null," ",null,1,1900]
[null,null,null,null,null,null,null,null," ",null,1,1900]
[null,null,null,null,null,null,null,null," ",null,1,1900]
[null,null,null,null,null,null,null,null," ",null,1,1900]
[null,null,null,null,null,null,null,null," ",null,1,1900]
[null,null,null,null,null,null,null,null," ",null,1,1900]
[null,null,null,null,null,null,null,null," ",null,1,1900]
[null,null,null,null,null,null,null,null," ",null,1,1900]
[null,null,null,null,null,null,null,null," ",null,1,1900]
[null,null,null,null,null,null,null,null," ",null,1,1900]
[null,null,null,null,null,null,null,null," ",null,1,1900]
[null,null,null,null,null,null,null,null," ",null,1,1900]
[null,null,null,null,null,null,null,null," ",null,1,1900]
[null,null,null,null,null,null,null,null," ",null,1,1900]
[null,null,null,null,null,null,null,null," ",null,1,1900]
[null,null,null,null,null,null,null,null," ",null,1,1900]
[null,null,null,null,null,null,null,null," ",null,1,1900]
[null,null,null,null,null,null,null,null," ",null,1,1900]
[null,null,null,null,null,null,null,null," ",null,1,1900]
[null,null,null,null,null,null,null,null," ",null,1,1900]
[null,null,null,null,null,null,null,null," ",null,1,1900]
[null,null,null,null,null,null,null,null," ",null,1,1900]
[null,null,null,null,null,null,null,null," ",null,1,1900]
[null,null,null,null,null,null,null,null," ",null,1,1900]
[null,null,null,null,null,null,null,null," ",null,1,1900]
[null,null,null,null,null,null,null,null," ",null,1,1900]
[null,null,null,null,null,null,null,null," ",null,1,1900]
[null,null,null,null,null,null,null,null," ",null,1,1900]
[null,null,null,null,null,null,null,null," ",null,1,1900]
[null,null,null,null,null,null,null,null," ",null,1,1900]
[null,null,null,null,null,null,null,null," ",null,1,1900]
[null,null,null,null,null,null,null,null," ",null,1,1900]
[null,null,null,null,null,null,null,null," ",null,1,1900]
[null,null,null,null,null,null,null,null," ",null,1,1900]
[null,null,null,null,null,null,null,null," ",null,1,1900]
[null,null,null,null,null,null,null,null," ",null,1,1900]
[null,null,null,null,null,null,null,null," ",null,1,1900]
[null,null,null,null,null,null,null,null," ",null,1,1900]
[null,null,null,null,null,null,null,null," ",null,1,1900]
[null,null,null,null,null,null,null,null," ",null,1,1900]
[null,null,null,null,null,null,null,null," ",null,1,1900]
[null,null,null,null,null,null,null,null," ",null,1,1900]
[null,null,null,null,null,null,null,null," ",null,1,1900]
[null,null,null,null,null,null,null,null," ",null,1,1900]
[null,null,null,null,null,null,null,null," ",null,1,1900]
[null,null,null,null,null,null,null,null," ",null,1,1900]
[null,null,null,null,null,null,null,null," ",null,1,1900]
[null,null,null,null,null,null,null,null," ",null,1,1900]
[null,null,null,null,null,null,null,null," ",null,1,1900]
[null,null,null,null,null,null,null,null," ",null,1,1900]
[null,null,null,null,null,null,null,null," ",null,1,1900]
[null,null,null,null,null,null,null,null," ",null,1,1900]
[null,null,null,null,null,null,null,null," ",null,1,1900]
[null,null,null,null,null,null,null,null," ",null,1,1900]
[null,null,null,null,null,null,null,null," ",null,1,1900]
[null,null,null,null,null,null,null,null," ",null,1,1900]
[null,null,null,null,null,null,null,null," ",null,1,1900]
[null,null,null,null,null,null,null,null," ",null,1,1900]
[null,null,null,null,null,null,null,null," ",null,1,1900]
[null,null,null,null,null,null,null,null," ",null,1,1900]
[null,null,null,null,null,null,null,null," ",null,1,1900]
[null,null,null,null,null,null,null,null," ",null,1,1900]
[null,null,null,null,null,null,null,null," ",null,1,1900]
[null,null,null,null,null,null,null,null,{"$f":"+IF(H59384=H59383,\" \",H59384)","v":" "},null,{"$f":"+MONTH(A59384)","v":1},{"$f":"+YEAR(A59384)","v":1900}]
[null,null,null,null,null,null,null,null," ",null,1,1900]
[null,null,null,null,null,null,null,null," ",null,1,1900]
[null,null,null,null,null,null,null,null," ",null,1,1900]
[null,null,null,null,null,null,null,null," ",null,1,1900]
[null,null,null,null,null,null,null,null," ",null,1,1900]
[null,null,null,null,null,null,null,null," ",null,1,1900]
[null,null,null,null,null,null,null,null," ",null,1,1900]
[null,null,null,null,null,null,null,null," ",null,1,1900]
[null,null,null,null,null,null,null,null," ",null,1,1900]
[null,null,null,null,null,null,null,null," ",null,1,1900]
[null,null,null,null,null,null,null,null," ",null,1,1900]
[null,null,null,null,null,null,null,null," ",null,1,1900]
[null,null,null,null,null,null,null,null," ",null,1,1900]
[null,null,null,null,null,null,null,null," ",null,1,1900]
[null,null,null,null,null,null,null,null," ",null,1,1900]
[null,null,null,null,null,null,null,null," ",null,1,1900]
[null,null,null,null,null,null,null,null," ",null,1,1900]
[null,null,null,null,null,null,null,null," ",null,1,1900]
[null,null,null,null,null,null,null,null," ",null,1,1900]
[null,null,null,null,null,null,null,null," ",null,1,1900]
[null,null,null,null,null,null,null,null," ",null,1,1900]
[null,null,null,null,null,null,null,null," ",null,1,1900]
[null,null,null,null,null,null,null,null," ",null,1,1900]
[null,null,null,null,null,null,null,null," ",null,1,1900]
[null,null,null,null,null,null,null,null," ",null,1,1900]
[null,null,null,null,null,null,null,null," ",null,1,1900]
[null,null,null,null,null,null,null,null," ",null,1,1900]
[null,null,null,null,null,null,null,null," ",null,1,1900]
[null,null,null,null,null,null,null,null," ",null,1,1900]
[null,null,null,null,null,null,null,null," ",null,1,1900]
[null,null,null,null,null,null,null,null,{"$f":"+IF(H60344=H60343,\" \",H60344)","v":" "},null,{"$f":"+MONTH(A60344)","v":1},{"$f":"+YEAR(A60344)","v":1900}]
[null,null,null,null,null,null,null,null," ",null,1,1900]
[null,null,null,null,null,null,null,null," ",null,1,1900]
[null,null,null,null,null,null,null,null," ",null,1,1900]
[null,null,null,null,null,null,null,null," ",null,1,1900]
[null,null,null,null,null,null,null,null," ",null,1,1900]
[null,null,null,null,null,null,null,null," ",null,1,1900]
[null,null,null,null,null,null,null,null," ",null,1,1900]
[null,null,null,null,null,null,null,null," ",null,1,1900]
[null,null,null,null,null,null,null,null," ",null,1,1900]
[null,null,null,null,null,null,null,null," ",null,1,1900]
[null,null,null,null,null,null,null,null," ",null,1,1900]
[null,null,null,null,null,null,null,null," ",null,1,1900]
[null,null,null,null,null,null,null,null," ",null,1,1900]
[null,null,null,null,null,null,null,null," ",null,1,1900]
[null,null,null,null,null,null,null,null," ",null,1,1900]
[null,null,null,null,null,null,null,null," ",null,1,1900]
[null,null,null,null,null,null,null,null," ",null,1,1900]
[null,null,null,null,null,null,null,null," ",null,1,1900]
[null,null,null,null,null,null,null,null," ",null,1,1900]
[null,null,null,null,null,null,null,null,{"$f":"+IF(H60984=H60983,\" \",H60984)","v":" "},null,{"$f":"+MONTH(A60984)","v":1},{"$f":"+YEAR(A60984)","v":1900}]
[null,null,null,null,null,null,null,null," ",null,1,1900]
[null,null,null,null,null,null,null,null," ",null,1,1900]
[null,null,null,null,null,null,null,null," ",null,1,1900]
[null,null,null,null,null,null,null,null," ",null,1,1900]
[null,null,null,null,null,null,null,null," ",null,1,1900]
[null,null,null,null,null,null,null,null," ",null,1,1900]
[null,null,null,null,null,null,null,null," ",null,1,1900]
[null,null,null,null,null,null,null,null," ",null,1,1900]
[null,null,null,null,null,null,null,null," ",null,1,1900]
[null,null,null,null,null,null,null,null," ",null,1,1900]
[null,null,null,null,null,null,null,null," ",null,1,1900]
[null,null,null,null,null,null,null,null," ",null,1,1900]
[null,null,null,null,null,null,null,null," ",null,1,1900]
[null,null,null,null,null,null,null,null," ",null,1,1900]
[null,null,null,null,null,null,null,null," ",null,1,1900]
[null,null,null,null,null,null,null,null," ",null,1,1900]
[null,null,null,null,null,null,null,null," ",null,1,1900]
[null,null,null,null,null,null,null,null," ",null,1,1900]
[null,null,null,null,null,null,null,null," ",null,1,1900]
[null,null,null,null,null,null,null,null," ",null,1,1900]
[null,null,null,null,null,null,null,null," ",null,1,1900]
[null,null,null,null,null,null,null,null," ",null,1,1900]
[null,null,null,null,null,null,null,null," ",null,1,1900]
[null,null,null,null,null,null,null,null," ",null,1,1900]
[null,null,null,null,null,null,null,null," ",null,1,1900]
[null,null,null,null,null,null,null,null," ",null,1,1900]
[null,null,null,null,null,null,null,null," ",null,1,1900]
[null,null,null,null,null,null,null,null," ",null,1,1900]
[null,null,null,null,null,null,null,null," ",null,1,1900]
[null,null,null,null,null,null,null,null," ",null,1,1900]
[null,null,null,null,null,null,null,null," ",null,1,1900]
[null,null,null,null,null,null,null,null," ",null,1,1900]
[null,null,null,null,null,null,null,null," ",null,1,1900]
[null,null,null,null,null,null,null,null," ",null,1,1900]
[null,null,null,null,null,null,null,null," ",null,1,1900]
[null,null,null,null,null,null,null,null," ",null,1,1900]
[null,null,null,null,null,null,null,null," ",null,1,1900]
[null,null,null,null,null,null,null,null," ",null,1,1900]
[null,null,null,null,null,null,null,null," ",null,1,1900]
[null,null,null,null,null,null,null,null," ",null,1,1900]
[null,null,null,null,null,null,null,null," ",null,1,1900]
[null,null,null,null,null,null,null,null," ",null,1,1900]
[null,null,null,null,null,null,null,null," ",null,1,1900]
[null,null,null,null,null,null,null,null," ",null,1,1900]
[null,null,null,null,null,null,null,null," ",null,1,1900]
[null,null,null,null,null,null,null,null," ",null,1,1900]
[null,null,null,null,null,null,null,null," ",null,1,1900]
[null,null,null,null,null,null,null,null," ",null,1,1900]
[null,null,null,null,null,null,null,null," ",null,1,1900]
[null,null,null,null,null,null,null,null," ",null,1,1900]
[null,null,null,null,null,null,null,null," ",null,1,1900]
[null,null,null,null,null,null,null,null," ",null,1,1900]
[null,null,null,null,null,null,null,null," ",null,1,1900]
[null,null,null,null,null,null,null,null," ",null,1,1900]
[null,null,null,null,null,null,null,null," ",null,1,1900]
[null,null,null,null,null,null,null,null," ",null,1,1900]
[null,null,null,null,null,null,null,null," ",null,1,1900]
[null,null,null,null,null,null,null,null," ",null,1,1900]
[null,null,null,null,null,null,null,null," ",null,1,1900]
[null,null,null,null,null,null,null,null," ",null,1,1900]
[null,null,null,null,null,null,null,null," ",null,1,1900]
[null,null,null,null,null,null,null,null," ",null,1,1900]
[null,null,null,null,null,null,null,null," ",null,1,1900]
[null,null,null,null,null,null,null,null," ",null,1,1900]
[null,null,null,null,null,null,null,null," ",null,1,1900]
[null,null,null,null,null,null,null,null," ",null,1,1900]
[null,null,null,null,null,null,null,null," ",null,1,1900]
[null,null,null,null,null,null,null,null," ",null,1,1900]
[null,null,null,null,null,null,null,null," ",null,1,1900]
[null,null,null,null,null,null,null,null," ",null,1,1900]
[null,null,null,null,null,null,null,null," ",null,1,1900]
[null,null,null,null,null,null,null,null," ",null,1,1900]
[null,null,null,null,null,null,null,null,{"$f":"+IF(H63288=H63287,\" \",H63288)","v":" "},null,{"$f":"+MONTH(A63288)","v":1},{"$f":"+YEAR(A63288)","v":1900}]
[null,null,null,null,null,null,null,null," ",null,1,1900]
[null,null,null,null,null,null,null,null," ",null,1,1900]
[null,null,null,null,null,null,null,null," ",null,1,1900]
[null,null,null,null,null,null,null,null," ",null,1,1900]
[null,null,null,null,null,null,null,null," ",null,1,1900]
[null,null,null,null,null,null,null,null," ",null,1,1900]
[null,null,null,null,null,null,null,null," ",null,1,1900]
[null,null,null,null,null,null,null,null," ",null,1,1900]
[null,null,null,null,null,null,null,null," ",null,1,1900]
[null,null,null,null,null,null,null,null," ",null,1,1900]
[null,null,null,null,null,null,null,null," ",null,1,1900]
[null,null,null,null,null,null,null,null," ",null,1,1900]
[null,null,null,null,null,null,null,null," ",null,1,1900]
[null,null,null,null,null,null,null,null," ",null,1,1900]
[null,null,null,null,null,null,null,null," ",null,1,1900]
[null,null,null,null,null,null,null,null," ",null,1,1900]
[null,null,null,null,null,null,null,null," ",null,1,1900]
[null,null,null,null,null,null,null,null," ",null,1,1900]
[null,null,null,null,null,null,null,null," ",null,1,1900]
[null,null,null,null,null,null,null,null," ",null,1,1900]
[null,null,null,null,null,null,null,null," ",null,1,1900]
[null,null,null,null,null,null,null,null,{"$f":"+IF(H63992=H63991,\" \",H63992)","v":" "},null,{"$f":"+MONTH(A63992)","v":1},{"$f":"+YEAR(A63992)","v":1900}]
[null,null,null,null,null,null,null,null," ",null,1,1900]
[null,null,null,null,null,null,null,null," ",null,1,1900]
[null,null,null,null,null,null,null,null," ",null,1,1900]
[null,null,null,null,null,null,null,null," ",null,1,1900]
[null,null,null,null,null,null,null,null," ",null,1,1900]
[null,null,null,null,null,null,null,null," ",null,1,1900]
[null,null,null,null,null,null,null,null," ",null,1,1900]
[null,null,null,null,null,null,null,null," ",null,1,1900]
[null,null,null,null,null,null,null,null," ",null,1,1900]
[null,null,null,null,null,null,null,null," ",null,1,1900]
[null,null,null,null,null,null,null,null," ",null,1,1900]
[null,null,null,null,null,null,null,null," ",null,1,1900]
[null,null,null,null,null,null,null,null," ",null,1,1900]
[null,null,null,null,null,null,null,null," ",null,1,1900]
[null,null,null,null,null,null,null,null," ",null,1,1900]
[null,null,null,null,null,null,null,null," ",null,1,1900]
[null,null,null,null,null,null,null,null," ",null,1,1900]
[null,null,null,null,null,null,null,null," ",null,1,1900]
[null,null,null,null,null,null,null,null," ",null,1,1900]
[null,null,null,null,null,null,null,null," ",null,1,1900]
[null,null,null,null,null,null,null,null," ",null,1,1900]
[null,null,null,null,null,null,null,null," ",null,1,1900]
[null,null,null,null,null,null,null,null," ",null,1,1900]
[null,null,null,null,null,null,null,null," ",null,1,1900]
[null,null,null,null,null,null,null,null," ",null,1,1900]
[null,null,null,null,null,null,null,null," ",null,1,1900]
[null,null,null,null,null,null,null,null," ",null,1,1900]
[null,null,null,null,null,null,null,null," ",null,1,1900]
[null,null,null,null,null,null,null,null," ",null,1,1900]
[null,null,null,null,null,null,null,null," ",null,1,1900]
[null,null,null,null,null,null,null,null," ",null,1,1900]
[null,null,null,null,null,null,null,null," ",null,1,1900]
[null,null,null,null,null,null,null,null," ",null,1,1900]
[null,null,null,null,null,null,null,null," ",null,1,1900]
[null,null,null,null,null,null,null,null," ",null,1,1900]
[null,null,null,null,null,null,null,null," ",null,1,1900]
[null,null,null,null,null,null,null,null," ",null,1,1900]
[null,null,null,null,null,null,null,null," ",null,1,1900]
[null,null,null,null,null,null,null,null," ",null,1,1900]
[null,null,null,null,null,null,null,null," ",null,1,1900]
[null,null,null,null,null,null,null,null," ",null,1,1900]
[null,null,null,null,null,null,null,null," ",null,1,1900]
[null,null,null,null,null,null,null,null," ",null,1,1900]
[null,null,null,null,null,null,null,null," ",null,1,1900]
[null,null,null,null,null,null,null,null," ",null,1,1900]
[null,null,null,null,null,null,null,null," ",null,1,1900]
[null,null,null,null,null,null,null,null," ",null,1,1900]
[null,null,null,null,null,null,null,null," ",null,1,1900]
[null,null,null,null,null,null,null,null," ",null,1,1900]
[null,null,null,null,null,null,null,null," ",null,1,1900]
[null,null,null,null,null,null,null,null," ",null,1,1900]
[null,null,null,null,null,null,null,null," ",null,1,1900]
[null,null,null,null,null,null,null,null," ",null,1,1900]
[null,null,null,null,null,null,null,null," ",null,1,1900]
[null,null,null,null,null,null,null,null," ",null,1,1900]
[null,null,null,null,null,null,null,null," ",null,1,1900]
[null,null,null,null,null,null,null,null," ",null,1,1900]
[null,null,null,null,null,null,null,null," ",null,1,1900]
[null,null,null,null,null,null,null,null," ",null,1,1900]
[null,null,null,null,null,null,null,null," ",null,1,1900]
[null,null,null,null,null,null,null,null," ",null,1,1900]
[null,null,null,null,null,null,null,null," ",null,1,1900]
[null,null,null,null,null,null,null,null," ",null,1,1900]
[null,null,null,null,null,null,null,null," ",null,1,1900]
[null,null,null,null,null,null,null,null," ",null,1,1900]
[null,null,null,null,null,null,null,null," ",null,1,1900]
[null,null,null,null,null,null,null,null," ",null,1,1900]
[null,null,null,null,null,null,null,null," ",null,1,1900]
[null,null,null,null,null,null,null,null," ",null,1,1900]
[null,null,null,null,null,null,null,null," ",null,1,1900]
[null,null,null,null,null,null,null,null," ",null,1,1900]
[null,null,null,null,null,null,null,null," ",null,1,1900]
[null,null,null,null,null,null,null,null," ",null,1,1900]
[null,null,null,null,null,null,null,null," ",null,1,1900]
[null,null,null,null,null,null,null,null," ",null,1,1900]
[null,null,null,null,null,null,null,null," ",null,1,1900]
[null,null,null,null,null,null,null,null,{"$f":"+IF(H65080=H65079,\" \",H65080)","v":" "},null,{"$f":"+MONTH(A65080)","v":1},{"$f":"+YEAR(A65080)","v":1900}]
[null,null,null,null,null,null,null,null," ",null,1,1900]
[null,null,null,null,null,null,null,null," ",null,1,1900]
[null,null,null,null,null,null,null,null," ",null,1,1900]
[null,null,null,null,null,null,null,null," ",null,1,1900]
[null,null,null,null,null,null,null,null," ",null,1,1900]
[null,null,null,null,null,null,null,null," ",null,1,1900]
[null,null,null,null,null,null,null,null," ",null,1,1900]
[null,null,null,null,null,null,null,null," ",null,1,1900]
[null,null,null,null,null,null,null,null," ",null,1,1900]
[null,null,null,null,null,null,null,null," ",null,1,1900]
[null,null,null,null,null,null,null,null," ",null,1,1900]
[null,null,null,null,null,null,null,null," ",null,1,1900]
[null,null,null,null,null,null,null,null," ",null,1,1900]
[null,null,null,null,null,null,null,null," ",null,1,1900]
[null,null,null,null,null,null,null,null," ",null,1,1900]
[null,null,null,null,null,null,null,null," ",null,1,1900]
[null,null,null,null,null,null,null,null," ",null,1,1900]
[null,null,null,null,null,null,null,null," ",null,1,1900]
[null,null,null,null,null,null,null,null," ",null,1,1900]
[null,null,null,null,null,null,null,null," ",null,1,1900]
[null,null,null,null,null,null,null,null," ",null,1,1900]
[null,null,null,null,null,null,null,null," ",null,1,1900]
[null,null,null,null,null,null,null,null," ",null,1,1900]
[null,null,null,null,null,null,null,null," ",null,1,1900]
[null,null,null,null,null,null,null,null," ",null,1,1900]
[null,null,null,null,null,null,null,null," ",null,1,1900]
[null,null,null,null,null,null,null,null," ",null,1,1900]
[null,null,null,null,null,null,null,null," ",null,1,1900]
[null,null,null,null,null,null,null,null," ",null,1,1900]
[null,null,null,null,null,null,null,null," ",null,1,1900]
[null,null,null,null,null,null,null,null," ",null,1,1900]
[null,null,null,null,null,null,null,null," ",null,1,1900]
[null,null,null,null,null,null,null,null," ",null,1,1900]
[null,null,null,null,null,null,null,null," ",null,1,1900]
[null,null,null,null,null,null,null,null," ",null,1,1900]
[null,null,null,null,null,null,null,null," ",null,1,1900]
[null,null,null,null,null,null,null,null," ",null,1,1900]
[null,null,null,null,null,null,null,null," ",null,1,1900]
[null,null,null,null,null,null,null,null," ",null,1,1900]
[null,null,null,null,null,null,null,null," ",null,1,1900]
[null,null,null,null,null,null,null,null," ",null,1,1900]
[null,null,null,null,null,null,null,null," ",null,1,1900]
[null,null,null,null,null,null,null,null," ",null,1,1900]
[null,null,null,null,null,null,null,null," ",null,1,1900]
[null,null,null,null,null,null,null,null," ",null,1,1900]
[null,null,null,null,null,null,null,null," ",null,1,1900]
[null,null,null,null,null,null,null,null," ",null,1,1900]
[null,null,null,null,null,null,null,null," ",null,1,1900]
[null,null,null,null,null,null,null,null," ",null,1,1900]
[null,null,null,null,null,null,null,null," ",null,1,1900]
[null,null,null,null,null,null,null,null," ",null,1,1900]
[null,null,null,null,null,null,null,null," ",null,1,1900]
[null,null,null,null,null,null,null,null," ",null,1,1900]
[null,null,null,null,null,null,null,null," ",null,1,1900]
[null,null,null,null,null,null,null,null," ",null,1,1900]
[null,null,null,null,null,null,null,null," ",null,1,1900]
[null,null,null,null,null,null,null,null," ",null,1,1900]
[null,null,null,null,null,null,null,null," ",null,1,1900]
[null,null,null,null,null,null,null,null," ",null,1,1900]
[null,null,null,null,null,null,null,null," ",null,1,1900]
[null,null,null,null,null,null,null,null," ",null,1,1900]
[null,null,null,null,null,null,null,null," ",null,1,1900]
[null,null,null,null,null,null,null,null," ",null,1,1900]
[null,null,null,null,null,null,null,null,{"$f":"+IF(H65144=H65143,\" \",H65144)","v":" "},null,{"$f":"+MONTH(A65144)","v":1},{"$f":"+YEAR(A65144)","v":1900}]
[null,null,null,null,null,null,null,null," ",null,1,1900]
[null,null,null,null,null,null,null,null," ",null,1,1900]
[null,null,null,null,null,null,null,null," ",null,1,1900]
[null,null,null,null,null,null,null,null," ",null,1,1900]
[null,null,null,null,null,null,null,null," ",null,1,1900]
[null,null,null,null,null,null,null,null," ",null,1,1900]
[null,null,null,null,null,null,null,null," ",null,1,1900]
[null,null,null,null,null,null,null,null," ",null,1,1900]
[null,null,null,null,null,null,null,null," ",null,1,1900]
[null,null,null,null,null,null,null,null," ",null,1,1900]
[null,null,null,null,null,null,null,null," ",null,1,1900]
[null,null,null,null,null,null,null,null," ",null,1,1900]
[null,null,null,null,null,null,null,null," ",null,1,1900]
[null,null,null,null,null,null,null,null," ",null,1,1900]
[null,null,null,null,null,null,null,null," ",null,1,1900]
[null,null,null,null,null,null,null,null," ",null,1,1900]
[null,null,null,null,null,null,null,null," ",null,1,1900]
[null,null,null,null,null,null,null,null," ",null,1,1900]
[null,null,null,null,null,null,null,null," ",null,1,1900]
[null,null,null,null,null,null,null,null," ",null,1,1900]
[null,null,null,null,null,null,null,null," ",null,1,1900]
[null,null,null,null,null,null,null,null," ",null,1,1900]
[null,null,null,null,null,null,null,null," ",null,1,1900]
[null,null,null,null,null,null,null,null," ",null,1,1900]
[null,null,null,null,null,null,null,null," ",null,1,1900]
[null,null,null,null,null,null,null,null," ",null,1,1900]
[null,null,null,null,null,null,null,null," ",null,1,1900]
[null,null,null,null,null,null,null,null," ",null,1,1900]
[null,null,null,null,null,null,null,null," ",null,1,1900]
[null,null,null,null,null,null,null,null," ",null,1,1900]
[null,null,null,null,null,null,null,null," ",null,1,1900]
[null,null,null,null,null,null,null,null," ",null,1,1900]
[null,null,null,null,null,null,null,null," ",null,1,1900]
[null,null,null,null,null,null,null,null," ",null,1,1900]
[null,null,null,null,null,null,null,null," ",null,1,1900]
[null,null,null,null,null,null,null,null," ",null,1,1900]
[null,null,null,null,null,null,null,null," ",null,1,1900]
[null,null,null,null,null,null,null,null," ",null,1,1900]
[null,null,null,null,null,null,null,null," ",null,1,1900]
[null,null,null,null,null,null,null,null," ",null,1,1900]
[null,null,null,null,null,null,null,null," ",null,1,1900]
[null,null,null,null,null,null,null,null," ",null,1,1900]
[null,null,null,null,null,null,null,null," ",null,1,1900]
[null,null,null,null,null,null,null,null," ",null,1,1900]
[null,null,null,null,null,null,null,null," ",null,1,1900]
[null,null,null,null,null,null,null,null," ",null,1,1900]
[null,null,null,null,null,null,null,null," ",null,1,1900]
[null,null,null,null,null,null,null,null," ",null,1,1900]
[null,null,null,null,null,null,null,null," ",null,1,1900]
[null,null,null,null,null,null,null,null," ",null,1,1900]
[null,null,null,null,null,null,null,null," ",null,1,1900]
[null,null,null,null,null,null,null,null," ",null,1,1900]
[null,null,null,null,null,null,null,null," ",null,1,1900]
[null,null,null,null,null,null,null,null," ",null,1,1900]
[null,null,null,null,null,null,null,null," ",null,1,1900]
[null,null,null,null,null,null,null,null," ",null,1,1900]
[null,null,null,null,null,null,null,null," ",null,1,1900]
[null,null,null,null,null,null,null,null," ",null,1,1900]
[null,null,null,null,null,null,null,null," ",null,1,1900]
[null,null,null,null,null,null,null,null," ",null,1,1900]
[null,null,null,null,null,null,null,null," ",null,1,1900]
[null,null,null,null,null,null,null,null," ",null,1,1900]
[null,null,null,null,null,null,null,null," ",null,1,1900]
[null,null,null,null,null,null,null,null,{"$f":"+IF(H65208=H65207,\" \",H65208)","v":" "},null,{"$f":"+MONTH(A65208)","v":1},{"$f":"+YEAR(A65208)","v":1900}]
[null,null,null,null,null,null,null,null," ",null,1,1900]
[null,null,null,null,null,null,null,null," ",null,1,1900]
[null,null,null,null,null,null,null,null," ",null,1,1900]
[null,null,null,null,null,null,null,null," ",null,1,1900]
[null,null,null,null,null,null,null,null," ",null,1,1900]
[null,null,null,null,null,null,null,null," ",null,1,1900]
[null,null,null,null,null,null,null,null," ",null,1,1900]
[null,null,null,null,null,null,null,null," ",null,1,1900]
[null,null,null,null,null,null,null,null," ",null,1,1900]
[null,null,null,null,null,null,null,null," ",null,1,1900]
[null,null,null,null,null,null,null,null," ",null,1,1900]
[null,null,null,null,null,null,null,null," ",null,1,1900]
[null,null,null,null,null,null,null,null," ",null,1,1900]
[null,null,null,null,null,null,null,null," ",null,1,1900]
[null,null,null,null,null,null,null,null," ",null,1,1900]
[null,null,null,null,null,null,null,null," ",null,1,1900]
[null,null,null,null,null,null,null,null," ",null,1,1900]
[null,null,null,null,null,null,null,null," ",null,1,1900]
[null,null,null,null,null,null,null,null," ",null,1,1900]
[null,null,null,null,null,null,null,null," ",null,1,1900]
[null,null,null,null,null,null,null,null," ",null,1,1900]
[null,null,null,null,null,null,null,null," ",null,1,1900]
[null,null,null,null,null,null,null,null," ",null,1,1900]
[null,null,null,null,null,null,null,null," ",null,1,1900]
[null,null,null,null,null,null,null,null," ",null,1,1900]
[null,null,null,null,null,null,null,null," ",null,1,1900]
[null,null,null,null,null,null,null,null," ",null,1,1900]
[null,null,null,null,null,null,null,null," ",null,1,1900]
[null,null,null,null,null,null,null,null," ",null,1,1900]
[null,null,null,null,null,null,null,null," ",null,1,1900]
[null,null,null,null,null,null,null,null," ",null,1,1900]
[null,null,null,null,null,null,null,null," ",null,1,1900]
[null,null,null,null,null,null,null,null," ",null,1,1900]
[null,null,null,null,null,null,null,null," ",null,1,1900]
[null,null,null,null,null,null,null,null," ",null,1,1900]
[null,null,null,null,null,null,null,null," ",null,1,1900]
[null,null,null,null,null,null,null,null," ",null,1,1900]
[null,null,null,null,null,null,null,null," ",null,1,1900]
[null,null,null,null,null,null,null,null," ",null,1,1900]
[null,null,null,null,null,null,null,null," ",null,1,1900]
[null,null,null,null,null,null,null,null," ",null,1,1900]
[null,null,null,null,null,null,null,null," ",null,1,1900]
[null,null,null,null,null,null,null,null," ",null,1,1900]
[null,null,null,null,null,null,null,null," ",null,1,1900]
[null,null,null,null,null,null,null,null," ",null,1,1900]
[null,null,null,null,null,null,null,null," ",null,1,1900]
[null,null,null,null,null,null,null,null," ",null,1,1900]
[null,null,null,null,null,null,null,null," ",null,1,1900]
[null,null,null,null,null,null,null,null," ",null,1,1900]
[null,null,null,null,null,null,null,null," ",null,1,1900]
[null,null,null,null,null,null,null,null," ",null,1,1900]
[null,null,null,null,null,null,null,null," ",null,1,1900]
[null,null,null,null,null,null,null,null," ",null,1,1900]
[null,null,null,null,null,null,null,null," ",null,1,1900]
[null,null,null,null,null,null,null,null," ",null,1,1900]
[null,null,null,null,null,null,null,null," ",null,1,1900]
[null,null,null,null,null,null,null,null," ",null,1,1900]
[null,null,null,null,null,null,null,null," ",null,1,1900]
[null,null,null,null,null,null,null,null," ",null,1,1900]
[null,null,null,null,null,null,null,null," ",null,1,1900]
[null,null,null,null,null,null,null,null," ",null,1,1900]
[null,null,null,null,null,null,null,null," ",null,1,1900]
[null,null,null,null,null,null,null,null," ",null,1,1900]
[null,null,null,null,null,null,null,null,{"$f":"+IF(H65272=H65271,\" \",H65272)","v":" "},null,{"$f":"+MONTH(A65272)","v":1},{"$f":"+YEAR(A65272)","v":1900}]
[null,null,null,null,null,null,null,null," ",null,1,1900]
[null,null,null,null,null,null,null,null," ",null,1,1900]
[null,null,null,null,null,null,null,null," ",null,1,1900]
[null,null,null,null,null,null,null,null," ",null,1,1900]
[null,null,null,null,null,null,null,null," ",null,1,1900]
[null,null,null,null,null,null,null,null," ",null,1,1900]
[null,null,null,null,null,null,null,null," ",null,1,1900]
[null,null,null,null,null,null,null,null," ",null,1,1900]
[null,null,null,null,null,null,null,null," ",null,1,1900]
[null,null,null,null,null,null,null,null," ",null,1,1900]
[null,null,null,null,null,null,null,null," ",null,1,1900]
[null,null,null,null,null,null,null,null," ",null,1,1900]
[null,null,null,null,null,null,null,null," ",null,1,1900]
[null,null,null,null,null,null,null,null," ",null,1,1900]
[null,null,null,null,null,null,null,null," ",null,1,1900]
[null,null,null,null,null,null,null,null," ",null,1,1900]
[null,null,null,null,null,null,null,null," ",null,1,1900]
[null,null,null,null,null,null,null,null," ",null,1,1900]
[null,null,null,null,null,null,null,null," ",null,1,1900]
[null,null,null,null,null,null,null,null," ",null,1,1900]
[null,null,null,null,null,null,null,null," ",null,1,1900]
[null,null,null,null,null,null,null,null," ",null,1,1900]
[null,null,null,null,null,null,null,null," ",null,1,1900]
[null,null,null,null,null,null,null,null," ",null,1,1900]
[null,null,null,null,null,null,null,null," ",null,1,1900]
[null,null,null,null,null,null,null,null," ",null,1,1900]
[null,null,null,null,null,null,null,null," ",null,1,1900]
[null,null,null,null,null,null,null,null," ",null,1,1900]
[null,null,null,null,null,null,null,null," ",null,1,1900]
[null,null,null,null,null,null,null,null," ",null,1,1900]
[null,null,null,null,null,null,null,null," ",null,1,1900]
[null,null,null,null,null,null,null,null," ",null,1,1900]
[null,null,null,null,null,null,null,null," ",null,1,1900]
[null,null,null,null,null,null,null,null," ",null,1,1900]
[null,null,null,null,null,null,null,null," ",null,1,1900]
[null,null,null,null,null,null,null,null," ",null,1,1900]
[null,null,null,null,null,null,null,null," ",null,1,1900]
[null,null,null,null,null,null,null,null," ",null,1,1900]
[null,null,null,null,null,null,null,null," ",null,1,1900]
[null,null,null,null,null,null,null,null," ",null,1,1900]
[null,null,null,null,null,null,null,null," ",null,1,1900]
[null,null,null,null,null,null,null,null," ",null,1,1900]
[null,null,null,null,null,null,null,null," ",null,1,1900]
[null,null,null,null,null,null,null,null," ",null,1,1900]
[null,null,null,null,null,null,null,null," ",null,1,1900]
[null,null,null,null,null,null,null,null," ",null,1,1900]
[null,null,null,null,null,null,null,null," ",null,1,1900]
[null,null,null,null,null,null,null,null," ",null,1,1900]
[null,null,null,null,null,null,null,null," ",null,1,1900]
[null,null,null,null,null,null,null,null," ",null,1,1900]
[null,null,null,null,null,null,null,null," ",null,1,1900]
[null,null,null,null,null,null,null,null," ",null,1,1900]
[null,null,null,null,null,null,null,null," ",null,1,1900]
[null,null,null,null,null,null,null,null," ",null,1,1900]
[null,null,null,null,null,null,null,null," ",null,1,1900]
[null,null,null,null,null,null,null,null," ",null,1,1900]
[null,null,null,null,null,null,null,null," ",null,1,1900]
[null,null,null,null,null,null,null,null," ",null,1,1900]
[null,null,null,null,null,null,null,null," ",null,1,1900]
[null,null,null,null,null,null,null,null," ",null,1,1900]
[null,null,null,null,null,null,null,null," ",null,1,1900]
[null,null,null,null,null,null,null,null," ",null,1,1900]
[null,null,null,null,null,null,null,null," ",null,1,1900]
[null,null,null,null,null,null,null,null,{"$f":"+IF(H65336=H65335,\" \",H65336)","v":" "},null,{"$f":"+MONTH(A65336)","v":1},{"$f":"+YEAR(A65336)","v":1900}]
[null,null,null,null,null,null,null,null," ",null,1,1900]
[null,null,null,null,null,null,null,null," ",null,1,1900]
[null,null,null,null,null,null,null,null," ",null,1,1900]
[null,null,null,null,null,null,null,null," ",null,1,1900]
[null,null,null,null,null,null,null,null," ",null,1,1900]
[null,null,null,null,null,null,null,null," ",null,1,1900]
[null,null,null,null,null,null,null,null," ",null,1,1900]
[null,null,null,null,null,null,null,null," ",null,1,1900]
[null,null,null,null,null,null,null,null," ",null,1,1900]
[null,null,null,null,null,null,null,null," ",null,1,1900]
[null,null,null,null,null,null,null,null," ",null,1,1900]
[null,null,null,null,null,null,null,null," ",null,1,1900]
[null,null,null,null,null,null,null,null," ",null,1,1900]
[null,null,null,null,null,null,null,null," ",null,1,1900]
[null,null,null,null,null,null,null,null," ",null,1,1900]
[null,null,null,null,null,null,null,null," ",null,1,1900]
[null,null,null,null,null,null,null,null," ",null,1,1900]
[null,null,null,null,null,null,null,null," ",null,1,1900]
[null,null,null,null,null,null,null,null," ",null,1,1900]
[null,null,null,null,null,null,null,null," ",null,1,1900]
[null,null,null,null,null,null,null,null," ",null,1,1900]
[null,null,null,null,null,null,null,null," ",null,1,1900]
[null,null,null,null,null,null,null,null," ",null,1,1900]
[null,null,null,null,null,null,null,null," ",null,1,1900]
[null,null,null,null,null,null,null,null," ",null,1,1900]
[null,null,null,null,null,null,null,null," ",null,1,1900]
[null,null,null,null,null,null,null,null," ",null,1,1900]
[null,null,null,null,null,null,null,null," ",null,1,1900]
[null,null,null,null,null,null,null,null," ",null,1,1900]
[null,null,null,null,null,null,null,null," ",null,1,1900]
[null,null,null,null,null,null,null,null," ",null,1,1900]
[null,null,null,null,null,null,null,null," ",null,1,1900]
[null,null,null,null,null,null,null,null," ",null,1,1900]
[null,null,null,null,null,null,null,null," ",null,1,1900]
[null,null,null,null,null,null,null,null," ",null,1,1900]
[null,null,null,null,null,null,null,null," ",null,1,1900]
[null,null,null,null,null,null,null,null," ",null,1,1900]
[null,null,null,null,null,null,null,null," ",null,1,1900]
[null,null,null,null,null,null,null,null," ",null,1,1900]
[null,null,null,null,null,null,null,null," ",null,1,1900]
[null,null,null,null,null,null,null,null," ",null,1,1900]
[null,null,null,null,null,null,null,null," ",null,1,1900]
[null,null,null,null,null,null,null,null," ",null,1,1900]
[null,null,null,null,null,null,null,null," ",null,1,1900]
[null,null,null,null,null,null,null,null," ",null,1,1900]
[null,null,null,null,null,null,null,null," ",null,1,1900]
[null,null,null,null,null,null,null,null," ",null,1,1900]
[null,null,null,null,null,null,null,null," ",null,1,1900]
[null,null,null,null,null,null,null,null," ",null,1,1900]
[null,null,null,null,null,null,null,null," ",null,1,1900]
[null,null,null,null,null,null,null,null," ",null,1,1900]
[null,null,null,null,null,null,null,null," ",null,1,1900]
[null,null,null,null,null,null,null,null," ",null,1,1900]
[null,null,null,null,null,null,null,null," ",null,1,1900]
[null,null,null,null,null,null,null,null," ",null,1,1900]
[null,null,null,null,null,null,null,null," ",null,1,1900]
[null,null,null,null,null,null,null,null," ",null,1,1900]
[null,null,null,null,null,null,null,null," ",null,1,1900]
[null,null,null,null,null,null,null,null," ",null,1,1900]
[null,null,null,null,null,null,null,null," ",null,1,1900]
[null,null,null,null,null,null,null,null," ",null,1,1900]
[null,null,null,null,null,null,null,null," ",null,1,1900]
[null,null,null,null,null,null,null,null," ",null,1,1900]
[null,null,null,null,null,null,null,null,{"$f":"+IF(H65400=H65399,\" \",H65400)","v":" "},null,{"$f":"+MONTH(A65400)","v":1},{"$f":"+YEAR(A65400)","v":1900}]
[null,null,null,null,null,null,null,null," ",null,1,1900]
[null,null,null,null,null,null,null,null," ",null,1,1900]
[null,null,null,null,null,null,null,null," ",null,1,1900]
[null,null,null,null,null,null,null,null," ",null,1,1900]
[null,null,null,null,null,null,null,null," ",null,1,1900]
[null,null,null,null,null,null,null,null," ",null,1,1900]
[null,null,null,null,null,null,null,null," ",null,1,1900]
[null,null,null,null,null,null,null,null," ",null,1,1900]
[null,null,null,null,null,null,null,null," ",null,1,1900]
[null,null,null,null,null,null,null,null," ",null,1,1900]
[null,null,null,null,null,null,null,null," ",null,1,1900]
[null,null,null,null,null,null,null,null," ",null,1,1900]
[null,null,null,null,null,null,null,null," ",null,1,1900]
[null,null,null,null,null,null,null,null," ",null,1,1900]
[null,null,null,null,null,null,null,null," ",null,1,1900]
[null,null,null,null,null,null,null,null," ",null,1,1900]
[null,null,null,null,null,null,null,null," ",null,1,1900]
[null,null,null,null,null,null,null,null," ",null,1,1900]
[null,null,null,null,null,null,null,null," ",null,1,1900]
[null,null,null,null,null,null,null,null," ",null,1,1900]
[null,null,null,null,null,null,null,null," ",null,1,1900]
[null,null,null,null,null,null,null,null," ",null,1,1900]
[null,null,null,null,null,null,null,null," ",null,1,1900]
[null,null,null,null,null,null,null,null," ",null,1,1900]
[null,null,null,null,null,null,null,null," ",null,1,1900]
[null,null,null,null,null,null,null,null," ",null,1,1900]
[null,null,null,null,null,null,null,null," ",null,1,1900]
[null,null,null,null,null,null,null,null," ",null,1,1900]
[null,null,null,null,null,null,null,null," ",null,1,1900]
[null,null,null,null,null,null,null,null," ",null,1,1900]
[null,null,null,null,null,null,null,null," ",null,1,1900]
[null,null,null,null,null,null,null,null," ",null,1,1900]
[null,null,null,null,null,null,null,null," ",null,1,1900]
[null,null,null,null,null,null,null,null," ",null,1,1900]
[null,null,null,null,null,null,null,null," ",null,1,1900]
[null,null,null,null,null,null,null,null," ",null,1,1900]
[null,null,null,null,null,null,null,null," ",null,1,1900]
[null,null,null,null,null,null,null,null," ",null,1,1900]
[null,null,null,null,null,null,null,null," ",null,1,1900]
[null,null,null,null,null,null,null,null," ",null,1,1900]
[null,null,null,null,null,null,null,null," ",null,1,1900]
[null,null,null,null,null,null,null,null," ",null,1,1900]
[null,null,null,null,null,null,null,null," ",null,1,1900]
[null,null,null,null,null,null,null,null," ",null,1,1900]
[null,null,null,null,null,null,null,null," ",null,1,1900]
[null,null,null,null,null,null,null,null," ",null,1,1900]
[null,null,null,null,null,null,null,null," ",null,1,1900]
[null,null,null,null,null,null,null,null," ",null,1,1900]
[null,null,null,null,null,null,null,null," ",null,1,1900]
[null,null,null,null,null,null,null,null," ",null,1,1900]
[null,null,null,null,null,null,null,null," ",null,1,1900]
[null,null,null,null,null,null,null,null," ",null,1,1900]
[null,null,null,null,null,null,null,null," ",null,1,1900]
[null,null,null,null,null,null,null,null," ",null,1,1900]
[null,null,null,null,null,null,null,null," ",null,1,1900]
[null,null,null,null,null,null,null,null," ",null,1,1900]
[null,null,null,null,null,null,null,null," ",null,1,1900]
[null,null,null,null,null,null,null,null," ",null,1,1900]
[null,null,null,null,null,null,null,null," ",null,1,1900]
[null,null,null,null,null,null,null,null," ",null,1,1900]
[null,null,null,null,null,null,null,null," ",null,1,1900]
[null,null,null,null,null,null,null,null," ",null,1,1900]
[null,null,null,null,null,null,null,null," ",null,1,1900]
[null,null,null,null,null,null,null,null,{"$f":"+IF(H65464=H65463,\" \",H65464)","v":" "},null,{"$f":"+MONTH(A65464)","v":1},{"$f":"+YEAR(A65464)","v":1900}]
[null,null,null,null,null,null,null,null," ",null,1,1900]
[null,null,null,null,null,null,null,null," ",null,1,1900]
[null,null,null,null,null,null,null,null," ",null,1,1900]
[null,null,null,null,null,null,null,null," ",null,1,1900]
[null,null,null,null,null,null,null,null," ",null,1,1900]
[null,null,null,null,null,null,null,null," ",null,1,1900]
[null,null,null,null,null,null,null,null," ",null,1,1900]
[null,null,null,null,null,null,null,null," ",null,1,1900]
[null,null,null,null,null,null,null,null," ",null,1,1900]
[null,null,null,null,null,null,null,null," ",null,1,1900]
[null,null,null,null,null,null,null,null," ",null,1,1900]
[null,null,null,null,null,null,null,null," ",null,1,1900]
[null,null,null,null,null,null,null,null," ",null,1,1900]
[null,null,null,null,null,null,null,null," ",null,1,1900]
[null,null,null,null,null,null,null,null," ",null,1,1900]
[null,null,null,null,null,null,null,null," ",null,1,1900]
[null,null,null,null,null,null,null,null," ",null,1,1900]
[null,null,null,null,null,null,null,null," ",null,1,1900]
[null,null,null,null,null,null,null,null," ",null,1,1900]
[null,null,null,null,null,null,null,null," ",null,1,1900]
[null,null,null,null,null,null,null,null," ",null,1,1900]
[null,null,null,null,null,null,null,null," ",null,1,1900]
[null,null,null,null,null,null,null,null," ",null,1,1900]
[null,null,null,null,null,null,null,null," ",null,1,1900]
[null,null,null,null,null,null,null,null," ",null,1,1900]
[null,null,null,null,null,null,null,null," ",null,1,1900]
[null,null,null,null,null,null,null,null," ",null,1,1900]
[null,null,null,null,null,null,null,null," ",null,1,1900]
[null,null,null,null,null,null,null,null," ",null,1,1900]
[null,null,null,null,null,null,null,null," ",null,1,1900]
[null,null,null,null,null,null,null,null," ",null,1,1900]
[null,null,null,null,null,null,null,null," ",null,1,1900]
[null,null,null,null,null,null,null,null," ",null,1,1900]
[null,null,null,null,null,null,null,null," ",null,1,1900]
[null,null,null,null,null,null,null,null," ",null,1,1900]
[null,null,null,null,null,null,null,null," ",null,1,1900]
[null,null,null,null,null,null,null,null," ",null,1,1900]
[null,null,null,null,null,null,null,null," ",null,1,1900]
[null,null,null,null,null,null,null,null," ",null,1,1900]
[null,null,null,null,null,null,null,null," ",null,1,1900]
[null,null,null,null,null,null,null,null," ",null,1,1900]
[null,null,null,null,null,null,null,null," ",null,1,1900]
[null,null,null,null,null,null,null,null," ",null,1,1900]
[null,null,null,null,null,null,null,null," ",null,1,1900]
[null,null,null,null,null,null,null,null," ",null,1,1900]
[null,null,null,null,null,null,null,null," ",null,1,1900]
[null,null,null,null,null,null,null,null," ",null,1,1900]
[null,null,null,null,null,null,null,null," ",null,1,1900]
[null,null,null,null,null,null,null,null," ",null,1,1900]
[null,null,null,null,null,null,null,null," ",null,1,1900]
[null,null,null,null,null,null,null,null," ",null,1,1900]
[null,null,null,null,null,null,null,null," ",null,1,1900]
[null,null,null,null,null,null,null,null," ",null,1,1900]
[null,null,null,null,null,null,null,null," ",null,1,1900]
[null,null,null,null,null,null,null,null," ",null,1,1900]
[null,null,null,null,null,null,null,null," ",null,1,1900]
[null,null,null,null,null,null,null,null," ",null,1,1900]
[null,null,null,null,null,null,null,null," ",null,1,1900]
[null,null,null,null,null,null,null,null," ",null,1,1900]
[null,null,null,null,null,null,null,null," ",null,1,1900]
[null,null,null,null,null,null,null,null," ",null,1,1900]
[null,null,null,null,null,null,null,null," ",null,1,1900]
[null,null,null,null,null,null,null,null," ",null,1,1900]
[null,null,null,null,null,null,null,null,{"$f":"+IF(H65528=H65527,\" \",H65528)","v":" "},null,{"$f":"+MONTH(A65528)","v":1},{"$f":"+YEAR(A65528)","v":1900}]
[null,null,null,null,null,null,null,null," ",null,1,1900]
[null,null,null,null,null,null,null,null," ",null,1,1900]
[null,null,null,null,null,null,null,null," ",null,1,1900]
[null,null,null,null,null,null,null,null," ",null,1,1900]
[null,null,null,null,null,null,null,null," ",null,1,1900]
[null,null,null,null,null,null,null,null," ",null,1,1900]
[null,null,null,null,null,null,null,null," ",null,1,1900]
[null,null,null,null,null,null,null,null," ",null,1,1900]

{"sheet":"Tabla de Amortizacion","index":4,"n_rows":184,"n_cols":13,"rows_kept":184,"cut":false,"hidden":true,"merged":[]}
["FECHA","Tabla de Amortización Valoración",null,null,"Tabla de Amortización Valoración","Tabla de Amortización Valoración","Tabla de Amortización Valoración","Tabla de Amortización Valoración","Tabla de Amortización Valoración","Tabla de Amortización Valoración","Tabla de Amortización Valoración","Tabla de Amortización Valoración","Tabla de Amortización Valoración"]
[null,{"$f":"+CALCULADORA!C9","v":"TIPS N21 A"},null,null,{"$f":"+Características!$B$1","v":"TIPS N13 A"},{"$f":"+Características!$C$1","v":"TIPS N14 A"},{"$f":"+Características!$D$1","v":"TIPS N15 A"},{"$f":"+Características!$E$1","v":"TIPS N16 A"},{"$f":"+Características!$F$1","v":"TIPS N17 A "},{"$f":"+Características!$G$1","v":"TIPS N18 A 2034"},{"$f":"+Características!$H$1","v":"TIPS N19 A 2034"},{"$f":"+Características!$I$1","v":"TIPS N20 A 2034"},{"$f":"+Características!$J$1","v":"TIPS N21 A"}]
[{"$f":"+Flujos!A3","v":"2021-07-24"},{"$f":"+VLOOKUP(A3,$D$2:$M$182,MATCH($B$2,$D$2:$M$2,0),FALSE)","v":1.952549E-2},null,{"$f":"+A3","v":"2021-07-24"},2.044998E-2,1.368171E-2,2.659682E-2,2.356776E-2,3.5719420000000002E-2,0,0,0,1.952549E-2]
[{"$f":"+Flujos!A4","v":"2021-08-24"},{"$f":"+VLOOKUP(A4,$D$2:$M$182,MATCH($B$2,$D$2:$M$2,0),FALSE)","v":2.8349989999999999E-2},null,{"$f":"+A4","v":"2021-08-24"},1.389231E-2,1.183556E-2,2.2949870000000001E-2,2.1333459999999999E-2,2.457022E-2,0,0,0,2.8349989999999999E-2]
[{"$f":"+Flujos!A5","v":"2021-09-24"},2.6544970000000001E-2,null,"2021-09-24",1.675198E-2,1.424274E-2,2.6563219999999998E-2,2.8972950000000001E-2,1.9941199999999999E-2,0,0,0,2.6544970000000001E-2]
[{"$f":"+Flujos!A6","v":"2021-10-24"},2.6772089999999998E-2,null,"2021-10-24",1.2046009999999999E-2,1.511885E-2,2.616427E-2,2.2232120000000001E-2,1.9175480000000002E-2,0,0,0,2.6772089999999998E-2]
[{"$f":"+Flujos!A7","v":"2021-11-24"},2.1764450000000001E-2,null,"2021-11-24",1.1631290000000001E-2,1.6405940000000001E-2,2.127747E-2,2.0472480000000001E-2,1.949236E-2,0,0,0,2.1764450000000001E-2]
[{"$f":"+Flujos!A8","v":"2021-12-24"},1.8318210000000001E-2,null,"2021-12-24",1.4076129999999999E-2,1.8205949999999999E-2,2.7426369999999999E-2,2.0605370000000001E-2,2.337156E-2,0,0,0,1.8318210000000001E-2]
[{"$f":"+Flujos!A9","v":"2022-01-24"},1.7947040000000001E-2,null,"2022-01-24",1.7421610000000001E-2,2.362088E-2,2.1199260000000001E-2,2.115641E-2,1.787675E-2,0,0,0,1.7947040000000001E-2]
[{"$f":"+Flujos!A10","v":"2022-02-24"},1.6100360000000001E-2,null,"2022-02-24",1.1869869999999999E-2,2.330254E-2,1.6641719999999999E-2,1.8384040000000001E-2,2.2570940000000001E-2,0,0,0,1.6100360000000001E-2]
[{"$f":"+Flujos!A11","v":"2022-03-24"},1.46862E-2,null,"2022-03-24",2.1252409999999999E-2,2.4576779999999999E-2,1.4282690000000001E-2,2.119569E-2,1.7767649999999999E-2,0,0,0,1.46862E-2]
[{"$f":"+Flujos!A12","v":"2022-04-24"},1.427731E-2,null,"2022-04-24",1.9961240000000002E-2,2.2522159999999999E-2,1.9790169999999999E-2,2.337674E-2,1.5618150000000001E-2,0,0,0,1.427731E-2]
[{"$f":"+Flujos!A13","v":"2022-05-24"},1.730595E-2,null,"2022-05-24",1.495962E-2,2.172866E-2,1.4869479999999999E-2,1.3761489999999999E-2,1.8432879999999999E-2,0,0,0,1.730595E-2]
[{"$f":"+Flujos!A14","v":"2022-06-24"},1.3769160000000001E-2,null,"2022-06-24",1.775622E-2,1.924675E-2,1.443206E-2,1.6983749999999999E-2,1.6710599999999999E-2,0,0,0,1.3769160000000001E-2]
[{"$f":"+Flujos!A15","v":"2022-07-24"},1.483369E-2,null,"2022-07-24",1.8611860000000001E-2,1.9525130000000002E-2,1.976905E-2,2.2644000000000001E-2,2.2426769999999999E-2,0,0,0,1.483369E-2]
[{"$f":"+Flujos!A16","v":"2022-08-24"},1.2893119999999999E-2,null,"2022-08-24",1.496187E-2,2.0719410000000001E-2,1.8365590000000001E-2,1.870053E-2,2.25063E-2,0,0,0,1.2893119999999999E-2]
[{"$f":"+Flujos!A17","v":"2022-09-24"},1.178352E-2,null,"2022-09-24",1.7624560000000001E-2,2.070901E-2,1.8077619999999999E-2,2.4248749999999999E-2,1.9816029999999998E-2,0,0,0,1.178352E-2]
[{"$f":"+Flujos!A18","v":"2022-10-24"},1.0406540000000001E-2,null,"2022-10-24",1.28802E-2,1.8533919999999999E-2,2.0476009999999999E-2,1.7172840000000002E-2,1.604535E-2,0,0,0,1.0406540000000001E-2]
[{"$f":"+Flujos!A19","v":"2022-11-24"},1.3268179999999999E-2,null,"2022-11-24",1.380986E-2,1.6179430000000002E-2,1.5180269999999999E-2,1.614614E-2,1.9134999999999999E-2,0,0,0,1.3268179999999999E-2]
[{"$f":"+Flujos!A20","v":"2022-12-24"},1.4011529999999999E-2,null,"2022-12-24",1.3265330000000001E-2,1.960572E-2,2.1286550000000001E-2,1.8706239999999999E-2,1.850661E-2,0,0,0,1.4011529999999999E-2]
[{"$f":"+Flujos!A21","v":"2023-01-24"},1.3735590000000001E-2,null,"2023-01-24",1.1979409999999999E-2,1.7750999999999999E-2,1.5963069999999999E-2,2.8286200000000001E-2,1.4477179999999999E-2,0,0,1.5852499999999999E-2,1.3735590000000001E-2]
[{"$f":"+Flujos!A22","v":"2023-02-24"},1.4403030000000001E-2,null,"2023-02-24",1.272617E-2,2.01187E-2,1.9996369999999999E-2,1.3298590000000001E-2,1.654485E-2,0,0,2.892144E-2,1.4403030000000001E-2]
[{"$f":"+Flujos!A23","v":"2023-03-24"},1.2226229999999999E-2,null,"2023-03-24",1.5305620000000001E-2,1.8283549999999999E-2,1.4695039999999999E-2,1.814356E-2,1.6617989999999999E-2,0,0,2.2593709999999999E-2,1.2226229999999999E-2]
[{"$f":"+Flujos!A24","v":"2023-04-24"},1.260328E-2,null,"2023-04-24",1.3349410000000001E-2,1.320268E-2,1.966265E-2,1.595792E-2,1.9382199999999999E-2,0,0,2.618229E-2,1.260328E-2]
[{"$f":"+Flujos!A25","v":"2023-05-24"},1.0628820000000001E-2,null,"2023-05-24",1.343126E-2,1.7294859999999999E-2,1.6517480000000001E-2,1.6811010000000001E-2,2.416772E-2,6.0585700000000001E-3,0,2.214692E-2,1.0628820000000001E-2]
[{"$f":"+Flujos!A26","v":"2023-06-24"},9.7083499999999993E-3,null,"2023-06-24",1.6131409999999999E-2,1.540016E-2,1.611479E-2,1.544912E-2,2.1909720000000001E-2,2.3651200000000001E-2,0,1.9387060000000001E-2,9.7083499999999993E-3]
[{"$f":"+Flujos!A27","v":"2023-07-24"},9.1862799999999998E-3,null,"2023-07-24",1.431813E-2,1.8903949999999999E-2,1.270605E-2,1.3864430000000001E-2,9.3874700000000002E-3,2.1211420000000002E-2,0,1.8843970000000002E-2,9.1862799999999998E-3]
[{"$f":"+Flujos!A28","v":"2023-08-24"},1.3526109999999999E-2,null,"2023-08-24",1.6288529999999999E-2,1.5003829999999999E-2,1.494734E-2,1.572838E-2,2.2424200000000002E-3,2.364436E-2,0,2.1297779999999999E-2,1.3526109999999999E-2]
[{"$f":"+Flujos!A29","v":"2023-09-24"},1.1434740000000001E-2,null,"2023-09-24",1.435779E-2,2.084695E-2,1.6627289999999999E-2,2.0864540000000001E-2,6.6378399999999999E-3,2.091759E-2,1.8470449999999999E-2,1.3285740000000001E-2,1.1434740000000001E-2]
[{"$f":"+Flujos!A30","v":"2023-10-24"},8.3203400000000007E-3,null,"2023-10-24",1.6617739999999999E-2,1.219917E-2,1.6739819999999999E-2,1.103635E-2,1.070316E-2,2.529812E-2,2.3920009999999998E-2,1.759811E-2,8.3203400000000007E-3]
[{"$f":"+Flujos!A31","v":"2023-11-24"},1.294797E-2,null,"2023-11-24",1.476718E-2,1.60444E-2,1.522799E-2,3.2874200000000001E-3,1.1450429999999999E-2,1.8347929999999998E-2,2.116353E-2,1.624602E-2,1.294797E-2]
[{"$f":"+Flujos!A32","v":"2023-12-24"},9.2125000000000002E-3,null,"2023-12-24",1.467772E-2,1.26768E-2,1.7998770000000001E-2,3.3590400000000002E-3,9.3219199999999992E-3,1.9172640000000001E-2,1.8441679999999998E-2,1.6708049999999999E-2,9.2125000000000002E-3]
[{"$f":"+Flujos!A33","v":"2024-01-24"},1.153683E-2,null,"2024-01-24",1.21292E-2,1.3593030000000001E-2,1.6709310000000002E-2,4.7029000000000003E-3,1.425703E-2,1.7974150000000001E-2,2.0026140000000001E-2,1.450048E-2,1.153683E-2]
[{"$f":"+Flujos!A34","v":"2024-02-24"},1.000793E-2,null,"2024-02-24",1.172219E-2,1.628187E-2,1.9025090000000001E-2,5.9293599999999998E-3,1.3007060000000001E-2,1.9270700000000002E-2,1.9208960000000001E-2,1.5946399999999999E-2,1.000793E-2]
[{"$f":"+Flujos!A35","v":"2024-03-24"},9.8681800000000007E-3,null,"2024-03-24",1.5305539999999999E-2,1.2210510000000001E-2,1.549794E-2,9.3488800000000004E-3,1.105333E-2,1.051969E-2,1.5680800000000002E-2,1.5689140000000001E-2,9.8681800000000007E-3]
[{"$f":"+Flujos!A36","v":"2024-04-24"},9.8306799999999996E-3,null,"2024-04-24",1.318137E-2,1.54152E-2,1.2017499999999999E-3,9.4674000000000008E-3,1.6448089999999999E-2,2.197584E-2,2.0310040000000001E-2,1.0757579999999999E-2,9.8306799999999996E-3]
[{"$f":"+Flujos!A37","v":"2024-05-24"},9.7187200000000001E-3,null,"2024-05-24",1.449017E-2,1.4099E-2,1.1728699999999999E-3,1.6454219999999999E-2,1.2666159999999999E-2,1.6990290000000002E-2,1.6536180000000001E-2,1.3540730000000001E-2,9.7187200000000001E-3]
[{"$f":"+Flujos!A38","v":"2024-06-24"},9.4589199999999991E-3,null,"2024-06-24",1.049837E-2,1.6403890000000001E-2,6.3114299999999998E-3,1.3605030000000001E-2,1.359347E-2,1.325195E-2,1.068205E-2,1.276501E-2,9.4589199999999991E-3]
[{"$f":"+Flujos!A39","v":"2024-07-24"},9.5384900000000002E-3,null,"2024-07-24",1.4708580000000001E-2,9.8877800000000005E-3,7.1086500000000002E-3,1.5038960000000001E-2,1.185657E-2,1.007138E-2,1.6515800000000001E-2,1.161447E-2,9.5384900000000002E-3]
[{"$f":"+Flujos!A40","v":"2024-08-24"},9.4232399999999994E-3,null,"2024-08-24",1.4447440000000001E-2,8.7918000000000002E-4,6.9776100000000004E-3,1.3669769999999999E-2,1.3470889999999999E-2,2.0831140000000001E-2,1.4296379999999999E-2,1.331859E-2,9.4232399999999994E-3]
[{"$f":"+Flujos!A41","v":"2024-09-24"},9.3414699999999993E-3,null,"2024-09-24",1.2917909999999999E-2,3.4854899999999999E-3,1.336185E-2,1.395939E-2,1.437008E-2,1.3145280000000001E-2,9.2338899999999998E-3,9.4992199999999992E-3,9.3414699999999993E-3]
[{"$f":"+Flujos!A42","v":"2024-10-24"},9.2238000000000007E-3,null,"2024-10-24",1.272832E-2,4.7461700000000001E-3,9.7824599999999998E-3,1.2006330000000001E-2,1.209825E-2,1.4647490000000001E-2,1.499669E-2,1.038323E-2,9.2238000000000007E-3]
[{"$f":"+Flujos!A43","v":"2024-11-24"},9.1362800000000001E-3,null,"2024-11-24",1.0085E-4,9.0369400000000003E-3,1.328964E-2,1.2704119999999999E-2,1.289714E-2,1.006517E-2,1.3574630000000001E-2,1.4400960000000001E-2,9.1362800000000001E-3]
[{"$f":"+Flujos!A44","v":"2024-12-24"},9.0608100000000007E-3,null,"2024-12-24",2.5976800000000002E-3,5.2115E-3,1.251384E-2,1.132464E-2,1.2194679999999999E-2,1.054455E-2,1.483513E-2,1.11731E-2,9.0608100000000007E-3]
[{"$f":"+Flujos!A45","v":"2025-01-24"},8.9694400000000004E-3,null,"2025-01-24",2.5744600000000002E-3,9.8400699999999994E-3,1.0115290000000001E-2,9.6926900000000003E-3,1.176555E-2,9.9220100000000002E-3,8.0742499999999998E-3,1.3009450000000001E-2,8.9694400000000004E-3]
[{"$f":"+Flujos!A46","v":"2025-02-24"},8.9177700000000002E-3,null,"2025-02-24",6.00046E-3,9.5831100000000006E-3,1.229326E-2,1.363761E-2,1.0696260000000001E-2,9.9906600000000002E-3,1.361384E-2,1.152998E-2,8.9177700000000002E-3]
[{"$f":"+Flujos!A47","v":"2025-03-24"},8.7990599999999992E-3,null,"2025-03-24",7.2197299999999997E-3,1.028221E-2,1.129489E-2,1.1352930000000001E-2,1.330106E-2,9.3998799999999993E-3,1.0196190000000001E-2,8.5414299999999992E-3,8.7990599999999992E-3]
[{"$f":"+Flujos!A48","v":"2025-04-24"},8.7516899999999995E-3,null,"2025-04-24",7.6748099999999998E-3,8.2440399999999994E-3,9.5199900000000007E-3,1.0136050000000001E-2,1.0105370000000001E-2,6.5729100000000004E-3,1.032425E-2,9.2205599999999992E-3,8.7516899999999995E-3]
[{"$f":"+Flujos!A49","v":"2025-05-24"},8.6479899999999995E-3,null,"2025-05-24",1.1827000000000001E-2,9.7039799999999992E-3,1.382827E-2,1.0234780000000001E-2,9.5317300000000004E-3,1.2743300000000001E-2,1.2419660000000001E-2,1.0682779999999999E-2,8.6479899999999995E-3]
[{"$f":"+Flujos!A50","v":"2025-06-24"},8.3958499999999998E-3,null,"2025-06-24",1.1245399999999999E-2,8.7720000000000003E-3,9.0572499999999993E-3,8.2422999999999993E-3,8.9367800000000001E-3,8.4770599999999998E-3,8.7410700000000001E-3,8.4004300000000004E-3,8.3958499999999998E-3]
[{"$f":"+Flujos!A51","v":"2025-07-24"},8.5091100000000003E-3,null,"2025-07-24",1.22264E-2,1.334663E-2,1.0292870000000001E-2,1.079955E-2,9.6168599999999996E-3,9.6246300000000003E-3,8.3459099999999998E-3,9.4271300000000006E-3,8.5091100000000003E-3]
[{"$f":"+Flujos!A52","v":"2025-08-24"},8.46009E-3,null,"2025-08-24",9.6824400000000005E-3,9.2060600000000003E-3,1.148269E-2,1.1875439999999999E-2,7.7920699999999999E-3,8.6789199999999997E-3,1.046561E-2,8.2664000000000001E-3,8.46009E-3]
[{"$f":"+Flujos!A53","v":"2025-09-24"},8.3696399999999994E-3,null,"2025-09-24",1.374424E-2,1.075445E-2,9.4817700000000005E-3,1.0192339999999999E-2,1.006071E-2,6.06589E-3,6.2120500000000002E-3,1.171722E-2,8.3696399999999994E-3]
[{"$f":"+Flujos!A54","v":"2025-10-24"},8.2812700000000003E-3,null,"2025-10-24",9.0352399999999999E-3,7.2466300000000004E-3,8.0448900000000007E-3,1.0594370000000001E-2,1.081909E-2,5.6226999999999996E-3,7.7529299999999999E-3,9.9307500000000003E-3,8.2812700000000003E-3]
[{"$f":"+Flujos!A55","v":"2025-11-24"},8.2385600000000007E-3,null,"2025-11-24",1.0065009999999999E-2,9.4870800000000002E-3,1.1571069999999999E-2,1.1152499999999999E-2,7.63213E-3,7.3936499999999999E-3,7.1742000000000004E-3,8.7480100000000005E-3,8.2385600000000007E-3]
[{"$f":"+Flujos!A56","v":"2025-12-24"},8.1326899999999997E-3,null,"2025-12-24",6.9401699999999998E-3,8.4971999999999999E-3,9.1879000000000006E-3,9.6326199999999997E-3,9.1350700000000003E-3,1.001431E-2,7.12022E-3,9.2647900000000002E-3,8.1326899999999997E-3]
[{"$f":"+Flujos!A57","v":"2026-01-24"},8.0575500000000001E-3,null,"2026-01-24",1.032482E-2,8.9105999999999994E-3,1.0611840000000001E-2,6.11365E-3,8.2416899999999994E-3,8.7118000000000004E-3,9.8689699999999995E-3,1.066746E-2,8.0575500000000001E-3]
[{"$f":"+Flujos!A58","v":"2026-02-24"},7.9679799999999995E-3,null,"2026-02-24",1.014255E-2,7.8081899999999996E-3,9.6316400000000003E-3,8.10022E-3,5.9571199999999998E-3,7.5342899999999999E-3,8.4436500000000005E-3,1.0536500000000001E-2,7.9679799999999995E-3]
[{"$f":"+Flujos!A59","v":"2026-03-24"},7.8977200000000004E-3,null,"2026-03-24",1.0282690000000001E-2,9.6177199999999997E-3,8.2639600000000007E-3,6.3959400000000001E-3,7.9977499999999997E-3,1.076061E-2,9.0489100000000003E-3,1.059441E-2,7.8977200000000004E-3]
[{"$f":"+Flujos!A60","v":"2026-04-24"},7.8342299999999993E-3,null,"2026-04-24",1.2177250000000001E-2,7.9529400000000004E-3,7.5412200000000004E-3,9.9168999999999993E-3,6.3036899999999998E-3,1.157145E-2,8.9513700000000002E-3,1.0440680000000001E-2,7.8342299999999993E-3]
[{"$f":"+Flujos!A61","v":"2026-05-24"},7.7531700000000002E-3,null,"2026-05-24",9.1026700000000002E-3,6.8976899999999997E-3,7.5995000000000004E-3,9.3426800000000008E-3,6.7696500000000003E-3,7.6199099999999997E-3,8.8632399999999997E-3,1.02963E-2,7.7531700000000002E-3]
[{"$f":"+Flujos!A62","v":"2026-06-24"},7.4618599999999998E-3,null,"2026-06-24",8.4811699999999997E-3,7.6905599999999999E-3,5.8627000000000002E-3,5.5878999999999998E-3,6.8796400000000002E-3,7.5195599999999998E-3,8.7772400000000004E-3,9.9056700000000001E-3,7.4618599999999998E-3]
[{"$f":"+Flujos!A63","v":"2026-07-24"},7.6206299999999998E-3,null,"2026-07-24",7.9373199999999994E-3,8.7303699999999995E-3,6.5144199999999999E-3,7.3659900000000002E-3,7.0965200000000003E-3,7.4172800000000001E-3,8.6861000000000004E-3,1.008966E-2,7.6206299999999998E-3]
[{"$f":"+Flujos!A64","v":"2026-08-24"},7.5654299999999997E-3,null,"2026-08-24",8.1307700000000007E-3,6.3537400000000001E-3,7.6803799999999997E-3,6.2080199999999999E-3,4.9962599999999998E-3,7.3441599999999998E-3,8.6032000000000001E-3,1.0024959999999999E-2,7.5654299999999997E-3]
[{"$f":"+Flujos!A65","v":"2026-09-24"},7.4853599999999999E-3,null,"2026-09-24",1.16814E-2,7.02952E-3,5.6115899999999996E-3,6.0392900000000001E-3,6.0435100000000002E-3,7.2714900000000002E-3,8.5153E-3,9.8640299999999993E-3,7.4853599999999999E-3]
[{"$f":"+Flujos!A66","v":"2026-10-24"},7.4242800000000001E-3,null,"2026-10-24",7.8462900000000006E-3,6.8588199999999998E-3,3.80373E-3,5.5845199999999999E-3,5.9320400000000004E-3,7.2027300000000001E-3,8.42824E-3,9.8290500000000006E-3,7.4242800000000001E-3]
[{"$f":"+Flujos!A67","v":"2026-11-24"},7.3604100000000004E-3,null,"2026-11-24",7.5041500000000002E-3,7.5272899999999998E-3,5.3497299999999996E-3,5.7291099999999999E-3,5.1106099999999998E-3,7.13336E-3,8.3389299999999996E-3,9.76139E-3,7.3604100000000004E-3]
[{"$f":"+Flujos!A68","v":"2026-12-24"},{"$f":"+VLOOKUP(A68,$D$2:$M$182,MATCH($B$2,$D$2:$M$2,0),FALSE)","v":7.2930699999999996E-3},null,{"$f":"+A68","v":"2026-12-24"},8.8636300000000008E-3,7.8274199999999999E-3,4.7784000000000004E-3,5.8542999999999998E-3,7.05012E-3,7.0679200000000001E-3,8.2497600000000001E-3,9.6244799999999995E-3,7.2930699999999996E-3]
[{"$f":"+Flujos!A69","v":"2027-01-24"},7.23458E-3,null,"2027-01-24",7.8687500000000007E-3,5.7107E-3,6.2981299999999999E-3,5.8231999999999997E-3,7.1426099999999998E-3,6.99272E-3,8.1521500000000004E-3,9.5315E-3,7.23458E-3]
[{"$f":"+Flujos!A70","v":"2027-02-24"},7.1574500000000001E-3,null,"2027-02-24",7.1700100000000001E-3,4.9743000000000001E-3,4.4441899999999998E-3,6.3028800000000003E-3,6.3024400000000003E-3,6.9260800000000003E-3,8.0664699999999992E-3,9.4433699999999995E-3,7.1574500000000001E-3]
[{"$f":"+Flujos!A71","v":"2027-03-24"},7.09467E-3,null,"2027-03-24",7.53296E-3,4.6752199999999999E-3,5.2383200000000003E-3,4.6673599999999997E-3,5.9266199999999996E-3,6.8567300000000001E-3,7.9875199999999997E-3,9.3722800000000002E-3,7.09467E-3]
[{"$f":"+Flujos!A72","v":"2027-04-24"},7.0158199999999999E-3,null,"2027-04-24",7.9755899999999994E-3,6.0828100000000001E-3,4.8250699999999999E-3,5.4446900000000003E-3,5.1114400000000001E-3,6.7933799999999999E-3,7.9037699999999992E-3,9.2191400000000007E-3,7.0158199999999999E-3]
[{"$f":"+Flujos!A73","v":"2027-05-24"},6.9453700000000002E-3,null,"2027-05-24",5.0773499999999996E-3,6.0583499999999997E-3,5.3897399999999996E-3,5.5381099999999997E-3,5.2794199999999999E-3,6.7173800000000002E-3,7.8133400000000002E-3,9.1632399999999996E-3,6.9453700000000002E-3]
[{"$f":"+Flujos!A74","v":"2027-06-24"},6.6182200000000002E-3,null,"2027-06-24",7.9320399999999996E-3,4.6722999999999999E-3,4.7634799999999996E-3,5.7296200000000004E-3,4.9932199999999996E-3,6.6536199999999998E-3,7.7228799999999997E-3,8.7205700000000004E-3,6.6182200000000002E-3]
[{"$f":"+Flujos!A75","v":"2027-07-24"},6.7881399999999998E-3,null,"2027-07-24",6.54332E-3,5.1236299999999997E-3,5.5271599999999997E-3,4.62437E-3,5.2167899999999998E-3,6.5948300000000003E-3,7.6439999999999998E-3,8.9216999999999994E-3,6.7881399999999998E-3]
[{"$f":"+Flujos!A76","v":"2027-08-24"},6.7206399999999999E-3,null,"2027-08-24",5.3837700000000004E-3,4.9961900000000002E-3,5.1364399999999999E-3,5.5207800000000003E-3,5.1617399999999997E-3,6.5244500000000002E-3,7.5632299999999998E-3,8.8271400000000007E-3,6.7206399999999999E-3]
[{"$f":"+Flujos!A77","v":"2027-09-24"},6.6494400000000004E-3,null,"2027-09-24",6.0567499999999996E-3,6.2335200000000002E-3,4.6696799999999998E-3,4.6642899999999998E-3,5.1148799999999996E-3,6.4587300000000002E-3,7.4741E-3,8.68559E-3,6.6494400000000004E-3]
[{"$f":"+Flujos!A78","v":"2027-10-24"},6.5808899999999998E-3,null,"2027-10-24",6.7459099999999999E-3,4.9785999999999997E-3,4.7066299999999998E-3,4.5875000000000004E-3,5.0683300000000002E-3,6.3928500000000003E-3,7.3896700000000001E-3,8.6006699999999995E-3,6.5808899999999998E-3]
[{"$f":"+Flujos!A79","v":"2027-11-24"},6.5202200000000002E-3,null,"2027-11-24",5.7883199999999996E-3,3.7257200000000001E-3,3.5146299999999999E-3,4.4950800000000003E-3,4.9501800000000002E-3,6.3218500000000004E-3,7.3053700000000003E-3,8.4425799999999999E-3,6.5202200000000002E-3]
[{"$f":"+Flujos!A80","v":"2027-12-24"},6.4465800000000004E-3,null,"2027-12-24",5.7316700000000003E-3,4.69667E-3,4.03741E-3,4.4930600000000001E-3,4.8986699999999999E-3,6.2591299999999999E-3,7.2231500000000002E-3,8.3543899999999997E-3,6.4465800000000004E-3]
[{"$f":"+Flujos!A81","v":"2028-01-24"},6.3814400000000004E-3,null,"2028-01-24",4.9866299999999997E-3,4.3015600000000003E-3,3.8396900000000002E-3,4.4096300000000003E-3,4.8566700000000004E-3,6.2022900000000001E-3,7.5596700000000001E-3,8.2766699999999999E-3,6.3814400000000004E-3]
[{"$f":"+Flujos!A82","v":"2028-02-24"},6.3100600000000001E-3,null,"2028-02-24",4.2769499999999998E-3,4.9913199999999996E-3,4.1397300000000003E-3,4.3508599999999998E-3,4.7790000000000003E-3,6.1401199999999998E-3,9.17515E-3,8.1364000000000002E-3,6.3100600000000001E-3]
[{"$f":"+Flujos!A83","v":"2028-03-24"},6.2444600000000003E-3,null,"2028-03-24",4.9432399999999998E-3,4.3739599999999997E-3,4.0825100000000001E-3,4.2503899999999997E-3,4.7253499999999997E-3,7.2047500000000002E-3,9.0420799999999992E-3,8.0108599999999999E-3,6.2444600000000003E-3]
[{"$f":"+Flujos!A84","v":"2028-04-24"},6.1725299999999999E-3,null,"2028-04-24",5.1545999999999996E-3,4.40034E-3,4.0247099999999999E-3,4.2087299999999999E-3,4.6809399999999998E-3,8.2122900000000006E-3,8.9613499999999999E-3,7.8969699999999997E-3,6.1725299999999999E-3]
[{"$f":"+Flujos!A85","v":"2028-05-24"},6.11044E-3,null,"2028-05-24",4.73523E-3,4.7348900000000003E-3,3.9550200000000001E-3,4.1349999999999998E-3,4.6128499999999999E-3,8.1123099999999993E-3,8.8962199999999998E-3,7.7661700000000002E-3,6.11044E-3]
[{"$f":"+Flujos!A86","v":"2028-06-24"},5.7880700000000002E-3,null,"2028-06-24",5.4271199999999997E-3,3.84585E-3,3.7603699999999999E-3,3.8527800000000001E-3,4.2542099999999996E-3,7.6055599999999999E-3,8.3257699999999997E-3,7.3159899999999996E-3,5.7880700000000002E-3]
[{"$f":"+Flujos!A87","v":"2028-07-24"},5.9616299999999999E-3,null,"2028-07-24",4.8140600000000002E-3,4.0427400000000004E-3,3.8687299999999999E-3,4.0267499999999999E-3,4.48796E-3,7.9804699999999999E-3,8.6712899999999999E-3,7.5410700000000004E-3,5.9616299999999999E-3]
[{"$f":"+Flujos!A88","v":"2028-08-24"},5.8868999999999996E-3,null,"2028-08-24",3.9697400000000002E-3,4.0346000000000002E-3,3.8271999999999998E-3,3.9888800000000002E-3,4.4319099999999998E-3,7.8531999999999994E-3,8.5816299999999998E-3,7.4240499999999997E-3,5.8868999999999996E-3]
[{"$f":"+Flujos!A89","v":"2028-09-24"},5.7971899999999998E-3,null,"2028-09-24",4.58859E-3,4.0413200000000002E-3,3.7738200000000002E-3,3.9212800000000001E-3,4.40807E-3,7.7678000000000001E-3,8.4932600000000007E-3,7.3281900000000001E-3,5.7971899999999998E-3]
[{"$f":"+Flujos!A90","v":"2028-10-24"},5.72939E-3,null,"2028-10-24",4.5538499999999999E-3,4.0138200000000004E-3,3.7338900000000001E-3,3.85054E-3,4.3160899999999999E-3,7.6848200000000002E-3,8.3927399999999992E-3,7.1909000000000001E-3,5.72939E-3]
[{"$f":"+Flujos!A91","v":"2028-11-24"},5.6566999999999997E-3,null,"2028-11-24",4.52228E-3,3.96029E-3,3.7060800000000001E-3,3.3741999999999999E-3,1.0704099999999999E-3,7.5883399999999998E-3,8.2962799999999996E-3,7.0802399999999998E-3,5.6566999999999997E-3]
[{"$f":"+Flujos!A92","v":"2028-12-24"},5.5871999999999996E-3,null,"2028-12-24",4.4944399999999997E-3,3.9271999999999996E-3,3.6243199999999999E-3,0,0,7.4702900000000001E-3,8.1924700000000003E-3,6.9554999999999999E-3,5.5871999999999996E-3]
[{"$f":"+Flujos!A93","v":"2029-01-24"},5.5177500000000001E-3,null,"2029-01-24",4.4990899999999999E-3,3.89508E-3,1.9620999999999999E-4,0,0,7.3742699999999996E-3,8.1070299999999994E-3,6.8387400000000003E-3,5.5177500000000001E-3]
[{"$f":"+Flujos!A94","v":"2029-02-24"},5.4437299999999999E-3,null,"2029-02-24",4.4447999999999996E-3,3.8647899999999999E-3,0,0,0,7.2840099999999996E-3,8.0030399999999995E-3,6.7437900000000004E-3,5.4437299999999999E-3]
[{"$f":"+Flujos!A95","v":"2029-03-24"},5.3742499999999997E-3,null,"2029-03-24",4.3771799999999996E-3,3.8472699999999999E-3,0,0,0,7.2124900000000002E-3,7.8814599999999999E-3,6.6260900000000003E-3,5.3742499999999997E-3]
[{"$f":"+Flujos!A96","v":"2029-04-24"},5.2991100000000001E-3,null,"2029-04-24",4.3536900000000003E-3,3.8089399999999998E-3,0,0,0,7.1214199999999998E-3,7.76299E-3,6.5133600000000002E-3,5.2991100000000001E-3]
[{"$f":"+Flujos!A97","v":"2029-05-24"},5.2249599999999998E-3,null,"2029-05-24",4.3155299999999997E-3,3.8018399999999999E-3,0,0,0,7.0237299999999997E-3,7.6275900000000001E-3,6.4129399999999998E-3,5.2249599999999998E-3]
[{"$f":"+Flujos!A98","v":"2029-06-24"},4.8848499999999996E-3,null,"2029-06-24",4.0276699999999997E-3,1.2801100000000001E-3,0,0,0,6.4547199999999997E-3,7.0889200000000003E-3,5.9746199999999999E-3,4.8848499999999996E-3]
[{"$f":"+Flujos!A99","v":"2029-07-24"},5.0578899999999998E-3,null,"2029-07-24",4.2157499999999999E-3,0,0,0,0,6.8214199999999999E-3,7.4431200000000001E-3,6.2089399999999996E-3,5.0578899999999998E-3]
[{"$f":"+Flujos!A100","v":"2029-08-24"},4.9563699999999999E-3,null,"2029-08-24",4.2051800000000002E-3,0,0,0,0,6.7098699999999997E-3,7.3653800000000004E-3,6.1110899999999996E-3,4.9563699999999999E-3]
[{"$f":"+Flujos!A101","v":"2029-09-24"},4.8324300000000004E-3,null,"2029-09-24",4.1677399999999996E-3,0,0,0,0,6.6133600000000004E-3,7.2886100000000001E-3,6.0130799999999996E-3,4.8324300000000004E-3]
[{"$f":"+Flujos!A102","v":"2029-10-24"},0,null,"2029-10-24",4.1189299999999998E-3,0,0,0,0,6.5308299999999996E-3,7.2061E-3,5.8918399999999998E-3,0]
[{"$f":"+Flujos!A103","v":"2029-11-24"},0,null,"2029-11-24",4.0866699999999997E-3,0,0,0,0,6.4499500000000003E-3,7.1145499999999999E-3,5.7724400000000002E-3,0]
[{"$f":"+Flujos!A104","v":"2029-12-24"},0,null,"2029-12-24",4.0421700000000003E-3,0,0,0,0,6.3709099999999996E-3,7.0141200000000004E-3,5.6663599999999996E-3,0]
[{"$f":"+Flujos!A105","v":"2030-01-24"},0,null,"2030-01-24",1.6202E-4,0,0,0,0,6.2759599999999997E-3,6.9193400000000004E-3,5.5616299999999997E-3,0]
[{"$f":"+Flujos!A106","v":"2030-02-24"},0,null,"2030-02-24",0,0,0,0,0,6.1979299999999999E-3,6.8294799999999998E-3,5.4622899999999999E-3,0]
[{"$f":"+Flujos!A107","v":"2030-03-24"},0,null,"2030-03-24",0,0,0,0,0,6.1339999999999997E-3,6.7332399999999997E-3,5.3475299999999996E-3,0]
[{"$f":"+Flujos!A108","v":"2030-04-24"},0,null,"2030-04-24",0,0,0,0,0,6.0354099999999997E-3,6.65344E-3,5.2556E-3,0]
[{"$f":"+Flujos!A109","v":"2030-05-24"},0,null,"2030-05-24",0,0,0,0,0,5.95722E-3,6.5535400000000001E-3,5.1577400000000001E-3,0]
[{"$f":"+Flujos!A110","v":"2030-06-24"},0,null,"2030-06-24",0,0,0,0,0,5.3769100000000004E-3,5.9866700000000004E-3,4.7196499999999997E-3,0]
[{"$f":"+Flujos!A111","v":"2030-07-24"},0,null,"2030-07-24",0,0,0,0,0,5.7983899999999996E-3,6.3709099999999996E-3,4.9960600000000001E-3,0]
[{"$f":"+Flujos!A112","v":"2030-08-24"},0,null,"2030-08-24",0,0,0,0,0,5.7126099999999999E-3,6.2967300000000004E-3,4.9115900000000004E-3,0]
[{"$f":"+Flujos!A113","v":"2030-09-24"},0,null,"2030-09-24",0,0,0,0,0,5.6201200000000002E-3,6.20157E-3,4.8164599999999998E-3,0]
[{"$f":"+Flujos!A114","v":"2030-10-24"},0,null,"2030-10-24",0,0,0,0,0,5.5512900000000004E-3,6.1039400000000004E-3,4.7338700000000003E-3,0]
[{"$f":"+Flujos!A115","v":"2030-11-24"},0,null,"2030-11-24",0,0,0,0,0,5.4684699999999996E-3,6.0255899999999999E-3,4.6461300000000001E-3,0]
[{"$f":"+Flujos!A116","v":"2030-12-24"},0,null,"2030-12-24",0,0,0,0,0,5.39363E-3,5.9463399999999996E-3,4.5452000000000001E-3,0]
[{"$f":"+Flujos!A117","v":"2031-01-24"},4.4832999999999999E-4,null,"2031-01-24",0,0,0,0,0,5.3362399999999999E-3,5.8329300000000001E-3,4.4434299999999999E-3,4.4832999999999999E-4]
[{"$f":"+Flujos!A118","v":"2031-02-24"},3.5551300000000001E-3,null,"2031-02-24",0,0,0,0,0,5.2785000000000002E-3,5.7561799999999996E-3,4.3560300000000003E-3,3.5551300000000001E-3]
[{"$f":"+Flujos!A119","v":"2031-03-24"},3.5076999999999999E-3,null,"2031-03-24",0,0,0,0,0,5.2246999999999997E-3,5.6874600000000001E-3,4.28423E-3,3.5076999999999999E-3]
[{"$f":"+Flujos!A120","v":"2031-04-24"},3.4688499999999999E-3,null,"2031-04-24",0,0,0,0,0,5.1682300000000002E-3,5.6249200000000003E-3,4.1915900000000002E-3,3.4688499999999999E-3]
[{"$f":"+Flujos!A121","v":"2031-05-24"},3.4330599999999999E-3,null,"2031-05-24",0,0,0,0,0,5.1194400000000003E-3,5.5588299999999998E-3,4.0872399999999998E-3,3.4330599999999999E-3]
[{"$f":"+Flujos!A122","v":"2031-06-24"},3.0928000000000001E-3,null,"2031-06-24",0,0,0,0,0,4.54668E-3,4.9593800000000002E-3,3.6020399999999999E-3,3.0928000000000001E-3]
[{"$f":"+Flujos!A123","v":"2031-07-24"},3.35498E-3,null,"2031-07-24",0,0,0,0,0,5.00995E-3,5.39406E-3,3.8839399999999998E-3,3.35498E-3]
[{"$f":"+Flujos!A124","v":"2031-08-24"},3.3207800000000002E-3,null,"2031-08-24",0,0,0,0,0,4.9673800000000004E-3,5.3108499999999998E-3,3.8194700000000002E-3,3.3207800000000002E-3]
[{"$f":"+Flujos!A125","v":"2031-09-24"},3.2857400000000001E-3,null,"2031-09-24",0,0,0,0,0,4.9262300000000002E-3,5.23531E-3,1.1737900000000001E-3,3.2857400000000001E-3]
[{"$f":"+Flujos!A126","v":"2031-10-24"},3.24947E-3,null,"2031-10-24",0,0,0,0,0,4.8713000000000003E-3,5.1685899999999998E-3,0,3.24947E-3]
[{"$f":"+Flujos!A127","v":"2031-11-24"},3.2093400000000002E-3,null,"2031-11-24",0,0,0,0,0,4.8275200000000001E-3,5.0959200000000003E-3,0,3.2093400000000002E-3]
[{"$f":"+Flujos!A128","v":"2031-12-24"},3.1749899999999999E-3,null,"2031-12-24",0,0,0,0,0,4.7828300000000001E-3,5.0364299999999997E-3,0,3.1749899999999999E-3]
[{"$f":"+Flujos!A129","v":"2032-01-24"},2.07822E-3,null,"2032-01-24",0,0,0,0,0,4.7427700000000003E-3,4.9832000000000001E-3,0,2.07822E-3]
[{"$f":"+Flujos!A130","v":"2032-02-24"},0,null,"2032-02-24",0,0,0,0,0,4.6926099999999998E-3,4.9319699999999999E-3,0,0]
[{"$f":"+Flujos!A131","v":"2032-03-24"},0,null,"2032-03-24",0,0,0,0,0,4.64365E-3,4.8845399999999997E-3,0,0]
[{"$f":"+Flujos!A132","v":"2032-04-24"},{"$f":"+VLOOKUP(A132,$D$2:$M$182,MATCH($B$2,$D$2:$M$2,0),FALSE)","v":0},null,{"$f":"+A132","v":"2032-04-24"},0,0,0,0,0,4.5981700000000004E-3,4.83702E-3,0,0]
[{"$f":"+Flujos!A133","v":"2032-05-24"},0,null,"2032-05-24",0,0,0,0,0,4.5554699999999998E-3,4.7922900000000003E-3,0,0]
[{"$f":"+Flujos!A134","v":"2032-06-24"},0,null,"2032-06-24",0,0,0,0,0,3.9601200000000001E-3,4.1935599999999998E-3,0,0]
[{"$f":"+Flujos!A135","v":"2032-07-24"},0,null,"2032-07-24",0,0,0,0,0,4.4728399999999996E-3,4.6901800000000004E-3,0,0]
[{"$f":"+Flujos!A136","v":"2032-08-24"},0,null,"2032-08-24",0,0,0,0,0,4.4291499999999998E-3,4.6406599999999996E-3,0,0]
[{"$f":"+Flujos!A137","v":"2032-09-24"},0,null,"2032-09-24",0,0,0,0,0,4.3815099999999999E-3,4.5877499999999998E-3,0,0]
[{"$f":"+Flujos!A138","v":"2032-10-24"},0,null,"2032-10-24",0,0,0,0,0,4.3409800000000004E-3,4.5363000000000001E-3,0,0]
[{"$f":"+Flujos!A139","v":"2032-11-24"},0,null,"2032-11-24",0,0,0,0,0,4.2965700000000004E-3,4.4818999999999996E-3,0,0]
[{"$f":"+Flujos!A140","v":"2032-12-24"},0,null,"2032-12-24",0,0,0,0,0,4.2518900000000004E-3,4.4283600000000001E-3,0,0]
[{"$f":"+Flujos!A141","v":"2033-01-24"},0,null,"2033-01-24",0,0,0,0,0,4.2110799999999999E-3,4.3780900000000003E-3,0,0]
[{"$f":"+Flujos!A142","v":"2033-02-24"},0,null,"2033-02-24",0,0,0,0,0,4.16592E-3,4.31606E-3,0,0]
[{"$f":"+Flujos!A143","v":"2033-03-24"},0,null,"2033-03-24",0,0,0,0,0,4.1158899999999997E-3,4.2606299999999996E-3,0,0]
[{"$f":"+Flujos!A144","v":"2033-04-24"},0,null,"2033-04-24",0,0,0,0,0,4.07465E-3,4.2091000000000003E-3,0,0]
[{"$f":"+Flujos!A145","v":"2033-05-24"},0,null,"2033-05-24",0,0,0,0,0,4.03288E-3,4.1405499999999998E-3,0,0]
[{"$f":"+Flujos!A146","v":"2033-06-24"},0,null,"2033-06-24",0,0,0,0,0,3.39777E-3,3.5064200000000001E-3,0,0]
[{"$f":"+Flujos!A147","v":"2033-07-24"},0,null,"2033-07-24",0,0,0,0,0,2.5242300000000001E-3,4.0428E-3,0,0]
[{"$f":"+Flujos!A148","v":"2033-08-24"},0,null,"2033-08-24",0,0,0,0,0,0,3.9920199999999998E-3,0,0]
[{"$f":"+Flujos!A149","v":"2033-09-24"},0,null,"2033-09-24",0,0,0,0,0,0,2.0410300000000001E-3,0,0]
[{"$f":"+Flujos!A150","v":"2033-10-24"},0,null,"2033-10-24",0,0,0,0,0,0,0,0,0]
[{"$f":"+Flujos!A151","v":"2033-11-24"},0,null,"2033-11-24",0,0,0,0,0,0,0,0,0]
[{"$f":"+Flujos!A152","v":"2033-12-24"},0,null,"2033-12-24",0,0,0,0,0,0,0,0,0]
[{"$f":"+Flujos!A153","v":"2034-01-24"},0,null,"2034-01-24",0,0,0,0,0,0,0,0,0]
[{"$f":"+Flujos!A154","v":"2034-02-24"},0,null,"2034-02-24",0,0,0,0,0,0,0,0,0]
[{"$f":"+Flujos!A155","v":"2034-03-24"},0,null,"2034-03-24",0,0,0,0,0,0,0,0,0]
[{"$f":"+Flujos!A156","v":"2034-04-24"},0,null,"2034-04-24",0,0,0,0,0,0,0,0,0]
[{"$f":"+Flujos!A157","v":"2034-05-24"},0,null,"2034-05-24",0,0,0,0,0,0,0,0,0]
[{"$f":"+Flujos!A158","v":"2034-06-24"},0,null,"2034-06-24",0,0,0,0,0,0,0,0,0]
[{"$f":"+Flujos!A159","v":"2034-07-24"},0,null,"2034-07-24",0,0,0,0,0,0,0,0,0]
[{"$f":"+Flujos!A160","v":"2034-08-24"},0,null,"2034-08-24",0,0,0,0,0,0,0,0,0]
[{"$f":"+Flujos!A161","v":"2034-09-24"},0,null,"2034-09-24",0,0,0,0,0,0,0,0,0]
[{"$f":"+Flujos!A162","v":"2034-10-24"},0,null,"2034-10-24",0,0,0,0,0,0,0,0,0]
[{"$f":"+Flujos!A163","v":"2034-11-24"},0,null,"2034-11-24",0,0,0,0,0,0,0,0,0]
[{"$f":"+Flujos!A164","v":"2034-12-24"},0,null,"2034-12-24",0,0,0,0,0,0,0,0,0]
[{"$f":"+Flujos!A165","v":"2035-01-24"},0,null,"2035-01-24",0,0,0,0,0,0,0,0,0]
[{"$f":"+Flujos!A166","v":"2035-02-24"},0,null,"2035-02-24",0,0,0,0,0,0,0,0,0]
[{"$f":"+Flujos!A167","v":"2035-03-24"},0,null,"2035-03-24",0,0,0,0,0,0,0,0,0]
[{"$f":"+Flujos!A168","v":"2035-04-24"},0,null,"2035-04-24",0,0,0,0,0,0,0,0,0]
[{"$f":"+Flujos!A169","v":"2035-05-24"},0,null,"2035-05-24",0,0,0,0,0,0,0,0,0]
[{"$f":"+Flujos!A170","v":"2035-06-24"},0,null,"2035-06-24",0,0,0,0,0,0,0,0,0]
[{"$f":"+Flujos!A171","v":"2035-07-24"},0,null,"2035-07-24",0,0,0,0,0,0,0,0,0]
[{"$f":"+Flujos!A172","v":"2035-08-24"},0,null,"2035-08-24",0,0,0,0,0,0,0,0,0]
[{"$f":"+Flujos!A173","v":"2035-09-24"},0,null,"2035-09-24",0,0,0,0,0,0,0,0,0]
[{"$f":"+Flujos!A174","v":"2035-10-24"},0,null,"2035-10-24",0,0,0,0,0,0,0,0,0]
[{"$f":"+Flujos!A175","v":"2035-11-24"},0,null,"2035-11-24",0,0,0,0,0,0,0,0,0]
[{"$f":"+Flujos!A176","v":"2035-12-24"},0,null,"2035-12-24",0,0,0,0,0,0,0,0,0]
[{"$f":"+Flujos!A177","v":"2036-01-24"},0,null,"2036-01-24",0,0,0,0,0,0,0,0,0]
[{"$f":"+Flujos!A178","v":"2036-02-24"},0,null,"2036-02-24",0,0,0,0,0,0,0,0,0]
[{"$f":"+Flujos!A179","v":"2036-03-24"},0,null,"2036-03-24",0,0,0,0,0,0,0,0,0]
[{"$f":"+Flujos!A180","v":"2036-04-24"},0,null,"2036-04-24",0,0,0,0,0,0,0,0,0]
[{"$f":"+Flujos!A181","v":"2036-05-24"},0,null,"2036-05-24",0,0,0,0,0,0,0,0,0]
[{"$f":"+Flujos!A182","v":"2036-06-24"},0,null,"2036-06-24",0,0,0,0,0,0,0,0,0]
[null,{"$error":"#N/A"},null,null,{"$f":"SUM(E3:E182)","v":0.99999999999999967},0.99999999999999967,1.0000000000000004,1,0.99999999999999978,1,1.0000000000000004,1.0000000000000002,{"$f":"SUM(M3:M182)","v":0.99999999999999978}]
[null,{"$error":"#N/A"},null,null,{"$f":"1-E183","v":0},0,0,0,0,0,0,0,{"$f":"1-M183","v":0}]

{"sheet":"Tablas","index":5,"n_rows":181,"n_cols":5,"rows_kept":181,"cut":false,"hidden":true,"merged":[]}
["FECHA",{"$f":"+CALCULADORA!C9","v":"TIPS N21 A"},"Valoración"]
[{"$f":"+'Tabla de Amortizacion'!A3","v":"2021-07-24"},{"$f":"+ROUND(C2,8)","v":1.952549E-2},{"$f":"+VLOOKUP(A2,'Tabla de Amortizacion'!$D$2:$M$182,MATCH(Tablas!$B$1,'Tabla de Amortizacion'!$D$2:$M$2,0))","v":1.952549E-2},null,{"$f":"IF([1]CALCULADORA!$F$10=\"Contractual\",ROUND('[1]Tabla de Amortizacion'!C3,8),IF([1]CALCULADORA!$F$10=\"6% (Medio)\",ROUND('[1]Tabla de Amortizacion'!F3,8),IF([1]CALCULADORA!$F$10=\"10% (Medio Alto)\",ROUND('[1]Tabla de Amortizacion'!H3,8),IF([1]CALCULADORA!$F$10=\"14% (Alto)\",ROUND('[1]Tabla de Amortizacion'!#REF!,8),IF([1]CALCULADORA!$F$10=20%,ROUND('[1]Tabla de Amortizacion'!#REF!,8),ROUND('[1]Tabla de Amortizacion'!K3,8))))))","v":0}]
[{"$f":"EDATE(A2,1)","v":"2021-08-24"},{"$f":"+ROUND(C3,8)","v":2.8349989999999999E-2},{"$f":"+VLOOKUP(A3,'Tabla de Amortizacion'!$D$2:$M$182,MATCH(Tablas!$B$1,'Tabla de Amortizacion'!$D$2:$M$2,0))","v":2.8349989999999999E-2},null,{"$f":"IF([1]CALCULADORA!$F$10=\"Contractual\",ROUND('[1]Tabla de Amortizacion'!C4,8),IF([1]CALCULADORA!$F$10=\"6% (Medio)\",ROUND('[1]Tabla de Amortizacion'!F4,8),IF([1]CALCULADORA!$F$10=\"10% (Medio Alto)\",ROUND('[1]Tabla de Amortizacion'!H4,8),IF([1]CALCULADORA!$F$10=\"14% (Alto)\",ROUND('[1]Tabla de Amortizacion'!#REF!,8),IF([1]CALCULADORA!$F$10=20%,ROUND('[1]Tabla de Amortizacion'!#REF!,8),ROUND('[1]Tabla de Amortizacion'!K4,8))))))","v":0}]
["2021-09-24",2.6544970000000001E-2,{"$f":"+VLOOKUP(A4,'Tabla de Amortizacion'!$D$2:$M$182,MATCH(Tablas!$B$1,'Tabla de Amortizacion'!$D$2:$M$2,0))","v":2.6544970000000001E-2},null,{"$f":"IF([1]CALCULADORA!$F$10=\"Contractual\",ROUND('[1]Tabla de Amortizacion'!C5,8),IF([1]CALCULADORA!$F$10=\"6% (Medio)\",ROUND('[1]Tabla de Amortizacion'!F5,8),IF([1]CALCULADORA!$F$10=\"10% (Medio Alto)\",ROUND('[1]Tabla de Amortizacion'!H5,8),IF([1]CALCULADORA!$F$10=\"14% (Alto)\",ROUND('[1]Tabla de Amortizacion'!#REF!,8),IF([1]CALCULADORA!$F$10=20%,ROUND('[1]Tabla de Amortizacion'!#REF!,8),ROUND('[1]Tabla de Amortizacion'!K5,8))))))","v":0}]
["2021-10-24",2.6772089999999998E-2,{"$f":"+VLOOKUP(A5,'Tabla de Amortizacion'!$D$2:$M$182,MATCH(Tablas!$B$1,'Tabla de Amortizacion'!$D$2:$M$2,0))","v":2.6772089999999998E-2},null,{"$f":"IF([1]CALCULADORA!$F$10=\"Contractual\",ROUND('[1]Tabla de Amortizacion'!C6,8),IF([1]CALCULADORA!$F$10=\"6% (Medio)\",ROUND('[1]Tabla de Amortizacion'!F6,8),IF([1]CALCULADORA!$F$10=\"10% (Medio Alto)\",ROUND('[1]Tabla de Amortizacion'!H6,8),IF([1]CALCULADORA!$F$10=\"14% (Alto)\",ROUND('[1]Tabla de Amortizacion'!#REF!,8),IF([1]CALCULADORA!$F$10=20%,ROUND('[1]Tabla de Amortizacion'!#REF!,8),ROUND('[1]Tabla de Amortizacion'!K6,8))))))","v":0}]
["2021-11-24",2.1764450000000001E-2,{"$f":"+VLOOKUP(A6,'Tabla de Amortizacion'!$D$2:$M$182,MATCH(Tablas!$B$1,'Tabla de Amortizacion'!$D$2:$M$2,0))","v":2.1764450000000001E-2},null,{"$f":"IF([1]CALCULADORA!$F$10=\"Contractual\",ROUND('[1]Tabla de Amortizacion'!C7,8),IF([1]CALCULADORA!$F$10=\"6% (Medio)\",ROUND('[1]Tabla de Amortizacion'!F7,8),IF([1]CALCULADORA!$F$10=\"10% (Medio Alto)\",ROUND('[1]Tabla de Amortizacion'!H7,8),IF([1]CALCULADORA!$F$10=\"14% (Alto)\",ROUND('[1]Tabla de Amortizacion'!#REF!,8),IF([1]CALCULADORA!$F$10=20%,ROUND('[1]Tabla de Amortizacion'!#REF!,8),ROUND('[1]Tabla de Amortizacion'!K7,8))))))","v":0}]
["2021-12-24",1.8318210000000001E-2,{"$f":"+VLOOKUP(A7,'Tabla de Amortizacion'!$D$2:$M$182,MATCH(Tablas!$B$1,'Tabla de Amortizacion'!$D$2:$M$2,0))","v":1.8318210000000001E-2},null,{"$f":"IF([1]CALCULADORA!$F$10=\"Contractual\",ROUND('[1]Tabla de Amortizacion'!C8,8),IF([1]CALCULADORA!$F$10=\"6% (Medio)\",ROUND('[1]Tabla de Amortizacion'!F8,8),IF([1]CALCULADORA!$F$10=\"10% (Medio Alto)\",ROUND('[1]Tabla de Amortizacion'!H8,8),IF([1]CALCULADORA!$F$10=\"14% (Alto)\",ROUND('[1]Tabla de Amortizacion'!#REF!,8),IF([1]CALCULADORA!$F$10=20%,ROUND('[1]Tabla de Amortizacion'!#REF!,8),ROUND('[1]Tabla de Amortizacion'!K8,8))))))","v":0}]
["2022-01-24",1.7947040000000001E-2,{"$f":"+VLOOKUP(A8,'Tabla de Amortizacion'!$D$2:$M$182,MATCH(Tablas!$B$1,'Tabla de Amortizacion'!$D$2:$M$2,0))","v":1.7947040000000001E-2},null,{"$f":"IF([1]CALCULADORA!$F$10=\"Contractual\",ROUND('[1]Tabla de Amortizacion'!C9,8),IF([1]CALCULADORA!$F$10=\"6% (Medio)\",ROUND('[1]Tabla de Amortizacion'!F9,8),IF([1]CALCULADORA!$F$10=\"10% (Medio Alto)\",ROUND('[1]Tabla de Amortizacion'!H9,8),IF([1]CALCULADORA!$F$10=\"14% (Alto)\",ROUND('[1]Tabla de Amortizacion'!#REF!,8),IF([1]CALCULADORA!$F$10=20%,ROUND('[1]Tabla de Amortizacion'!#REF!,8),ROUND('[1]Tabla de Amortizacion'!K9,8))))))","v":0}]
["2022-02-24",1.6100360000000001E-2,{"$f":"+VLOOKUP(A9,'Tabla de Amortizacion'!$D$2:$M$182,MATCH(Tablas!$B$1,'Tabla de Amortizacion'!$D$2:$M$2,0))","v":1.6100360000000001E-2},null,{"$f":"IF([1]CALCULADORA!$F$10=\"Contractual\",ROUND('[1]Tabla de Amortizacion'!C10,8),IF([1]CALCULADORA!$F$10=\"6% (Medio)\",ROUND('[1]Tabla de Amortizacion'!F10,8),IF([1]CALCULADORA!$F$10=\"10% (Medio Alto)\",ROUND('[1]Tabla de Amortizacion'!H10,8),IF([1]CALCULADORA!$F$10=\"14% (Alto)\",ROUND('[1]Tabla de Amortizacion'!#REF!,8),IF([1]CALCULADORA!$F$10=20%,ROUND('[1]Tabla de Amortizacion'!#REF!,8),ROUND('[1]Tabla de Amortizacion'!K10,8))))))","v":0}]
["2022-03-24",1.46862E-2,{"$f":"+VLOOKUP(A10,'Tabla de Amortizacion'!$D$2:$M$182,MATCH(Tablas!$B$1,'Tabla de Amortizacion'!$D$2:$M$2,0))","v":1.46862E-2},null,{"$f":"IF([1]CALCULADORA!$F$10=\"Contractual\",ROUND('[1]Tabla de Amortizacion'!C11,8),IF([1]CALCULADORA!$F$10=\"6% (Medio)\",ROUND('[1]Tabla de Amortizacion'!F11,8),IF([1]CALCULADORA!$F$10=\"10% (Medio Alto)\",ROUND('[1]Tabla de Amortizacion'!H11,8),IF([1]CALCULADORA!$F$10=\"14% (Alto)\",ROUND('[1]Tabla de Amortizacion'!#REF!,8),IF([1]CALCULADORA!$F$10=20%,ROUND('[1]Tabla de Amortizacion'!#REF!,8),ROUND('[1]Tabla de Amortizacion'!K11,8))))))","v":0}]
["2022-04-24",1.427731E-2,{"$f":"+VLOOKUP(A11,'Tabla de Amortizacion'!$D$2:$M$182,MATCH(Tablas!$B$1,'Tabla de Amortizacion'!$D$2:$M$2,0))","v":1.427731E-2},null,{"$f":"IF([1]CALCULADORA!$F$10=\"Contractual\",ROUND('[1]Tabla de Amortizacion'!C12,8),IF([1]CALCULADORA!$F$10=\"6% (Medio)\",ROUND('[1]Tabla de Amortizacion'!F12,8),IF([1]CALCULADORA!$F$10=\"10% (Medio Alto)\",ROUND('[1]Tabla de Amortizacion'!H12,8),IF([1]CALCULADORA!$F$10=\"14% (Alto)\",ROUND('[1]Tabla de Amortizacion'!#REF!,8),IF([1]CALCULADORA!$F$10=20%,ROUND('[1]Tabla de Amortizacion'!#REF!,8),ROUND('[1]Tabla de Amortizacion'!K12,8))))))","v":0}]
["2022-05-24",1.730595E-2,{"$f":"+VLOOKUP(A12,'Tabla de Amortizacion'!$D$2:$M$182,MATCH(Tablas!$B$1,'Tabla de Amortizacion'!$D$2:$M$2,0))","v":1.730595E-2},null,{"$f":"IF([1]CALCULADORA!$F$10=\"Contractual\",ROUND('[1]Tabla de Amortizacion'!C13,8),IF([1]CALCULADORA!$F$10=\"6% (Medio)\",ROUND('[1]Tabla de Amortizacion'!F13,8),IF([1]CALCULADORA!$F$10=\"10% (Medio Alto)\",ROUND('[1]Tabla de Amortizacion'!H13,8),IF([1]CALCULADORA!$F$10=\"14% (Alto)\",ROUND('[1]Tabla de Amortizacion'!#REF!,8),IF([1]CALCULADORA!$F$10=20%,ROUND('[1]Tabla de Amortizacion'!#REF!,8),ROUND('[1]Tabla de Amortizacion'!K13,8))))))","v":0}]
["2022-06-24",1.3769160000000001E-2,{"$f":"+VLOOKUP(A13,'Tabla de Amortizacion'!$D$2:$M$182,MATCH(Tablas!$B$1,'Tabla de Amortizacion'!$D$2:$M$2,0))","v":1.3769160000000001E-2},null,{"$f":"IF([1]CALCULADORA!$F$10=\"Contractual\",ROUND('[1]Tabla de Amortizacion'!C14,8),IF([1]CALCULADORA!$F$10=\"6% (Medio)\",ROUND('[1]Tabla de Amortizacion'!F14,8),IF([1]CALCULADORA!$F$10=\"10% (Medio Alto)\",ROUND('[1]Tabla de Amortizacion'!H14,8),IF([1]CALCULADORA!$F$10=\"14% (Alto)\",ROUND('[1]Tabla de Amortizacion'!#REF!,8),IF([1]CALCULADORA!$F$10=20%,ROUND('[1]Tabla de Amortizacion'!#REF!,8),ROUND('[1]Tabla de Amortizacion'!K14,8))))))","v":0}]
["2022-07-24",1.483369E-2,{"$f":"+VLOOKUP(A14,'Tabla de Amortizacion'!$D$2:$M$182,MATCH(Tablas!$B$1,'Tabla de Amortizacion'!$D$2:$M$2,0))","v":1.483369E-2},null,{"$f":"IF([1]CALCULADORA!$F$10=\"Contractual\",ROUND('[1]Tabla de Amortizacion'!C15,8),IF([1]CALCULADORA!$F$10=\"6% (Medio)\",ROUND('[1]Tabla de Amortizacion'!F15,8),IF([1]CALCULADORA!$F$10=\"10% (Medio Alto)\",ROUND('[1]Tabla de Amortizacion'!H15,8),IF([1]CALCULADORA!$F$10=\"14% (Alto)\",ROUND('[1]Tabla de Amortizacion'!#REF!,8),IF([1]CALCULADORA!$F$10=20%,ROUND('[1]Tabla de Amortizacion'!#REF!,8),ROUND('[1]Tabla de Amortizacion'!K15,8))))))","v":0}]
["2022-08-24",1.2893119999999999E-2,{"$f":"+VLOOKUP(A15,'Tabla de Amortizacion'!$D$2:$M$182,MATCH(Tablas!$B$1,'Tabla de Amortizacion'!$D$2:$M$2,0))","v":1.2893119999999999E-2},null,{"$f":"IF([1]CALCULADORA!$F$10=\"Contractual\",ROUND('[1]Tabla de Amortizacion'!C16,8),IF([1]CALCULADORA!$F$10=\"6% (Medio)\",ROUND('[1]Tabla de Amortizacion'!F16,8),IF([1]CALCULADORA!$F$10=\"10% (Medio Alto)\",ROUND('[1]Tabla de Amortizacion'!H16,8),IF([1]CALCULADORA!$F$10=\"14% (Alto)\",ROUND('[1]Tabla de Amortizacion'!#REF!,8),IF([1]CALCULADORA!$F$10=20%,ROUND('[1]Tabla de Amortizacion'!#REF!,8),ROUND('[1]Tabla de Amortizacion'!K16,8))))))","v":0}]
["2022-09-24",1.178352E-2,{"$f":"+VLOOKUP(A16,'Tabla de Amortizacion'!$D$2:$M$182,MATCH(Tablas!$B$1,'Tabla de Amortizacion'!$D$2:$M$2,0))","v":1.178352E-2},null,{"$f":"IF([1]CALCULADORA!$F$10=\"Contractual\",ROUND('[1]Tabla de Amortizacion'!C17,8),IF([1]CALCULADORA!$F$10=\"6% (Medio)\",ROUND('[1]Tabla de Amortizacion'!F17,8),IF([1]CALCULADORA!$F$10=\"10% (Medio Alto)\",ROUND('[1]Tabla de Amortizacion'!H17,8),IF([1]CALCULADORA!$F$10=\"14% (Alto)\",ROUND('[1]Tabla de Amortizacion'!#REF!,8),IF([1]CALCULADORA!$F$10=20%,ROUND('[1]Tabla de Amortizacion'!#REF!,8),ROUND('[1]Tabla de Amortizacion'!K17,8))))))","v":0}]
["2022-10-24",1.0406540000000001E-2,{"$f":"+VLOOKUP(A17,'Tabla de Amortizacion'!$D$2:$M$182,MATCH(Tablas!$B$1,'Tabla de Amortizacion'!$D$2:$M$2,0))","v":1.0406540000000001E-2},null,{"$f":"IF([1]CALCULADORA!$F$10=\"Contractual\",ROUND('[1]Tabla de Amortizacion'!C18,8),IF([1]CALCULADORA!$F$10=\"6% (Medio)\",ROUND('[1]Tabla de Amortizacion'!F18,8),IF([1]CALCULADORA!$F$10=\"10% (Medio Alto)\",ROUND('[1]Tabla de Amortizacion'!H18,8),IF([1]CALCULADORA!$F$10=\"14% (Alto)\",ROUND('[1]Tabla de Amortizacion'!#REF!,8),IF([1]CALCULADORA!$F$10=20%,ROUND('[1]Tabla de Amortizacion'!#REF!,8),ROUND('[1]Tabla de Amortizacion'!K18,8))))))","v":0}]
["2022-11-24",1.3268179999999999E-2,{"$f":"+VLOOKUP(A18,'Tabla de Amortizacion'!$D$2:$M$182,MATCH(Tablas!$B$1,'Tabla de Amortizacion'!$D$2:$M$2,0))","v":1.3268179999999999E-2},null,{"$f":"IF([1]CALCULADORA!$F$10=\"Contractual\",ROUND('[1]Tabla de Amortizacion'!C19,8),IF([1]CALCULADORA!$F$10=\"6% (Medio)\",ROUND('[1]Tabla de Amortizacion'!F19,8),IF([1]CALCULADORA!$F$10=\"10% (Medio Alto)\",ROUND('[1]Tabla de Amortizacion'!H19,8),IF([1]CALCULADORA!$F$10=\"14% (Alto)\",ROUND('[1]Tabla de Amortizacion'!#REF!,8),IF([1]CALCULADORA!$F$10=20%,ROUND('[1]Tabla de Amortizacion'!#REF!,8),ROUND('[1]Tabla de Amortizacion'!K19,8))))))","v":0}]
["2022-12-24",1.4011529999999999E-2,{"$f":"+VLOOKUP(A19,'Tabla de Amortizacion'!$D$2:$M$182,MATCH(Tablas!$B$1,'Tabla de Amortizacion'!$D$2:$M$2,0))","v":1.4011529999999999E-2},null,{"$f":"IF([1]CALCULADORA!$F$10=\"Contractual\",ROUND('[1]Tabla de Amortizacion'!C20,8),IF([1]CALCULADORA!$F$10=\"6% (Medio)\",ROUND('[1]Tabla de Amortizacion'!F20,8),IF([1]CALCULADORA!$F$10=\"10% (Medio Alto)\",ROUND('[1]Tabla de Amortizacion'!H20,8),IF([1]CALCULADORA!$F$10=\"14% (Alto)\",ROUND('[1]Tabla de Amortizacion'!#REF!,8),IF([1]CALCULADORA!$F$10=20%,ROUND('[1]Tabla de Amortizacion'!#REF!,8),ROUND('[1]Tabla de Amortizacion'!K20,8))))))","v":0}]
["2023-01-24",1.3735590000000001E-2,{"$f":"+VLOOKUP(A20,'Tabla de Amortizacion'!$D$2:$M$182,MATCH(Tablas!$B$1,'Tabla de Amortizacion'!$D$2:$M$2,0))","v":1.3735590000000001E-2},null,{"$f":"IF([1]CALCULADORA!$F$10=\"Contractual\",ROUND('[1]Tabla de Amortizacion'!C21,8),IF([1]CALCULADORA!$F$10=\"6% (Medio)\",ROUND('[1]Tabla de Amortizacion'!F21,8),IF([1]CALCULADORA!$F$10=\"10% (Medio Alto)\",ROUND('[1]Tabla de Amortizacion'!H21,8),IF([1]CALCULADORA!$F$10=\"14% (Alto)\",ROUND('[1]Tabla de Amortizacion'!#REF!,8),IF([1]CALCULADORA!$F$10=20%,ROUND('[1]Tabla de Amortizacion'!#REF!,8),ROUND('[1]Tabla de Amortizacion'!K21,8))))))","v":0}]
["2023-02-24",1.4403030000000001E-2,{"$f":"+VLOOKUP(A21,'Tabla de Amortizacion'!$D$2:$M$182,MATCH(Tablas!$B$1,'Tabla de Amortizacion'!$D$2:$M$2,0))","v":1.4403030000000001E-2},null,{"$f":"IF([1]CALCULADORA!$F$10=\"Contractual\",ROUND('[1]Tabla de Amortizacion'!C22,8),IF([1]CALCULADORA!$F$10=\"6% (Medio)\",ROUND('[1]Tabla de Amortizacion'!F22,8),IF([1]CALCULADORA!$F$10=\"10% (Medio Alto)\",ROUND('[1]Tabla de Amortizacion'!H22,8),IF([1]CALCULADORA!$F$10=\"14% (Alto)\",ROUND('[1]Tabla de Amortizacion'!#REF!,8),IF([1]CALCULADORA!$F$10=20%,ROUND('[1]Tabla de Amortizacion'!#REF!,8),ROUND('[1]Tabla de Amortizacion'!K22,8))))))","v":0}]
["2023-03-24",1.2226229999999999E-2,{"$f":"+VLOOKUP(A22,'Tabla de Amortizacion'!$D$2:$M$182,MATCH(Tablas!$B$1,'Tabla de Amortizacion'!$D$2:$M$2,0))","v":1.2226229999999999E-2},null,{"$f":"IF([1]CALCULADORA!$F$10=\"Contractual\",ROUND('[1]Tabla de Amortizacion'!C23,8),IF([1]CALCULADORA!$F$10=\"6% (Medio)\",ROUND('[1]Tabla de Amortizacion'!F23,8),IF([1]CALCULADORA!$F$10=\"10% (Medio Alto)\",ROUND('[1]Tabla de Amortizacion'!H23,8),IF([1]CALCULADORA!$F$10=\"14% (Alto)\",ROUND('[1]Tabla de Amortizacion'!#REF!,8),IF([1]CALCULADORA!$F$10=20%,ROUND('[1]Tabla de Amortizacion'!#REF!,8),ROUND('[1]Tabla de Amortizacion'!K23,8))))))","v":0}]
["2023-04-24",1.260328E-2,{"$f":"+VLOOKUP(A23,'Tabla de Amortizacion'!$D$2:$M$182,MATCH(Tablas!$B$1,'Tabla de Amortizacion'!$D$2:$M$2,0))","v":1.260328E-2},null,{"$f":"IF([1]CALCULADORA!$F$10=\"Contractual\",ROUND('[1]Tabla de Amortizacion'!C24,8),IF([1]CALCULADORA!$F$10=\"6% (Medio)\",ROUND('[1]Tabla de Amortizacion'!F24,8),IF([1]CALCULADORA!$F$10=\"10% (Medio Alto)\",ROUND('[1]Tabla de Amortizacion'!H24,8),IF([1]CALCULADORA!$F$10=\"14% (Alto)\",ROUND('[1]Tabla de Amortizacion'!#REF!,8),IF([1]CALCULADORA!$F$10=20%,ROUND('[1]Tabla de Amortizacion'!#REF!,8),ROUND('[1]Tabla de Amortizacion'!K24,8))))))","v":0}]
["2023-05-24",1.0628820000000001E-2,{"$f":"+VLOOKUP(A24,'Tabla de Amortizacion'!$D$2:$M$182,MATCH(Tablas!$B$1,'Tabla de Amortizacion'!$D$2:$M$2,0))","v":1.0628820000000001E-2},null,{"$f":"IF([1]CALCULADORA!$F$10=\"Contractual\",ROUND('[1]Tabla de Amortizacion'!C25,8),IF([1]CALCULADORA!$F$10=\"6% (Medio)\",ROUND('[1]Tabla de Amortizacion'!F25,8),IF([1]CALCULADORA!$F$10=\"10% (Medio Alto)\",ROUND('[1]Tabla de Amortizacion'!H25,8),IF([1]CALCULADORA!$F$10=\"14% (Alto)\",ROUND('[1]Tabla de Amortizacion'!#REF!,8),IF([1]CALCULADORA!$F$10=20%,ROUND('[1]Tabla de Amortizacion'!#REF!,8),ROUND('[1]Tabla de Amortizacion'!K25,8))))))","v":0}]
["2023-06-24",9.7083499999999993E-3,{"$f":"+VLOOKUP(A25,'Tabla de Amortizacion'!$D$2:$M$182,MATCH(Tablas!$B$1,'Tabla de Amortizacion'!$D$2:$M$2,0))","v":9.7083499999999993E-3},null,{"$f":"IF([1]CALCULADORA!$F$10=\"Contractual\",ROUND('[1]Tabla de Amortizacion'!C26,8),IF([1]CALCULADORA!$F$10=\"6% (Medio)\",ROUND('[1]Tabla de Amortizacion'!F26,8),IF([1]CALCULADORA!$F$10=\"10% (Medio Alto)\",ROUND('[1]Tabla de Amortizacion'!H26,8),IF([1]CALCULADORA!$F$10=\"14% (Alto)\",ROUND('[1]Tabla de Amortizacion'!#REF!,8),IF([1]CALCULADORA!$F$10=20%,ROUND('[1]Tabla de Amortizacion'!#REF!,8),ROUND('[1]Tabla de Amortizacion'!K26,8))))))","v":0}]
["2023-07-24",9.1862799999999998E-3,{"$f":"+VLOOKUP(A26,'Tabla de Amortizacion'!$D$2:$M$182,MATCH(Tablas!$B$1,'Tabla de Amortizacion'!$D$2:$M$2,0))","v":9.1862799999999998E-3},null,{"$f":"IF([1]CALCULADORA!$F$10=\"Contractual\",ROUND('[1]Tabla de Amortizacion'!C27,8),IF([1]CALCULADORA!$F$10=\"6% (Medio)\",ROUND('[1]Tabla de Amortizacion'!F27,8),IF([1]CALCULADORA!$F$10=\"10% (Medio Alto)\",ROUND('[1]Tabla de Amortizacion'!H27,8),IF([1]CALCULADORA!$F$10=\"14% (Alto)\",ROUND('[1]Tabla de Amortizacion'!#REF!,8),IF([1]CALCULADORA!$F$10=20%,ROUND('[1]Tabla de Amortizacion'!#REF!,8),ROUND('[1]Tabla de Amortizacion'!K27,8))))))","v":0}]
["2023-08-24",1.3526109999999999E-2,{"$f":"+VLOOKUP(A27,'Tabla de Amortizacion'!$D$2:$M$182,MATCH(Tablas!$B$1,'Tabla de Amortizacion'!$D$2:$M$2,0))","v":1.3526109999999999E-2},null,{"$f":"IF([1]CALCULADORA!$F$10=\"Contractual\",ROUND('[1]Tabla de Amortizacion'!C28,8),IF([1]CALCULADORA!$F$10=\"6% (Medio)\",ROUND('[1]Tabla de Amortizacion'!F28,8),IF([1]CALCULADORA!$F$10=\"10% (Medio Alto)\",ROUND('[1]Tabla de Amortizacion'!H28,8),IF([1]CALCULADORA!$F$10=\"14% (Alto)\",ROUND('[1]Tabla de Amortizacion'!#REF!,8),IF([1]CALCULADORA!$F$10=20%,ROUND('[1]Tabla de Amortizacion'!#REF!,8),ROUND('[1]Tabla de Amortizacion'!K28,8))))))","v":0}]
["2023-09-24",1.1434740000000001E-2,{"$f":"+VLOOKUP(A28,'Tabla de Amortizacion'!$D$2:$M$182,MATCH(Tablas!$B$1,'Tabla de Amortizacion'!$D$2:$M$2,0))","v":1.1434740000000001E-2},null,{"$f":"IF([1]CALCULADORA!$F$10=\"Contractual\",ROUND('[1]Tabla de Amortizacion'!C29,8),IF([1]CALCULADORA!$F$10=\"6% (Medio)\",ROUND('[1]Tabla de Amortizacion'!F29,8),IF([1]CALCULADORA!$F$10=\"10% (Medio Alto)\",ROUND('[1]Tabla de Amortizacion'!H29,8),IF([1]CALCULADORA!$F$10=\"14% (Alto)\",ROUND('[1]Tabla de Amortizacion'!#REF!,8),IF([1]CALCULADORA!$F$10=20%,ROUND('[1]Tabla de Amortizacion'!#REF!,8),ROUND('[1]Tabla de Amortizacion'!K29,8))))))","v":0}]
["2023-10-24",8.3203400000000007E-3,{"$f":"+VLOOKUP(A29,'Tabla de Amortizacion'!$D$2:$M$182,MATCH(Tablas!$B$1,'Tabla de Amortizacion'!$D$2:$M$2,0))","v":8.3203400000000007E-3},null,{"$f":"IF([1]CALCULADORA!$F$10=\"Contractual\",ROUND('[1]Tabla de Amortizacion'!C30,8),IF([1]CALCULADORA!$F$10=\"6% (Medio)\",ROUND('[1]Tabla de Amortizacion'!F30,8),IF([1]CALCULADORA!$F$10=\"10% (Medio Alto)\",ROUND('[1]Tabla de Amortizacion'!H30,8),IF([1]CALCULADORA!$F$10=\"14% (Alto)\",ROUND('[1]Tabla de Amortizacion'!#REF!,8),IF([1]CALCULADORA!$F$10=20%,ROUND('[1]Tabla de Amortizacion'!#REF!,8),ROUND('[1]Tabla de Amortizacion'!K30,8))))))","v":0}]
["2023-11-24",1.294797E-2,{"$f":"+VLOOKUP(A30,'Tabla de Amortizacion'!$D$2:$M$182,MATCH(Tablas!$B$1,'Tabla de Amortizacion'!$D$2:$M$2,0))","v":1.294797E-2},null,{"$f":"IF([1]CALCULADORA!$F$10=\"Contractual\",ROUND('[1]Tabla de Amortizacion'!C31,8),IF([1]CALCULADORA!$F$10=\"6% (Medio)\",ROUND('[1]Tabla de Amortizacion'!F31,8),IF([1]CALCULADORA!$F$10=\"10% (Medio Alto)\",ROUND('[1]Tabla de Amortizacion'!H31,8),IF([1]CALCULADORA!$F$10=\"14% (Alto)\",ROUND('[1]Tabla de Amortizacion'!#REF!,8),IF([1]CALCULADORA!$F$10=20%,ROUND('[1]Tabla de Amortizacion'!#REF!,8),ROUND('[1]Tabla de Amortizacion'!K31,8))))))","v":0}]
["2023-12-24",9.2125000000000002E-3,{"$f":"+VLOOKUP(A31,'Tabla de Amortizacion'!$D$2:$M$182,MATCH(Tablas!$B$1,'Tabla de Amortizacion'!$D$2:$M$2,0))","v":9.2125000000000002E-3},null,{"$f":"IF([1]CALCULADORA!$F$10=\"Contractual\",ROUND('[1]Tabla de Amortizacion'!C32,8),IF([1]CALCULADORA!$F$10=\"6% (Medio)\",ROUND('[1]Tabla de Amortizacion'!F32,8),IF([1]CALCULADORA!$F$10=\"10% (Medio Alto)\",ROUND('[1]Tabla de Amortizacion'!H32,8),IF([1]CALCULADORA!$F$10=\"14% (Alto)\",ROUND('[1]Tabla de Amortizacion'!#REF!,8),IF([1]CALCULADORA!$F$10=20%,ROUND('[1]Tabla de Amortizacion'!#REF!,8),ROUND('[1]Tabla de Amortizacion'!K32,8))))))","v":0}]
["2024-01-24",1.153683E-2,{"$f":"+VLOOKUP(A32,'Tabla de Amortizacion'!$D$2:$M$182,MATCH(Tablas!$B$1,'Tabla de Amortizacion'!$D$2:$M$2,0))","v":1.153683E-2},null,{"$f":"IF([1]CALCULADORA!$F$10=\"Contractual\",ROUND('[1]Tabla de Amortizacion'!C33,8),IF([1]CALCULADORA!$F$10=\"6% (Medio)\",ROUND('[1]Tabla de Amortizacion'!F33,8),IF([1]CALCULADORA!$F$10=\"10% (Medio Alto)\",ROUND('[1]Tabla de Amortizacion'!H33,8),IF([1]CALCULADORA!$F$10=\"14% (Alto)\",ROUND('[1]Tabla de Amortizacion'!#REF!,8),IF([1]CALCULADORA!$F$10=20%,ROUND('[1]Tabla de Amortizacion'!#REF!,8),ROUND('[1]Tabla de Amortizacion'!K33,8))))))","v":0}]
["2024-02-24",1.000793E-2,{"$f":"+VLOOKUP(A33,'Tabla de Amortizacion'!$D$2:$M$182,MATCH(Tablas!$B$1,'Tabla de Amortizacion'!$D$2:$M$2,0))","v":1.000793E-2},null,{"$f":"IF([1]CALCULADORA!$F$10=\"Contractual\",ROUND('[1]Tabla de Amortizacion'!C34,8),IF([1]CALCULADORA!$F$10=\"6% (Medio)\",ROUND('[1]Tabla de Amortizacion'!F34,8),IF([1]CALCULADORA!$F$10=\"10% (Medio Alto)\",ROUND('[1]Tabla de Amortizacion'!H34,8),IF([1]CALCULADORA!$F$10=\"14% (Alto)\",ROUND('[1]Tabla de Amortizacion'!#REF!,8),IF([1]CALCULADORA!$F$10=20%,ROUND('[1]Tabla de Amortizacion'!#REF!,8),ROUND('[1]Tabla de Amortizacion'!K34,8))))))","v":0}]
["2024-03-24",9.8681800000000007E-3,{"$f":"+VLOOKUP(A34,'Tabla de Amortizacion'!$D$2:$M$182,MATCH(Tablas!$B$1,'Tabla de Amortizacion'!$D$2:$M$2,0))","v":9.8681800000000007E-3},null,{"$f":"IF([1]CALCULADORA!$F$10=\"Contractual\",ROUND('[1]Tabla de Amortizacion'!C35,8),IF([1]CALCULADORA!$F$10=\"6% (Medio)\",ROUND('[1]Tabla de Amortizacion'!F35,8),IF([1]CALCULADORA!$F$10=\"10% (Medio Alto)\",ROUND('[1]Tabla de Amortizacion'!H35,8),IF([1]CALCULADORA!$F$10=\"14% (Alto)\",ROUND('[1]Tabla de Amortizacion'!#REF!,8),IF([1]CALCULADORA!$F$10=20%,ROUND('[1]Tabla de Amortizacion'!#REF!,8),ROUND('[1]Tabla de Amortizacion'!K35,8))))))","v":0}]
["2024-04-24",9.8306799999999996E-3,{"$f":"+VLOOKUP(A35,'Tabla de Amortizacion'!$D$2:$M$182,MATCH(Tablas!$B$1,'Tabla de Amortizacion'!$D$2:$M$2,0))","v":9.8306799999999996E-3},null,{"$f":"IF([1]CALCULADORA!$F$10=\"Contractual\",ROUND('[1]Tabla de Amortizacion'!C36,8),IF([1]CALCULADORA!$F$10=\"6% (Medio)\",ROUND('[1]Tabla de Amortizacion'!F36,8),IF([1]CALCULADORA!$F$10=\"10% (Medio Alto)\",ROUND('[1]Tabla de Amortizacion'!H36,8),IF([1]CALCULADORA!$F$10=\"14% (Alto)\",ROUND('[1]Tabla de Amortizacion'!#REF!,8),IF([1]CALCULADORA!$F$10=20%,ROUND('[1]Tabla de Amortizacion'!#REF!,8),ROUND('[1]Tabla de Amortizacion'!K36,8))))))","v":0}]
["2024-05-24",9.7187200000000001E-3,{"$f":"+VLOOKUP(A36,'Tabla de Amortizacion'!$D$2:$M$182,MATCH(Tablas!$B$1,'Tabla de Amortizacion'!$D$2:$M$2,0))","v":9.7187200000000001E-3},null,{"$f":"IF([1]CALCULADORA!$F$10=\"Contractual\",ROUND('[1]Tabla de Amortizacion'!C37,8),IF([1]CALCULADORA!$F$10=\"6% (Medio)\",ROUND('[1]Tabla de Amortizacion'!F37,8),IF([1]CALCULADORA!$F$10=\"10% (Medio Alto)\",ROUND('[1]Tabla de Amortizacion'!H37,8),IF([1]CALCULADORA!$F$10=\"14% (Alto)\",ROUND('[1]Tabla de Amortizacion'!#REF!,8),IF([1]CALCULADORA!$F$10=20%,ROUND('[1]Tabla de Amortizacion'!#REF!,8),ROUND('[1]Tabla de Amortizacion'!K37,8))))))","v":0}]
["2024-06-24",9.4589199999999991E-3,{"$f":"+VLOOKUP(A37,'Tabla de Amortizacion'!$D$2:$M$182,MATCH(Tablas!$B$1,'Tabla de Amortizacion'!$D$2:$M$2,0))","v":9.4589199999999991E-3},null,{"$f":"IF([1]CALCULADORA!$F$10=\"Contractual\",ROUND('[1]Tabla de Amortizacion'!C38,8),IF([1]CALCULADORA!$F$10=\"6% (Medio)\",ROUND('[1]Tabla de Amortizacion'!F38,8),IF([1]CALCULADORA!$F$10=\"10% (Medio Alto)\",ROUND('[1]Tabla de Amortizacion'!H38,8),IF([1]CALCULADORA!$F$10=\"14% (Alto)\",ROUND('[1]Tabla de Amortizacion'!#REF!,8),IF([1]CALCULADORA!$F$10=20%,ROUND('[1]Tabla de Amortizacion'!#REF!,8),ROUND('[1]Tabla de Amortizacion'!K38,8))))))","v":0}]
["2024-07-24",9.5384900000000002E-3,{"$f":"+VLOOKUP(A38,'Tabla de Amortizacion'!$D$2:$M$182,MATCH(Tablas!$B$1,'Tabla de Amortizacion'!$D$2:$M$2,0))","v":9.5384900000000002E-3},null,{"$f":"IF([1]CALCULADORA!$F$10=\"Contractual\",ROUND('[1]Tabla de Amortizacion'!C39,8),IF([1]CALCULADORA!$F$10=\"6% (Medio)\",ROUND('[1]Tabla de Amortizacion'!F39,8),IF([1]CALCULADORA!$F$10=\"10% (Medio Alto)\",ROUND('[1]Tabla de Amortizacion'!H39,8),IF([1]CALCULADORA!$F$10=\"14% (Alto)\",ROUND('[1]Tabla de Amortizacion'!#REF!,8),IF([1]CALCULADORA!$F$10=20%,ROUND('[1]Tabla de Amortizacion'!#REF!,8),ROUND('[1]Tabla de Amortizacion'!K39,8))))))","v":0}]
["2024-08-24",9.4232399999999994E-3,{"$f":"+VLOOKUP(A39,'Tabla de Amortizacion'!$D$2:$M$182,MATCH(Tablas!$B$1,'Tabla de Amortizacion'!$D$2:$M$2,0))","v":9.4232399999999994E-3},null,{"$f":"IF([1]CALCULADORA!$F$10=\"Contractual\",ROUND('[1]Tabla de Amortizacion'!C40,8),IF([1]CALCULADORA!$F$10=\"6% (Medio)\",ROUND('[1]Tabla de Amortizacion'!F40,8),IF([1]CALCULADORA!$F$10=\"10% (Medio Alto)\",ROUND('[1]Tabla de Amortizacion'!H40,8),IF([1]CALCULADORA!$F$10=\"14% (Alto)\",ROUND('[1]Tabla de Amortizacion'!#REF!,8),IF([1]CALCULADORA!$F$10=20%,ROUND('[1]Tabla de Amortizacion'!#REF!,8),ROUND('[1]Tabla de Amortizacion'!K40,8))))))","v":0}]
["2024-09-24",9.3414699999999993E-3,{"$f":"+VLOOKUP(A40,'Tabla de Amortizacion'!$D$2:$M$182,MATCH(Tablas!$B$1,'Tabla de Amortizacion'!$D$2:$M$2,0))","v":9.3414699999999993E-3},null,{"$f":"IF([1]CALCULADORA!$F$10=\"Contractual\",ROUND('[1]Tabla de Amortizacion'!C41,8),IF([1]CALCULADORA!$F$10=\"6% (Medio)\",ROUND('[1]Tabla de Amortizacion'!F41,8),IF([1]CALCULADORA!$F$10=\"10% (Medio Alto)\",ROUND('[1]Tabla de Amortizacion'!H41,8),IF([1]CALCULADORA!$F$10=\"14% (Alto)\",ROUND('[1]Tabla de Amortizacion'!#REF!,8),IF([1]CALCULADORA!$F$10=20%,ROUND('[1]Tabla de Amortizacion'!#REF!,8),ROUND('[1]Tabla de Amortizacion'!K41,8))))))","v":0}]
["2024-10-24",9.2238000000000007E-3,{"$f":"+VLOOKUP(A41,'Tabla de Amortizacion'!$D$2:$M$182,MATCH(Tablas!$B$1,'Tabla de Amortizacion'!$D$2:$M$2,0))","v":9.2238000000000007E-3},null,{"$f":"IF([1]CALCULADORA!$F$10=\"Contractual\",ROUND('[1]Tabla de Amortizacion'!C42,8),IF([1]CALCULADORA!$F$10=\"6% (Medio)\",ROUND('[1]Tabla de Amortizacion'!F42,8),IF([1]CALCULADORA!$F$10=\"10% (Medio Alto)\",ROUND('[1]Tabla de Amortizacion'!H42,8),IF([1]CALCULADORA!$F$10=\"14% (Alto)\",ROUND('[1]Tabla de Amortizacion'!#REF!,8),IF([1]CALCULADORA!$F$10=20%,ROUND('[1]Tabla de Amortizacion'!#REF!,8),ROUND('[1]Tabla de Amortizacion'!K42,8))))))","v":0}]
["2024-11-24",9.1362800000000001E-3,{"$f":"+VLOOKUP(A42,'Tabla de Amortizacion'!$D$2:$M$182,MATCH(Tablas!$B$1,'Tabla de Amortizacion'!$D$2:$M$2,0))","v":9.1362800000000001E-3},null,{"$f":"IF([1]CALCULADORA!$F$10=\"Contractual\",ROUND('[1]Tabla de Amortizacion'!C43,8),IF([1]CALCULADORA!$F$10=\"6% (Medio)\",ROUND('[1]Tabla de Amortizacion'!F43,8),IF([1]CALCULADORA!$F$10=\"10% (Medio Alto)\",ROUND('[1]Tabla de Amortizacion'!H43,8),IF([1]CALCULADORA!$F$10=\"14% (Alto)\",ROUND('[1]Tabla de Amortizacion'!#REF!,8),IF([1]CALCULADORA!$F$10=20%,ROUND('[1]Tabla de Amortizacion'!#REF!,8),ROUND('[1]Tabla de Amortizacion'!K43,8))))))","v":0}]
["2024-12-24",9.0608100000000007E-3,{"$f":"+VLOOKUP(A43,'Tabla de Amortizacion'!$D$2:$M$182,MATCH(Tablas!$B$1,'Tabla de Amortizacion'!$D$2:$M$2,0))","v":9.0608100000000007E-3},null,{"$f":"IF([1]CALCULADORA!$F$10=\"Contractual\",ROUND('[1]Tabla de Amortizacion'!C44,8),IF([1]CALCULADORA!$F$10=\"6% (Medio)\",ROUND('[1]Tabla de Amortizacion'!F44,8),IF([1]CALCULADORA!$F$10=\"10% (Medio Alto)\",ROUND('[1]Tabla de Amortizacion'!H44,8),IF([1]CALCULADORA!$F$10=\"14% (Alto)\",ROUND('[1]Tabla de Amortizacion'!#REF!,8),IF([1]CALCULADORA!$F$10=20%,ROUND('[1]Tabla de Amortizacion'!#REF!,8),ROUND('[1]Tabla de Amortizacion'!K44,8))))))","v":0}]
["2025-01-24",8.9694400000000004E-3,{"$f":"+VLOOKUP(A44,'Tabla de Amortizacion'!$D$2:$M$182,MATCH(Tablas!$B$1,'Tabla de Amortizacion'!$D$2:$M$2,0))","v":8.9694400000000004E-3},null,{"$f":"IF([1]CALCULADORA!$F$10=\"Contractual\",ROUND('[1]Tabla de Amortizacion'!C45,8),IF([1]CALCULADORA!$F$10=\"6% (Medio)\",ROUND('[1]Tabla de Amortizacion'!F45,8),IF([1]CALCULADORA!$F$10=\"10% (Medio Alto)\",ROUND('[1]Tabla de Amortizacion'!H45,8),IF([1]CALCULADORA!$F$10=\"14% (Alto)\",ROUND('[1]Tabla de Amortizacion'!#REF!,8),IF([1]CALCULADORA!$F$10=20%,ROUND('[1]Tabla de Amortizacion'!#REF!,8),ROUND('[1]Tabla de Amortizacion'!K45,8))))))","v":0}]
["2025-02-24",8.9177700000000002E-3,{"$f":"+VLOOKUP(A45,'Tabla de Amortizacion'!$D$2:$M$182,MATCH(Tablas!$B$1,'Tabla de Amortizacion'!$D$2:$M$2,0))","v":8.9177700000000002E-3},null,{"$f":"IF([1]CALCULADORA!$F$10=\"Contractual\",ROUND('[1]Tabla de Amortizacion'!C46,8),IF([1]CALCULADORA!$F$10=\"6% (Medio)\",ROUND('[1]Tabla de Amortizacion'!F46,8),IF([1]CALCULADORA!$F$10=\"10% (Medio Alto)\",ROUND('[1]Tabla de Amortizacion'!H46,8),IF([1]CALCULADORA!$F$10=\"14% (Alto)\",ROUND('[1]Tabla de Amortizacion'!#REF!,8),IF([1]CALCULADORA!$F$10=20%,ROUND('[1]Tabla de Amortizacion'!#REF!,8),ROUND('[1]Tabla de Amortizacion'!K46,8))))))","v":0}]
["2025-03-24",8.7990599999999992E-3,{"$f":"+VLOOKUP(A46,'Tabla de Amortizacion'!$D$2:$M$182,MATCH(Tablas!$B$1,'Tabla de Amortizacion'!$D$2:$M$2,0))","v":8.7990599999999992E-3},null,{"$f":"IF([1]CALCULADORA!$F$10=\"Contractual\",ROUND('[1]Tabla de Amortizacion'!C47,8),IF([1]CALCULADORA!$F$10=\"6% (Medio)\",ROUND('[1]Tabla de Amortizacion'!F47,8),IF([1]CALCULADORA!$F$10=\"10% (Medio Alto)\",ROUND('[1]Tabla de Amortizacion'!H47,8),IF([1]CALCULADORA!$F$10=\"14% (Alto)\",ROUND('[1]Tabla de Amortizacion'!#REF!,8),IF([1]CALCULADORA!$F$10=20%,ROUND('[1]Tabla de Amortizacion'!#REF!,8),ROUND('[1]Tabla de Amortizacion'!K47,8))))))","v":0}]
["2025-04-24",8.7516899999999995E-3,{"$f":"+VLOOKUP(A47,'Tabla de Amortizacion'!$D$2:$M$182,MATCH(Tablas!$B$1,'Tabla de Amortizacion'!$D$2:$M$2,0))","v":8.7516899999999995E-3},null,{"$f":"IF([1]CALCULADORA!$F$10=\"Contractual\",ROUND('[1]Tabla de Amortizacion'!C48,8),IF([1]CALCULADORA!$F$10=\"6% (Medio)\",ROUND('[1]Tabla de Amortizacion'!F48,8),IF([1]CALCULADORA!$F$10=\"10% (Medio Alto)\",ROUND('[1]Tabla de Amortizacion'!H48,8),IF([1]CALCULADORA!$F$10=\"14% (Alto)\",ROUND('[1]Tabla de Amortizacion'!#REF!,8),IF([1]CALCULADORA!$F$10=20%,ROUND('[1]Tabla de Amortizacion'!#REF!,8),ROUND('[1]Tabla de Amortizacion'!K48,8))))))","v":0}]
["2025-05-24",8.6479899999999995E-3,{"$f":"+VLOOKUP(A48,'Tabla de Amortizacion'!$D$2:$M$182,MATCH(Tablas!$B$1,'Tabla de Amortizacion'!$D$2:$M$2,0))","v":8.6479899999999995E-3},null,{"$f":"IF([1]CALCULADORA!$F$10=\"Contractual\",ROUND('[1]Tabla de Amortizacion'!C49,8),IF([1]CALCULADORA!$F$10=\"6% (Medio)\",ROUND('[1]Tabla de Amortizacion'!F49,8),IF([1]CALCULADORA!$F$10=\"10% (Medio Alto)\",ROUND('[1]Tabla de Amortizacion'!H49,8),IF([1]CALCULADORA!$F$10=\"14% (Alto)\",ROUND('[1]Tabla de Amortizacion'!#REF!,8),IF([1]CALCULADORA!$F$10=20%,ROUND('[1]Tabla de Amortizacion'!#REF!,8),ROUND('[1]Tabla de Amortizacion'!K49,8))))))","v":0}]
["2025-06-24",8.3958499999999998E-3,{"$f":"+VLOOKUP(A49,'Tabla de Amortizacion'!$D$2:$M$182,MATCH(Tablas!$B$1,'Tabla de Amortizacion'!$D$2:$M$2,0))","v":8.3958499999999998E-3},null,{"$f":"IF([1]CALCULADORA!$F$10=\"Contractual\",ROUND('[1]Tabla de Amortizacion'!C50,8),IF([1]CALCULADORA!$F$10=\"6% (Medio)\",ROUND('[1]Tabla de Amortizacion'!F50,8),IF([1]CALCULADORA!$F$10=\"10% (Medio Alto)\",ROUND('[1]Tabla de Amortizacion'!H50,8),IF([1]CALCULADORA!$F$10=\"14% (Alto)\",ROUND('[1]Tabla de Amortizacion'!#REF!,8),IF([1]CALCULADORA!$F$10=20%,ROUND('[1]Tabla de Amortizacion'!#REF!,8),ROUND('[1]Tabla de Amortizacion'!K50,8))))))","v":0}]
["2025-07-24",8.5091100000000003E-3,{"$f":"+VLOOKUP(A50,'Tabla de Amortizacion'!$D$2:$M$182,MATCH(Tablas!$B$1,'Tabla de Amortizacion'!$D$2:$M$2,0))","v":8.5091100000000003E-3},null,{"$f":"IF([1]CALCULADORA!$F$10=\"Contractual\",ROUND('[1]Tabla de Amortizacion'!C51,8),IF([1]CALCULADORA!$F$10=\"6% (Medio)\",ROUND('[1]Tabla de Amortizacion'!F51,8),IF([1]CALCULADORA!$F$10=\"10% (Medio Alto)\",ROUND('[1]Tabla de Amortizacion'!H51,8),IF([1]CALCULADORA!$F$10=\"14% (Alto)\",ROUND('[1]Tabla de Amortizacion'!#REF!,8),IF([1]CALCULADORA!$F$10=20%,ROUND('[1]Tabla de Amortizacion'!#REF!,8),ROUND('[1]Tabla de Amortizacion'!K51,8))))))","v":0}]
["2025-08-24",8.46009E-3,{"$f":"+VLOOKUP(A51,'Tabla de Amortizacion'!$D$2:$M$182,MATCH(Tablas!$B$1,'Tabla de Amortizacion'!$D$2:$M$2,0))","v":8.46009E-3},null,{"$f":"IF([1]CALCULADORA!$F$10=\"Contractual\",ROUND('[1]Tabla de Amortizacion'!C52,8),IF([1]CALCULADORA!$F$10=\"6% (Medio)\",ROUND('[1]Tabla de Amortizacion'!F52,8),IF([1]CALCULADORA!$F$10=\"10% (Medio Alto)\",ROUND('[1]Tabla de Amortizacion'!H52,8),IF([1]CALCULADORA!$F$10=\"14% (Alto)\",ROUND('[1]Tabla de Amortizacion'!#REF!,8),IF([1]CALCULADORA!$F$10=20%,ROUND('[1]Tabla de Amortizacion'!#REF!,8),ROUND('[1]Tabla de Amortizacion'!K52,8))))))","v":0}]
["2025-09-24",8.3696399999999994E-3,{"$f":"+VLOOKUP(A52,'Tabla de Amortizacion'!$D$2:$M$182,MATCH(Tablas!$B$1,'Tabla de Amortizacion'!$D$2:$M$2,0))","v":8.3696399999999994E-3},null,{"$f":"IF([1]CALCULADORA!$F$10=\"Contractual\",ROUND('[1]Tabla de Amortizacion'!C53,8),IF([1]CALCULADORA!$F$10=\"6% (Medio)\",ROUND('[1]Tabla de Amortizacion'!F53,8),IF([1]CALCULADORA!$F$10=\"10% (Medio Alto)\",ROUND('[1]Tabla de Amortizacion'!H53,8),IF([1]CALCULADORA!$F$10=\"14% (Alto)\",ROUND('[1]Tabla de Amortizacion'!#REF!,8),IF([1]CALCULADORA!$F$10=20%,ROUND('[1]Tabla de Amortizacion'!#REF!,8),ROUND('[1]Tabla de Amortizacion'!K53,8))))))","v":0}]
["2025-10-24",8.2812700000000003E-3,{"$f":"+VLOOKUP(A53,'Tabla de Amortizacion'!$D$2:$M$182,MATCH(Tablas!$B$1,'Tabla de Amortizacion'!$D$2:$M$2,0))","v":8.2812700000000003E-3},null,{"$f":"IF([1]CALCULADORA!$F$10=\"Contractual\",ROUND('[1]Tabla de Amortizacion'!C54,8),IF([1]CALCULADORA!$F$10=\"6% (Medio)\",ROUND('[1]Tabla de Amortizacion'!F54,8),IF([1]CALCULADORA!$F$10=\"10% (Medio Alto)\",ROUND('[1]Tabla de Amortizacion'!H54,8),IF([1]CALCULADORA!$F$10=\"14% (Alto)\",ROUND('[1]Tabla de Amortizacion'!#REF!,8),IF([1]CALCULADORA!$F$10=20%,ROUND('[1]Tabla de Amortizacion'!#REF!,8),ROUND('[1]Tabla de Amortizacion'!K54,8))))))","v":0}]
["2025-11-24",8.2385600000000007E-3,{"$f":"+VLOOKUP(A54,'Tabla de Amortizacion'!$D$2:$M$182,MATCH(Tablas!$B$1,'Tabla de Amortizacion'!$D$2:$M$2,0))","v":8.2385600000000007E-3},null,{"$f":"IF([1]CALCULADORA!$F$10=\"Contractual\",ROUND('[1]Tabla de Amortizacion'!C55,8),IF([1]CALCULADORA!$F$10=\"6% (Medio)\",ROUND('[1]Tabla de Amortizacion'!F55,8),IF([1]CALCULADORA!$F$10=\"10% (Medio Alto)\",ROUND('[1]Tabla de Amortizacion'!H55,8),IF([1]CALCULADORA!$F$10=\"14% (Alto)\",ROUND('[1]Tabla de Amortizacion'!#REF!,8),IF([1]CALCULADORA!$F$10=20%,ROUND('[1]Tabla de Amortizacion'!#REF!,8),ROUND('[1]Tabla de Amortizacion'!K55,8))))))","v":0}]
["2025-12-24",8.1326899999999997E-3,{"$f":"+VLOOKUP(A55,'Tabla de Amortizacion'!$D$2:$M$182,MATCH(Tablas!$B$1,'Tabla de Amortizacion'!$D$2:$M$2,0))","v":8.1326899999999997E-3},null,{"$f":"IF([1]CALCULADORA!$F$10=\"Contractual\",ROUND('[1]Tabla de Amortizacion'!C56,8),IF([1]CALCULADORA!$F$10=\"6% (Medio)\",ROUND('[1]Tabla de Amortizacion'!F56,8),IF([1]CALCULADORA!$F$10=\"10% (Medio Alto)\",ROUND('[1]Tabla de Amortizacion'!H56,8),IF([1]CALCULADORA!$F$10=\"14% (Alto)\",ROUND('[1]Tabla de Amortizacion'!#REF!,8),IF([1]CALCULADORA!$F$10=20%,ROUND('[1]Tabla de Amortizacion'!#REF!,8),ROUND('[1]Tabla de Amortizacion'!K56,8))))))","v":0}]
["2026-01-24",8.0575500000000001E-3,{"$f":"+VLOOKUP(A56,'Tabla de Amortizacion'!$D$2:$M$182,MATCH(Tablas!$B$1,'Tabla de Amortizacion'!$D$2:$M$2,0))","v":8.0575500000000001E-3},null,{"$f":"IF([1]CALCULADORA!$F$10=\"Contractual\",ROUND('[1]Tabla de Amortizacion'!C57,8),IF([1]CALCULADORA!$F$10=\"6% (Medio)\",ROUND('[1]Tabla de Amortizacion'!F57,8),IF([1]CALCULADORA!$F$10=\"10% (Medio Alto)\",ROUND('[1]Tabla de Amortizacion'!H57,8),IF([1]CALCULADORA!$F$10=\"14% (Alto)\",ROUND('[1]Tabla de Amortizacion'!#REF!,8),IF([1]CALCULADORA!$F$10=20%,ROUND('[1]Tabla de Amortizacion'!#REF!,8),ROUND('[1]Tabla de Amortizacion'!K57,8))))))","v":0}]
["2026-02-24",7.9679799999999995E-3,{"$f":"+VLOOKUP(A57,'Tabla de Amortizacion'!$D$2:$M$182,MATCH(Tablas!$B$1,'Tabla de Amortizacion'!$D$2:$M$2,0))","v":7.9679799999999995E-3},null,{"$f":"IF([1]CALCULADORA!$F$10=\"Contractual\",ROUND('[1]Tabla de Amortizacion'!C58,8),IF([1]CALCULADORA!$F$10=\"6% (Medio)\",ROUND('[1]Tabla de Amortizacion'!F58,8),IF([1]CALCULADORA!$F$10=\"10% (Medio Alto)\",ROUND('[1]Tabla de Amortizacion'!H58,8),IF([1]CALCULADORA!$F$10=\"14% (Alto)\",ROUND('[1]Tabla de Amortizacion'!#REF!,8),IF([1]CALCULADORA!$F$10=20%,ROUND('[1]Tabla de Amortizacion'!#REF!,8),ROUND('[1]Tabla de Amortizacion'!K58,8))))))","v":0}]
["2026-03-24",7.8977200000000004E-3,{"$f":"+VLOOKUP(A58,'Tabla de Amortizacion'!$D$2:$M$182,MATCH(Tablas!$B$1,'Tabla de Amortizacion'!$D$2:$M$2,0))","v":7.8977200000000004E-3},null,{"$f":"IF([1]CALCULADORA!$F$10=\"Contractual\",ROUND('[1]Tabla de Amortizacion'!C59,8),IF([1]CALCULADORA!$F$10=\"6% (Medio)\",ROUND('[1]Tabla de Amortizacion'!F59,8),IF([1]CALCULADORA!$F$10=\"10% (Medio Alto)\",ROUND('[1]Tabla de Amortizacion'!H59,8),IF([1]CALCULADORA!$F$10=\"14% (Alto)\",ROUND('[1]Tabla de Amortizacion'!#REF!,8),IF([1]CALCULADORA!$F$10=20%,ROUND('[1]Tabla de Amortizacion'!#REF!,8),ROUND('[1]Tabla de Amortizacion'!K59,8))))))","v":0}]
["2026-04-24",7.8342299999999993E-3,{"$f":"+VLOOKUP(A59,'Tabla de Amortizacion'!$D$2:$M$182,MATCH(Tablas!$B$1,'Tabla de Amortizacion'!$D$2:$M$2,0))","v":7.8342299999999993E-3},null,{"$f":"IF([1]CALCULADORA!$F$10=\"Contractual\",ROUND('[1]Tabla de Amortizacion'!C60,8),IF([1]CALCULADORA!$F$10=\"6% (Medio)\",ROUND('[1]Tabla de Amortizacion'!F60,8),IF([1]CALCULADORA!$F$10=\"10% (Medio Alto)\",ROUND('[1]Tabla de Amortizacion'!H60,8),IF([1]CALCULADORA!$F$10=\"14% (Alto)\",ROUND('[1]Tabla de Amortizacion'!#REF!,8),IF([1]CALCULADORA!$F$10=20%,ROUND('[1]Tabla de Amortizacion'!#REF!,8),ROUND('[1]Tabla de Amortizacion'!K60,8))))))","v":0}]
["2026-05-24",7.7531700000000002E-3,{"$f":"+VLOOKUP(A60,'Tabla de Amortizacion'!$D$2:$M$182,MATCH(Tablas!$B$1,'Tabla de Amortizacion'!$D$2:$M$2,0))","v":7.7531700000000002E-3},null,{"$f":"IF([1]CALCULADORA!$F$10=\"Contractual\",ROUND('[1]Tabla de Amortizacion'!C61,8),IF([1]CALCULADORA!$F$10=\"6% (Medio)\",ROUND('[1]Tabla de Amortizacion'!F61,8),IF([1]CALCULADORA!$F$10=\"10% (Medio Alto)\",ROUND('[1]Tabla de Amortizacion'!H61,8),IF([1]CALCULADORA!$F$10=\"14% (Alto)\",ROUND('[1]Tabla de Amortizacion'!#REF!,8),IF([1]CALCULADORA!$F$10=20%,ROUND('[1]Tabla de Amortizacion'!#REF!,8),ROUND('[1]Tabla de Amortizacion'!K61,8))))))","v":0}]
["2026-06-24",7.4618599999999998E-3,{"$f":"+VLOOKUP(A61,'Tabla de Amortizacion'!$D$2:$M$182,MATCH(Tablas!$B$1,'Tabla de Amortizacion'!$D$2:$M$2,0))","v":7.4618599999999998E-3},null,{"$f":"IF([1]CALCULADORA!$F$10=\"Contractual\",ROUND('[1]Tabla de Amortizacion'!C62,8),IF([1]CALCULADORA!$F$10=\"6% (Medio)\",ROUND('[1]Tabla de Amortizacion'!F62,8),IF([1]CALCULADORA!$F$10=\"10% (Medio Alto)\",ROUND('[1]Tabla de Amortizacion'!H62,8),IF([1]CALCULADORA!$F$10=\"14% (Alto)\",ROUND('[1]Tabla de Amortizacion'!#REF!,8),IF([1]CALCULADORA!$F$10=20%,ROUND('[1]Tabla de Amortizacion'!#REF!,8),ROUND('[1]Tabla de Amortizacion'!K62,8))))))","v":0}]
["2026-07-24",7.6206299999999998E-3,{"$f":"+VLOOKUP(A62,'Tabla de Amortizacion'!$D$2:$M$182,MATCH(Tablas!$B$1,'Tabla de Amortizacion'!$D$2:$M$2,0))","v":7.6206299999999998E-3},null,{"$f":"IF([1]CALCULADORA!$F$10=\"Contractual\",ROUND('[1]Tabla de Amortizacion'!C63,8),IF([1]CALCULADORA!$F$10=\"6% (Medio)\",ROUND('[1]Tabla de Amortizacion'!F63,8),IF([1]CALCULADORA!$F$10=\"10% (Medio Alto)\",ROUND('[1]Tabla de Amortizacion'!H63,8),IF([1]CALCULADORA!$F$10=\"14% (Alto)\",ROUND('[1]Tabla de Amortizacion'!#REF!,8),IF([1]CALCULADORA!$F$10=20%,ROUND('[1]Tabla de Amortizacion'!#REF!,8),ROUND('[1]Tabla de Amortizacion'!K63,8))))))","v":0}]
["2026-08-24",7.5654299999999997E-3,{"$f":"+VLOOKUP(A63,'Tabla de Amortizacion'!$D$2:$M$182,MATCH(Tablas!$B$1,'Tabla de Amortizacion'!$D$2:$M$2,0))","v":7.5654299999999997E-3},null,{"$f":"IF([1]CALCULADORA!$F$10=\"Contractual\",ROUND('[1]Tabla de Amortizacion'!C64,8),IF([1]CALCULADORA!$F$10=\"6% (Medio)\",ROUND('[1]Tabla de Amortizacion'!F64,8),IF([1]CALCULADORA!$F$10=\"10% (Medio Alto)\",ROUND('[1]Tabla de Amortizacion'!H64,8),IF([1]CALCULADORA!$F$10=\"14% (Alto)\",ROUND('[1]Tabla de Amortizacion'!#REF!,8),IF([1]CALCULADORA!$F$10=20%,ROUND('[1]Tabla de Amortizacion'!#REF!,8),ROUND('[1]Tabla de Amortizacion'!K64,8))))))","v":0}]
["2026-09-24",7.4853599999999999E-3,{"$f":"+VLOOKUP(A64,'Tabla de Amortizacion'!$D$2:$M$182,MATCH(Tablas!$B$1,'Tabla de Amortizacion'!$D$2:$M$2,0))","v":7.4853599999999999E-3},null,{"$f":"IF([1]CALCULADORA!$F$10=\"Contractual\",ROUND('[1]Tabla de Amortizacion'!C65,8),IF([1]CALCULADORA!$F$10=\"6% (Medio)\",ROUND('[1]Tabla de Amortizacion'!F65,8),IF([1]CALCULADORA!$F$10=\"10% (Medio Alto)\",ROUND('[1]Tabla de Amortizacion'!H65,8),IF([1]CALCULADORA!$F$10=\"14% (Alto)\",ROUND('[1]Tabla de Amortizacion'!#REF!,8),IF([1]CALCULADORA!$F$10=20%,ROUND('[1]Tabla de Amortizacion'!#REF!,8),ROUND('[1]Tabla de Amortizacion'!K65,8))))))","v":0}]
["2026-10-24",7.4242800000000001E-3,{"$f":"+VLOOKUP(A65,'Tabla de Amortizacion'!$D$2:$M$182,MATCH(Tablas!$B$1,'Tabla de Amortizacion'!$D$2:$M$2,0))","v":7.4242800000000001E-3},null,{"$f":"IF([1]CALCULADORA!$F$10=\"Contractual\",ROUND('[1]Tabla de Amortizacion'!C66,8),IF([1]CALCULADORA!$F$10=\"6% (Medio)\",ROUND('[1]Tabla de Amortizacion'!F66,8),IF([1]CALCULADORA!$F$10=\"10% (Medio Alto)\",ROUND('[1]Tabla de Amortizacion'!H66,8),IF([1]CALCULADORA!$F$10=\"14% (Alto)\",ROUND('[1]Tabla de Amortizacion'!#REF!,8),IF([1]CALCULADORA!$F$10=20%,ROUND('[1]Tabla de Amortizacion'!#REF!,8),ROUND('[1]Tabla de Amortizacion'!K66,8))))))","v":0}]
["2026-11-24",7.3604100000000004E-3,{"$f":"+VLOOKUP(A66,'Tabla de Amortizacion'!$D$2:$M$182,MATCH(Tablas!$B$1,'Tabla de Amortizacion'!$D$2:$M$2,0))","v":7.3604100000000004E-3},null,{"$f":"IF([1]CALCULADORA!$F$10=\"Contractual\",ROUND('[1]Tabla de Amortizacion'!C67,8),IF([1]CALCULADORA!$F$10=\"6% (Medio)\",ROUND('[1]Tabla de Amortizacion'!F67,8),IF([1]CALCULADORA!$F$10=\"10% (Medio Alto)\",ROUND('[1]Tabla de Amortizacion'!H67,8),IF([1]CALCULADORA!$F$10=\"14% (Alto)\",ROUND('[1]Tabla de Amortizacion'!#REF!,8),IF([1]CALCULADORA!$F$10=20%,ROUND('[1]Tabla de Amortizacion'!#REF!,8),ROUND('[1]Tabla de Amortizacion'!K67,8))))))","v":0}]
[{"$f":"EDATE(A66,1)","v":"2026-12-24"},{"$f":"+ROUND(C67,8)","v":7.2930699999999996E-3},{"$f":"+VLOOKUP(A67,'Tabla de Amortizacion'!$D$2:$M$182,MATCH(Tablas!$B$1,'Tabla de Amortizacion'!$D$2:$M$2,0))","v":7.2930699999999996E-3},null,{"$f":"IF([1]CALCULADORA!$F$10=\"Contractual\",ROUND('[1]Tabla de Amortizacion'!C68,8),IF([1]CALCULADORA!$F$10=\"6% (Medio)\",ROUND('[1]Tabla de Amortizacion'!F68,8),IF([1]CALCULADORA!$F$10=\"10% (Medio Alto)\",ROUND('[1]Tabla de Amortizacion'!H68,8),IF([1]CALCULADORA!$F$10=\"14% (Alto)\",ROUND('[1]Tabla de Amortizacion'!#REF!,8),IF([1]CALCULADORA!$F$10=20%,ROUND('[1]Tabla de Amortizacion'!#REF!,8),ROUND('[1]Tabla de Amortizacion'!K68,8))))))","v":0}]
["2027-01-24",7.23458E-3,{"$f":"+VLOOKUP(A68,'Tabla de Amortizacion'!$D$2:$M$182,MATCH(Tablas!$B$1,'Tabla de Amortizacion'!$D$2:$M$2,0))","v":7.23458E-3},null,{"$f":"IF([1]CALCULADORA!$F$10=\"Contractual\",ROUND('[1]Tabla de Amortizacion'!C69,8),IF([1]CALCULADORA!$F$10=\"6% (Medio)\",ROUND('[1]Tabla de Amortizacion'!F69,8),IF([1]CALCULADORA!$F$10=\"10% (Medio Alto)\",ROUND('[1]Tabla de Amortizacion'!H69,8),IF([1]CALCULADORA!$F$10=\"14% (Alto)\",ROUND('[1]Tabla de Amortizacion'!#REF!,8),IF([1]CALCULADORA!$F$10=20%,ROUND('[1]Tabla de Amortizacion'!#REF!,8),ROUND('[1]Tabla de Amortizacion'!K69,8))))))","v":0}]
["2027-02-24",7.1574500000000001E-3,{"$f":"+VLOOKUP(A69,'Tabla de Amortizacion'!$D$2:$M$182,MATCH(Tablas!$B$1,'Tabla de Amortizacion'!$D$2:$M$2,0))","v":7.1574500000000001E-3},null,{"$f":"IF([1]CALCULADORA!$F$10=\"Contractual\",ROUND('[1]Tabla de Amortizacion'!C70,8),IF([1]CALCULADORA!$F$10=\"6% (Medio)\",ROUND('[1]Tabla de Amortizacion'!F70,8),IF([1]CALCULADORA!$F$10=\"10% (Medio Alto)\",ROUND('[1]Tabla de Amortizacion'!H70,8),IF([1]CALCULADORA!$F$10=\"14% (Alto)\",ROUND('[1]Tabla de Amortizacion'!#REF!,8),IF([1]CALCULADORA!$F$10=20%,ROUND('[1]Tabla de Amortizacion'!#REF!,8),ROUND('[1]Tabla de Amortizacion'!K70,8))))))","v":0}]
["2027-03-24",7.09467E-3,{"$f":"+VLOOKUP(A70,'Tabla de Amortizacion'!$D$2:$M$182,MATCH(Tablas!$B$1,'Tabla de Amortizacion'!$D$2:$M$2,0))","v":7.09467E-3},null,{"$f":"IF([1]CALCULADORA!$F$10=\"Contractual\",ROUND('[1]Tabla de Amortizacion'!C71,8),IF([1]CALCULADORA!$F$10=\"6% (Medio)\",ROUND('[1]Tabla de Amortizacion'!F71,8),IF([1]CALCULADORA!$F$10=\"10% (Medio Alto)\",ROUND('[1]Tabla de Amortizacion'!H71,8),IF([1]CALCULADORA!$F$10=\"14% (Alto)\",ROUND('[1]Tabla de Amortizacion'!#REF!,8),IF([1]CALCULADORA!$F$10=20%,ROUND('[1]Tabla de Amortizacion'!#REF!,8),ROUND('[1]Tabla de Amortizacion'!K71,8))))))","v":0}]
["2027-04-24",7.0158199999999999E-3,{"$f":"+VLOOKUP(A71,'Tabla de Amortizacion'!$D$2:$M$182,MATCH(Tablas!$B$1,'Tabla de Amortizacion'!$D$2:$M$2,0))","v":7.0158199999999999E-3},null,{"$f":"IF([1]CALCULADORA!$F$10=\"Contractual\",ROUND('[1]Tabla de Amortizacion'!C72,8),IF([1]CALCULADORA!$F$10=\"6% (Medio)\",ROUND('[1]Tabla de Amortizacion'!F72,8),IF([1]CALCULADORA!$F$10=\"10% (Medio Alto)\",ROUND('[1]Tabla de Amortizacion'!H72,8),IF([1]CALCULADORA!$F$10=\"14% (Alto)\",ROUND('[1]Tabla de Amortizacion'!#REF!,8),IF([1]CALCULADORA!$F$10=20%,ROUND('[1]Tabla de Amortizacion'!#REF!,8),ROUND('[1]Tabla de Amortizacion'!K72,8))))))","v":0}]
["2027-05-24",6.9453700000000002E-3,{"$f":"+VLOOKUP(A72,'Tabla de Amortizacion'!$D$2:$M$182,MATCH(Tablas!$B$1,'Tabla de Amortizacion'!$D$2:$M$2,0))","v":6.9453700000000002E-3},null,{"$f":"IF([1]CALCULADORA!$F$10=\"Contractual\",ROUND('[1]Tabla de Amortizacion'!C73,8),IF([1]CALCULADORA!$F$10=\"6% (Medio)\",ROUND('[1]Tabla de Amortizacion'!F73,8),IF([1]CALCULADORA!$F$10=\"10% (Medio Alto)\",ROUND('[1]Tabla de Amortizacion'!H73,8),IF([1]CALCULADORA!$F$10=\"14% (Alto)\",ROUND('[1]Tabla de Amortizacion'!#REF!,8),IF([1]CALCULADORA!$F$10=20%,ROUND('[1]Tabla de Amortizacion'!#REF!,8),ROUND('[1]Tabla de Amortizacion'!K73,8))))))","v":0}]
["2027-06-24",6.6182200000000002E-3,{"$f":"+VLOOKUP(A73,'Tabla de Amortizacion'!$D$2:$M$182,MATCH(Tablas!$B$1,'Tabla de Amortizacion'!$D$2:$M$2,0))","v":6.6182200000000002E-3},null,{"$f":"IF([1]CALCULADORA!$F$10=\"Contractual\",ROUND('[1]Tabla de Amortizacion'!C74,8),IF([1]CALCULADORA!$F$10=\"6% (Medio)\",ROUND('[1]Tabla de Amortizacion'!F74,8),IF([1]CALCULADORA!$F$10=\"10% (Medio Alto)\",ROUND('[1]Tabla de Amortizacion'!H74,8),IF([1]CALCULADORA!$F$10=\"14% (Alto)\",ROUND('[1]Tabla de Amortizacion'!#REF!,8),IF([1]CALCULADORA!$F$10=20%,ROUND('[1]Tabla de Amortizacion'!#REF!,8),ROUND('[1]Tabla de Amortizacion'!K74,8))))))","v":0}]
["2027-07-24",6.7881399999999998E-3,{"$f":"+VLOOKUP(A74,'Tabla de Amortizacion'!$D$2:$M$182,MATCH(Tablas!$B$1,'Tabla de Amortizacion'!$D$2:$M$2,0))","v":6.7881399999999998E-3},null,{"$f":"IF([1]CALCULADORA!$F$10=\"Contractual\",ROUND('[1]Tabla de Amortizacion'!C75,8),IF([1]CALCULADORA!$F$10=\"6% (Medio)\",ROUND('[1]Tabla de Amortizacion'!F75,8),IF([1]CALCULADORA!$F$10=\"10% (Medio Alto)\",ROUND('[1]Tabla de Amortizacion'!H75,8),IF([1]CALCULADORA!$F$10=\"14% (Alto)\",ROUND('[1]Tabla de Amortizacion'!#REF!,8),IF([1]CALCULADORA!$F$10=20%,ROUND('[1]Tabla de Amortizacion'!#REF!,8),ROUND('[1]Tabla de Amortizacion'!K75,8))))))","v":0}]
["2027-08-24",6.7206399999999999E-3,{"$f":"+VLOOKUP(A75,'Tabla de Amortizacion'!$D$2:$M$182,MATCH(Tablas!$B$1,'Tabla de Amortizacion'!$D$2:$M$2,0))","v":6.7206399999999999E-3},null,{"$f":"IF([1]CALCULADORA!$F$10=\"Contractual\",ROUND('[1]Tabla de Amortizacion'!C76,8),IF([1]CALCULADORA!$F$10=\"6% (Medio)\",ROUND('[1]Tabla de Amortizacion'!F76,8),IF([1]CALCULADORA!$F$10=\"10% (Medio Alto)\",ROUND('[1]Tabla de Amortizacion'!H76,8),IF([1]CALCULADORA!$F$10=\"14% (Alto)\",ROUND('[1]Tabla de Amortizacion'!#REF!,8),IF([1]CALCULADORA!$F$10=20%,ROUND('[1]Tabla de Amortizacion'!#REF!,8),ROUND('[1]Tabla de Amortizacion'!K76,8))))))","v":0}]
["2027-09-24",6.6494400000000004E-3,{"$f":"+VLOOKUP(A76,'Tabla de Amortizacion'!$D$2:$M$182,MATCH(Tablas!$B$1,'Tabla de Amortizacion'!$D$2:$M$2,0))","v":6.6494400000000004E-3},null,{"$f":"IF([1]CALCULADORA!$F$10=\"Contractual\",ROUND('[1]Tabla de Amortizacion'!C77,8),IF([1]CALCULADORA!$F$10=\"6% (Medio)\",ROUND('[1]Tabla de Amortizacion'!F77,8),IF([1]CALCULADORA!$F$10=\"10% (Medio Alto)\",ROUND('[1]Tabla de Amortizacion'!H77,8),IF([1]CALCULADORA!$F$10=\"14% (Alto)\",ROUND('[1]Tabla de Amortizacion'!#REF!,8),IF([1]CALCULADORA!$F$10=20%,ROUND('[1]Tabla de Amortizacion'!#REF!,8),ROUND('[1]Tabla de Amortizacion'!K77,8))))))","v":0}]
["2027-10-24",6.5808899999999998E-3,{"$f":"+VLOOKUP(A77,'Tabla de Amortizacion'!$D$2:$M$182,MATCH(Tablas!$B$1,'Tabla de Amortizacion'!$D$2:$M$2,0))","v":6.5808899999999998E-3},null,{"$f":"IF([1]CALCULADORA!$F$10=\"Contractual\",ROUND('[1]Tabla de Amortizacion'!C78,8),IF([1]CALCULADORA!$F$10=\"6% (Medio)\",ROUND('[1]Tabla de Amortizacion'!F78,8),IF([1]CALCULADORA!$F$10=\"10% (Medio Alto)\",ROUND('[1]Tabla de Amortizacion'!H78,8),IF([1]CALCULADORA!$F$10=\"14% (Alto)\",ROUND('[1]Tabla de Amortizacion'!#REF!,8),IF([1]CALCULADORA!$F$10=20%,ROUND('[1]Tabla de Amortizacion'!#REF!,8),ROUND('[1]Tabla de Amortizacion'!K78,8))))))","v":0}]
["2027-11-24",6.5202200000000002E-3,{"$f":"+VLOOKUP(A78,'Tabla de Amortizacion'!$D$2:$M$182,MATCH(Tablas!$B$1,'Tabla de Amortizacion'!$D$2:$M$2,0))","v":6.5202200000000002E-3},null,{"$f":"IF([1]CALCULADORA!$F$10=\"Contractual\",ROUND('[1]Tabla de Amortizacion'!C79,8),IF([1]CALCULADORA!$F$10=\"6% (Medio)\",ROUND('[1]Tabla de Amortizacion'!F79,8),IF([1]CALCULADORA!$F$10=\"10% (Medio Alto)\",ROUND('[1]Tabla de Amortizacion'!H79,8),IF([1]CALCULADORA!$F$10=\"14% (Alto)\",ROUND('[1]Tabla de Amortizacion'!#REF!,8),IF([1]CALCULADORA!$F$10=20%,ROUND('[1]Tabla de Amortizacion'!#REF!,8),ROUND('[1]Tabla de Amortizacion'!K79,8))))))","v":0}]
["2027-12-24",6.4465800000000004E-3,{"$f":"+VLOOKUP(A79,'Tabla de Amortizacion'!$D$2:$M$182,MATCH(Tablas!$B$1,'Tabla de Amortizacion'!$D$2:$M$2,0))","v":6.4465800000000004E-3},null,{"$f":"IF([1]CALCULADORA!$F$10=\"Contractual\",ROUND('[1]Tabla de Amortizacion'!C80,8),IF([1]CALCULADORA!$F$10=\"6% (Medio)\",ROUND('[1]Tabla de Amortizacion'!F80,8),IF([1]CALCULADORA!$F$10=\"10% (Medio Alto)\",ROUND('[1]Tabla de Amortizacion'!H80,8),IF([1]CALCULADORA!$F$10=\"14% (Alto)\",ROUND('[1]Tabla de Amortizacion'!#REF!,8),IF([1]CALCULADORA!$F$10=20%,ROUND('[1]Tabla de Amortizacion'!#REF!,8),ROUND('[1]Tabla de Amortizacion'!K80,8))))))","v":0}]
["2028-01-24",6.3814400000000004E-3,{"$f":"+VLOOKUP(A80,'Tabla de Amortizacion'!$D$2:$M$182,MATCH(Tablas!$B$1,'Tabla de Amortizacion'!$D$2:$M$2,0))","v":6.3814400000000004E-3},null,{"$f":"IF([1]CALCULADORA!$F$10=\"Contractual\",ROUND('[1]Tabla de Amortizacion'!C81,8),IF([1]CALCULADORA!$F$10=\"6% (Medio)\",ROUND('[1]Tabla de Amortizacion'!F81,8),IF([1]CALCULADORA!$F$10=\"10% (Medio Alto)\",ROUND('[1]Tabla de Amortizacion'!H81,8),IF([1]CALCULADORA!$F$10=\"14% (Alto)\",ROUND('[1]Tabla de Amortizacion'!#REF!,8),IF([1]CALCULADORA!$F$10=20%,ROUND('[1]Tabla de Amortizacion'!#REF!,8),ROUND('[1]Tabla de Amortizacion'!K81,8))))))","v":0}]
["2028-02-24",6.3100600000000001E-3,{"$f":"+VLOOKUP(A81,'Tabla de Amortizacion'!$D$2:$M$182,MATCH(Tablas!$B$1,'Tabla de Amortizacion'!$D$2:$M$2,0))","v":6.3100600000000001E-3},null,{"$f":"IF([1]CALCULADORA!$F$10=\"Contractual\",ROUND('[1]Tabla de Amortizacion'!C82,8),IF([1]CALCULADORA!$F$10=\"6% (Medio)\",ROUND('[1]Tabla de Amortizacion'!F82,8),IF([1]CALCULADORA!$F$10=\"10% (Medio Alto)\",ROUND('[1]Tabla de Amortizacion'!H82,8),IF([1]CALCULADORA!$F$10=\"14% (Alto)\",ROUND('[1]Tabla de Amortizacion'!#REF!,8),IF([1]CALCULADORA!$F$10=20%,ROUND('[1]Tabla de Amortizacion'!#REF!,8),ROUND('[1]Tabla de Amortizacion'!K82,8))))))","v":0}]
["2028-03-24",6.2444600000000003E-3,{"$f":"+VLOOKUP(A82,'Tabla de Amortizacion'!$D$2:$M$182,MATCH(Tablas!$B$1,'Tabla de Amortizacion'!$D$2:$M$2,0))","v":6.2444600000000003E-3},null,{"$f":"IF([1]CALCULADORA!$F$10=\"Contractual\",ROUND('[1]Tabla de Amortizacion'!C83,8),IF([1]CALCULADORA!$F$10=\"6% (Medio)\",ROUND('[1]Tabla de Amortizacion'!F83,8),IF([1]CALCULADORA!$F$10=\"10% (Medio Alto)\",ROUND('[1]Tabla de Amortizacion'!H83,8),IF([1]CALCULADORA!$F$10=\"14% (Alto)\",ROUND('[1]Tabla de Amortizacion'!#REF!,8),IF([1]CALCULADORA!$F$10=20%,ROUND('[1]Tabla de Amortizacion'!#REF!,8),ROUND('[1]Tabla de Amortizacion'!K83,8))))))","v":0}]
["2028-04-24",6.1725299999999999E-3,{"$f":"+VLOOKUP(A83,'Tabla de Amortizacion'!$D$2:$M$182,MATCH(Tablas!$B$1,'Tabla de Amortizacion'!$D$2:$M$2,0))","v":6.1725299999999999E-3},null,{"$f":"IF([1]CALCULADORA!$F$10=\"Contractual\",ROUND('[1]Tabla de Amortizacion'!C84,8),IF([1]CALCULADORA!$F$10=\"6% (Medio)\",ROUND('[1]Tabla de Amortizacion'!F84,8),IF([1]CALCULADORA!$F$10=\"10% (Medio Alto)\",ROUND('[1]Tabla de Amortizacion'!H84,8),IF([1]CALCULADORA!$F$10=\"14% (Alto)\",ROUND('[1]Tabla de Amortizacion'!#REF!,8),IF([1]CALCULADORA!$F$10=20%,ROUND('[1]Tabla de Amortizacion'!#REF!,8),ROUND('[1]Tabla de Amortizacion'!K84,8))))))","v":0}]
["2028-05-24",6.11044E-3,{"$f":"+VLOOKUP(A84,'Tabla de Amortizacion'!$D$2:$M$182,MATCH(Tablas!$B$1,'Tabla de Amortizacion'!$D$2:$M$2,0))","v":6.11044E-3},null,{"$f":"IF([1]CALCULADORA!$F$10=\"Contractual\",ROUND('[1]Tabla de Amortizacion'!C85,8),IF([1]CALCULADORA!$F$10=\"6% (Medio)\",ROUND('[1]Tabla de Amortizacion'!F85,8),IF([1]CALCULADORA!$F$10=\"10% (Medio Alto)\",ROUND('[1]Tabla de Amortizacion'!H85,8),IF([1]CALCULADORA!$F$10=\"14% (Alto)\",ROUND('[1]Tabla de Amortizacion'!#REF!,8),IF([1]CALCULADORA!$F$10=20%,ROUND('[1]Tabla de Amortizacion'!#REF!,8),ROUND('[1]Tabla de Amortizacion'!K85,8))))))","v":0}]
["2028-06-24",5.7880700000000002E-3,{"$f":"+VLOOKUP(A85,'Tabla de Amortizacion'!$D$2:$M$182,MATCH(Tablas!$B$1,'Tabla de Amortizacion'!$D$2:$M$2,0))","v":5.7880700000000002E-3},null,{"$f":"IF([1]CALCULADORA!$F$10=\"Contractual\",ROUND('[1]Tabla de Amortizacion'!C86,8),IF([1]CALCULADORA!$F$10=\"6% (Medio)\",ROUND('[1]Tabla de Amortizacion'!F86,8),IF([1]CALCULADORA!$F$10=\"10% (Medio Alto)\",ROUND('[1]Tabla de Amortizacion'!H86,8),IF([1]CALCULADORA!$F$10=\"14% (Alto)\",ROUND('[1]Tabla de Amortizacion'!#REF!,8),IF([1]CALCULADORA!$F$10=20%,ROUND('[1]Tabla de Amortizacion'!#REF!,8),ROUND('[1]Tabla de Amortizacion'!K86,8))))))","v":0}]
["2028-07-24",5.9616299999999999E-3,{"$f":"+VLOOKUP(A86,'Tabla de Amortizacion'!$D$2:$M$182,MATCH(Tablas!$B$1,'Tabla de Amortizacion'!$D$2:$M$2,0))","v":5.9616299999999999E-3},null,{"$f":"IF([1]CALCULADORA!$F$10=\"Contractual\",ROUND('[1]Tabla de Amortizacion'!C87,8),IF([1]CALCULADORA!$F$10=\"6% (Medio)\",ROUND('[1]Tabla de Amortizacion'!F87,8),IF([1]CALCULADORA!$F$10=\"10% (Medio Alto)\",ROUND('[1]Tabla de Amortizacion'!H87,8),IF([1]CALCULADORA!$F$10=\"14% (Alto)\",ROUND('[1]Tabla de Amortizacion'!#REF!,8),IF([1]CALCULADORA!$F$10=20%,ROUND('[1]Tabla de Amortizacion'!#REF!,8),ROUND('[1]Tabla de Amortizacion'!K87,8))))))","v":0}]
["2028-08-24",5.8868999999999996E-3,{"$f":"+VLOOKUP(A87,'Tabla de Amortizacion'!$D$2:$M$182,MATCH(Tablas!$B$1,'Tabla de Amortizacion'!$D$2:$M$2,0))","v":5.8868999999999996E-3},null,{"$f":"IF([1]CALCULADORA!$F$10=\"Contractual\",ROUND('[1]Tabla de Amortizacion'!C88,8),IF([1]CALCULADORA!$F$10=\"6% (Medio)\",ROUND('[1]Tabla de Amortizacion'!F88,8),IF([1]CALCULADORA!$F$10=\"10% (Medio Alto)\",ROUND('[1]Tabla de Amortizacion'!H88,8),IF([1]CALCULADORA!$F$10=\"14% (Alto)\",ROUND('[1]Tabla de Amortizacion'!#REF!,8),IF([1]CALCULADORA!$F$10=20%,ROUND('[1]Tabla de Amortizacion'!#REF!,8),ROUND('[1]Tabla de Amortizacion'!K88,8))))))","v":0}]
["2028-09-24",5.7971899999999998E-3,{"$f":"+VLOOKUP(A88,'Tabla de Amortizacion'!$D$2:$M$182,MATCH(Tablas!$B$1,'Tabla de Amortizacion'!$D$2:$M$2,0))","v":5.7971899999999998E-3},null,{"$f":"IF([1]CALCULADORA!$F$10=\"Contractual\",ROUND('[1]Tabla de Amortizacion'!C89,8),IF([1]CALCULADORA!$F$10=\"6% (Medio)\",ROUND('[1]Tabla de Amortizacion'!F89,8),IF([1]CALCULADORA!$F$10=\"10% (Medio Alto)\",ROUND('[1]Tabla de Amortizacion'!H89,8),IF([1]CALCULADORA!$F$10=\"14% (Alto)\",ROUND('[1]Tabla de Amortizacion'!#REF!,8),IF([1]CALCULADORA!$F$10=20%,ROUND('[1]Tabla de Amortizacion'!#REF!,8),ROUND('[1]Tabla de Amortizacion'!K89,8))))))","v":0}]
["2028-10-24",5.72939E-3,{"$f":"+VLOOKUP(A89,'Tabla de Amortizacion'!$D$2:$M$182,MATCH(Tablas!$B$1,'Tabla de Amortizacion'!$D$2:$M$2,0))","v":5.72939E-3},null,{"$f":"IF([1]CALCULADORA!$F$10=\"Contractual\",ROUND('[1]Tabla de Amortizacion'!C90,8),IF([1]CALCULADORA!$F$10=\"6% (Medio)\",ROUND('[1]Tabla de Amortizacion'!F90,8),IF([1]CALCULADORA!$F$10=\"10% (Medio Alto)\",ROUND('[1]Tabla de Amortizacion'!H90,8),IF([1]CALCULADORA!$F$10=\"14% (Alto)\",ROUND('[1]Tabla de Amortizacion'!#REF!,8),IF([1]CALCULADORA!$F$10=20%,ROUND('[1]Tabla de Amortizacion'!#REF!,8),ROUND('[1]Tabla de Amortizacion'!K90,8))))))","v":0}]
["2028-11-24",5.6566999999999997E-3,{"$f":"+VLOOKUP(A90,'Tabla de Amortizacion'!$D$2:$M$182,MATCH(Tablas!$B$1,'Tabla de Amortizacion'!$D$2:$M$2,0))","v":5.6566999999999997E-3},null,{"$f":"IF([1]CALCULADORA!$F$10=\"Contractual\",ROUND('[1]Tabla de Amortizacion'!C91,8),IF([1]CALCULADORA!$F$10=\"6% (Medio)\",ROUND('[1]Tabla de Amortizacion'!F91,8),IF([1]CALCULADORA!$F$10=\"10% (Medio Alto)\",ROUND('[1]Tabla de Amortizacion'!H91,8),IF([1]CALCULADORA!$F$10=\"14% (Alto)\",ROUND('[1]Tabla de Amortizacion'!#REF!,8),IF([1]CALCULADORA!$F$10=20%,ROUND('[1]Tabla de Amortizacion'!#REF!,8),ROUND('[1]Tabla de Amortizacion'!K91,8))))))","v":0}]
["2028-12-24",5.5871999999999996E-3,{"$f":"+VLOOKUP(A91,'Tabla de Amortizacion'!$D$2:$M$182,MATCH(Tablas!$B$1,'Tabla de Amortizacion'!$D$2:$M$2,0))","v":5.5871999999999996E-3},null,{"$f":"IF([1]CALCULADORA!$F$10=\"Contractual\",ROUND('[1]Tabla de Amortizacion'!C92,8),IF([1]CALCULADORA!$F$10=\"6% (Medio)\",ROUND('[1]Tabla de Amortizacion'!F92,8),IF([1]CALCULADORA!$F$10=\"10% (Medio Alto)\",ROUND('[1]Tabla de Amortizacion'!H92,8),IF([1]CALCULADORA!$F$10=\"14% (Alto)\",ROUND('[1]Tabla de Amortizacion'!#REF!,8),IF([1]CALCULADORA!$F$10=20%,ROUND('[1]Tabla de Amortizacion'!#REF!,8),ROUND('[1]Tabla de Amortizacion'!K92,8))))))","v":0}]
["2029-01-24",5.5177500000000001E-3,{"$f":"+VLOOKUP(A92,'Tabla de Amortizacion'!$D$2:$M$182,MATCH(Tablas!$B$1,'Tabla de Amortizacion'!$D$2:$M$2,0))","v":5.5177500000000001E-3},null,{"$f":"IF([1]CALCULADORA!$F$10=\"Contractual\",ROUND('[1]Tabla de Amortizacion'!C93,8),IF([1]CALCULADORA!$F$10=\"6% (Medio)\",ROUND('[1]Tabla de Amortizacion'!F93,8),IF([1]CALCULADORA!$F$10=\"10% (Medio Alto)\",ROUND('[1]Tabla de Amortizacion'!H93,8),IF([1]CALCULADORA!$F$10=\"14% (Alto)\",ROUND('[1]Tabla de Amortizacion'!#REF!,8),IF([1]CALCULADORA!$F$10=20%,ROUND('[1]Tabla de Amortizacion'!#REF!,8),ROUND('[1]Tabla de Amortizacion'!K93,8))))))","v":0}]
["2029-02-24",5.4437299999999999E-3,{"$f":"+VLOOKUP(A93,'Tabla de Amortizacion'!$D$2:$M$182,MATCH(Tablas!$B$1,'Tabla de Amortizacion'!$D$2:$M$2,0))","v":5.4437299999999999E-3},null,{"$f":"IF([1]CALCULADORA!$F$10=\"Contractual\",ROUND('[1]Tabla de Amortizacion'!C94,8),IF([1]CALCULADORA!$F$10=\"6% (Medio)\",ROUND('[1]Tabla de Amortizacion'!F94,8),IF([1]CALCULADORA!$F$10=\"10% (Medio Alto)\",ROUND('[1]Tabla de Amortizacion'!H94,8),IF([1]CALCULADORA!$F$10=\"14% (Alto)\",ROUND('[1]Tabla de Amortizacion'!#REF!,8),IF([1]CALCULADORA!$F$10=20%,ROUND('[1]Tabla de Amortizacion'!#REF!,8),ROUND('[1]Tabla de Amortizacion'!K94,8))))))","v":0}]
["2029-03-24",5.3742499999999997E-3,{"$f":"+VLOOKUP(A94,'Tabla de Amortizacion'!$D$2:$M$182,MATCH(Tablas!$B$1,'Tabla de Amortizacion'!$D$2:$M$2,0))","v":5.3742499999999997E-3},null,{"$f":"IF([1]CALCULADORA!$F$10=\"Contractual\",ROUND('[1]Tabla de Amortizacion'!C95,8),IF([1]CALCULADORA!$F$10=\"6% (Medio)\",ROUND('[1]Tabla de Amortizacion'!F95,8),IF([1]CALCULADORA!$F$10=\"10% (Medio Alto)\",ROUND('[1]Tabla de Amortizacion'!H95,8),IF([1]CALCULADORA!$F$10=\"14% (Alto)\",ROUND('[1]Tabla de Amortizacion'!#REF!,8),IF([1]CALCULADORA!$F$10=20%,ROUND('[1]Tabla de Amortizacion'!#REF!,8),ROUND('[1]Tabla de Amortizacion'!K95,8))))))","v":0}]
["2029-04-24",5.2991100000000001E-3,{"$f":"+VLOOKUP(A95,'Tabla de Amortizacion'!$D$2:$M$182,MATCH(Tablas!$B$1,'Tabla de Amortizacion'!$D$2:$M$2,0))","v":5.2991100000000001E-3},null,{"$f":"IF([1]CALCULADORA!$F$10=\"Contractual\",ROUND('[1]Tabla de Amortizacion'!C96,8),IF([1]CALCULADORA!$F$10=\"6% (Medio)\",ROUND('[1]Tabla de Amortizacion'!F96,8),IF([1]CALCULADORA!$F$10=\"10% (Medio Alto)\",ROUND('[1]Tabla de Amortizacion'!H96,8),IF([1]CALCULADORA!$F$10=\"14% (Alto)\",ROUND('[1]Tabla de Amortizacion'!#REF!,8),IF([1]CALCULADORA!$F$10=20%,ROUND('[1]Tabla de Amortizacion'!#REF!,8),ROUND('[1]Tabla de Amortizacion'!K96,8))))))","v":0}]
["2029-05-24",5.2249599999999998E-3,{"$f":"+VLOOKUP(A96,'Tabla de Amortizacion'!$D$2:$M$182,MATCH(Tablas!$B$1,'Tabla de Amortizacion'!$D$2:$M$2,0))","v":5.2249599999999998E-3},null,{"$f":"IF([1]CALCULADORA!$F$10=\"Contractual\",ROUND('[1]Tabla de Amortizacion'!C97,8),IF([1]CALCULADORA!$F$10=\"6% (Medio)\",ROUND('[1]Tabla de Amortizacion'!F97,8),IF([1]CALCULADORA!$F$10=\"10% (Medio Alto)\",ROUND('[1]Tabla de Amortizacion'!H97,8),IF([1]CALCULADORA!$F$10=\"14% (Alto)\",ROUND('[1]Tabla de Amortizacion'!#REF!,8),IF([1]CALCULADORA!$F$10=20%,ROUND('[1]Tabla de Amortizacion'!#REF!,8),ROUND('[1]Tabla de Amortizacion'!K97,8))))))","v":0}]
["2029-06-24",4.8848499999999996E-3,{"$f":"+VLOOKUP(A97,'Tabla de Amortizacion'!$D$2:$M$182,MATCH(Tablas!$B$1,'Tabla de Amortizacion'!$D$2:$M$2,0))","v":4.8848499999999996E-3},null,{"$f":"IF([1]CALCULADORA!$F$10=\"Contractual\",ROUND('[1]Tabla de Amortizacion'!C98,8),IF([1]CALCULADORA!$F$10=\"6% (Medio)\",ROUND('[1]Tabla de Amortizacion'!F98,8),IF([1]CALCULADORA!$F$10=\"10% (Medio Alto)\",ROUND('[1]Tabla de Amortizacion'!H98,8),IF([1]CALCULADORA!$F$10=\"14% (Alto)\",ROUND('[1]Tabla de Amortizacion'!#REF!,8),IF([1]CALCULADORA!$F$10=20%,ROUND('[1]Tabla de Amortizacion'!#REF!,8),ROUND('[1]Tabla de Amortizacion'!K98,8))))))","v":0}]
["2029-07-24",5.0578899999999998E-3,{"$f":"+VLOOKUP(A98,'Tabla de Amortizacion'!$D$2:$M$182,MATCH(Tablas!$B$1,'Tabla de Amortizacion'!$D$2:$M$2,0))","v":5.0578899999999998E-3},null,{"$f":"IF([1]CALCULADORA!$F$10=\"Contractual\",ROUND('[1]Tabla de Amortizacion'!C99,8),IF([1]CALCULADORA!$F$10=\"6% (Medio)\",ROUND('[1]Tabla de Amortizacion'!F99,8),IF([1]CALCULADORA!$F$10=\"10% (Medio Alto)\",ROUND('[1]Tabla de Amortizacion'!H99,8),IF([1]CALCULADORA!$F$10=\"14% (Alto)\",ROUND('[1]Tabla de Amortizacion'!#REF!,8),IF([1]CALCULADORA!$F$10=20%,ROUND('[1]Tabla de Amortizacion'!#REF!,8),ROUND('[1]Tabla de Amortizacion'!K99,8))))))","v":0}]
["2029-08-24",4.9563699999999999E-3,{"$f":"+VLOOKUP(A99,'Tabla de Amortizacion'!$D$2:$M$182,MATCH(Tablas!$B$1,'Tabla de Amortizacion'!$D$2:$M$2,0))","v":4.9563699999999999E-3},null,{"$f":"IF([1]CALCULADORA!$F$10=\"Contractual\",ROUND('[1]Tabla de Amortizacion'!C100,8),IF([1]CALCULADORA!$F$10=\"6% (Medio)\",ROUND('[1]Tabla de Amortizacion'!F100,8),IF([1]CALCULADORA!$F$10=\"10% (Medio Alto)\",ROUND('[1]Tabla de Amortizacion'!H100,8),IF([1]CALCULADORA!$F$10=\"14% (Alto)\",ROUND('[1]Tabla de Amortizacion'!#REF!,8),IF([1]CALCULADORA!$F$10=20%,ROUND('[1]Tabla de Amortizacion'!#REF!,8),ROUND('[1]Tabla de Amortizacion'!K100,8))))))","v":0}]
["2029-09-24",4.8324300000000004E-3,{"$f":"+VLOOKUP(A100,'Tabla de Amortizacion'!$D$2:$M$182,MATCH(Tablas!$B$1,'Tabla de Amortizacion'!$D$2:$M$2,0))","v":4.8324300000000004E-3},null,{"$f":"IF([1]CALCULADORA!$F$10=\"Contractual\",ROUND('[1]Tabla de Amortizacion'!C101,8),IF([1]CALCULADORA!$F$10=\"6% (Medio)\",ROUND('[1]Tabla de Amortizacion'!F101,8),IF([1]CALCULADORA!$F$10=\"10% (Medio Alto)\",ROUND('[1]Tabla de Amortizacion'!H101,8),IF([1]CALCULADORA!$F$10=\"14% (Alto)\",ROUND('[1]Tabla de Amortizacion'!#REF!,8),IF([1]CALCULADORA!$F$10=20%,ROUND('[1]Tabla de Amortizacion'!#REF!,8),ROUND('[1]Tabla de Amortizacion'!K101,8))))))","v":0}]
["2029-10-24",0,{"$f":"+VLOOKUP(A101,'Tabla de Amortizacion'!$D$2:$M$182,MATCH(Tablas!$B$1,'Tabla de Amortizacion'!$D$2:$M$2,0))","v":0},null,{"$f":"IF([1]CALCULADORA!$F$10=\"Contractual\",ROUND('[1]Tabla de Amortizacion'!C102,8),IF([1]CALCULADORA!$F$10=\"6% (Medio)\",ROUND('[1]Tabla de Amortizacion'!F102,8),IF([1]CALCULADORA!$F$10=\"10% (Medio Alto)\",ROUND('[1]Tabla de Amortizacion'!H102,8),IF([1]CALCULADORA!$F$10=\"14% (Alto)\",ROUND('[1]Tabla de Amortizacion'!#REF!,8),IF([1]CALCULADORA!$F$10=20%,ROUND('[1]Tabla de Amortizacion'!#REF!,8),ROUND('[1]Tabla de Amortizacion'!K102,8))))))","v":0}]
["2029-11-24",0,{"$f":"+VLOOKUP(A102,'Tabla de Amortizacion'!$D$2:$M$182,MATCH(Tablas!$B$1,'Tabla de Amortizacion'!$D$2:$M$2,0))","v":0},null,{"$f":"IF([1]CALCULADORA!$F$10=\"Contractual\",ROUND('[1]Tabla de Amortizacion'!C103,8),IF([1]CALCULADORA!$F$10=\"6% (Medio)\",ROUND('[1]Tabla de Amortizacion'!F103,8),IF([1]CALCULADORA!$F$10=\"10% (Medio Alto)\",ROUND('[1]Tabla de Amortizacion'!H103,8),IF([1]CALCULADORA!$F$10=\"14% (Alto)\",ROUND('[1]Tabla de Amortizacion'!#REF!,8),IF([1]CALCULADORA!$F$10=20%,ROUND('[1]Tabla de Amortizacion'!#REF!,8),ROUND('[1]Tabla de Amortizacion'!K103,8))))))","v":0}]
["2029-12-24",0,{"$f":"+VLOOKUP(A103,'Tabla de Amortizacion'!$D$2:$M$182,MATCH(Tablas!$B$1,'Tabla de Amortizacion'!$D$2:$M$2,0))","v":0},null,{"$f":"IF([1]CALCULADORA!$F$10=\"Contractual\",ROUND('[1]Tabla de Amortizacion'!C104,8),IF([1]CALCULADORA!$F$10=\"6% (Medio)\",ROUND('[1]Tabla de Amortizacion'!F104,8),IF([1]CALCULADORA!$F$10=\"10% (Medio Alto)\",ROUND('[1]Tabla de Amortizacion'!H104,8),IF([1]CALCULADORA!$F$10=\"14% (Alto)\",ROUND('[1]Tabla de Amortizacion'!#REF!,8),IF([1]CALCULADORA!$F$10=20%,ROUND('[1]Tabla de Amortizacion'!#REF!,8),ROUND('[1]Tabla de Amortizacion'!K104,8))))))","v":0}]
["2030-01-24",0,{"$f":"+VLOOKUP(A104,'Tabla de Amortizacion'!$D$2:$M$182,MATCH(Tablas!$B$1,'Tabla de Amortizacion'!$D$2:$M$2,0))","v":0},null,{"$f":"IF([1]CALCULADORA!$F$10=\"Contractual\",ROUND('[1]Tabla de Amortizacion'!C105,8),IF([1]CALCULADORA!$F$10=\"6% (Medio)\",ROUND('[1]Tabla de Amortizacion'!F105,8),IF([1]CALCULADORA!$F$10=\"10% (Medio Alto)\",ROUND('[1]Tabla de Amortizacion'!H105,8),IF([1]CALCULADORA!$F$10=\"14% (Alto)\",ROUND('[1]Tabla de Amortizacion'!#REF!,8),IF([1]CALCULADORA!$F$10=20%,ROUND('[1]Tabla de Amortizacion'!#REF!,8),ROUND('[1]Tabla de Amortizacion'!K105,8))))))","v":0}]
["2030-02-24",0,{"$f":"+VLOOKUP(A105,'Tabla de Amortizacion'!$D$2:$M$182,MATCH(Tablas!$B$1,'Tabla de Amortizacion'!$D$2:$M$2,0))","v":0},null,{"$f":"IF([1]CALCULADORA!$F$10=\"Contractual\",ROUND('[1]Tabla de Amortizacion'!C106,8),IF([1]CALCULADORA!$F$10=\"6% (Medio)\",ROUND('[1]Tabla de Amortizacion'!F106,8),IF([1]CALCULADORA!$F$10=\"10% (Medio Alto)\",ROUND('[1]Tabla de Amortizacion'!H106,8),IF([1]CALCULADORA!$F$10=\"14% (Alto)\",ROUND('[1]Tabla de Amortizacion'!#REF!,8),IF([1]CALCULADORA!$F$10=20%,ROUND('[1]Tabla de Amortizacion'!#REF!,8),ROUND('[1]Tabla de Amortizacion'!K106,8))))))","v":0}]
["2030-03-24",0,{"$f":"+VLOOKUP(A106,'Tabla de Amortizacion'!$D$2:$M$182,MATCH(Tablas!$B$1,'Tabla de Amortizacion'!$D$2:$M$2,0))","v":0},null,{"$f":"IF([1]CALCULADORA!$F$10=\"Contractual\",ROUND('[1]Tabla de Amortizacion'!C107,8),IF([1]CALCULADORA!$F$10=\"6% (Medio)\",ROUND('[1]Tabla de Amortizacion'!F107,8),IF([1]CALCULADORA!$F$10=\"10% (Medio Alto)\",ROUND('[1]Tabla de Amortizacion'!H107,8),IF([1]CALCULADORA!$F$10=\"14% (Alto)\",ROUND('[1]Tabla de Amortizacion'!#REF!,8),IF([1]CALCULADORA!$F$10=20%,ROUND('[1]Tabla de Amortizacion'!#REF!,8),ROUND('[1]Tabla de Amortizacion'!K107,8))))))","v":0}]
["2030-04-24",0,{"$f":"+VLOOKUP(A107,'Tabla de Amortizacion'!$D$2:$M$182,MATCH(Tablas!$B$1,'Tabla de Amortizacion'!$D$2:$M$2,0))","v":0},null,{"$f":"IF([1]CALCULADORA!$F$10=\"Contractual\",ROUND('[1]Tabla de Amortizacion'!C108,8),IF([1]CALCULADORA!$F$10=\"6% (Medio)\",ROUND('[1]Tabla de Amortizacion'!F108,8),IF([1]CALCULADORA!$F$10=\"10% (Medio Alto)\",ROUND('[1]Tabla de Amortizacion'!H108,8),IF([1]CALCULADORA!$F$10=\"14% (Alto)\",ROUND('[1]Tabla de Amortizacion'!#REF!,8),IF([1]CALCULADORA!$F$10=20%,ROUND('[1]Tabla de Amortizacion'!#REF!,8),ROUND('[1]Tabla de Amortizacion'!K108,8))))))","v":0}]
["2030-05-24",0,{"$f":"+VLOOKUP(A108,'Tabla de Amortizacion'!$D$2:$M$182,MATCH(Tablas!$B$1,'Tabla de Amortizacion'!$D$2:$M$2,0))","v":0},null,{"$f":"IF([1]CALCULADORA!$F$10=\"Contractual\",ROUND('[1]Tabla de Amortizacion'!C109,8),IF([1]CALCULADORA!$F$10=\"6% (Medio)\",ROUND('[1]Tabla de Amortizacion'!F109,8),IF([1]CALCULADORA!$F$10=\"10% (Medio Alto)\",ROUND('[1]Tabla de Amortizacion'!H109,8),IF([1]CALCULADORA!$F$10=\"14% (Alto)\",ROUND('[1]Tabla de Amortizacion'!#REF!,8),IF([1]CALCULADORA!$F$10=20%,ROUND('[1]Tabla de Amortizacion'!#REF!,8),ROUND('[1]Tabla de Amortizacion'!K109,8))))))","v":0}]
["2030-06-24",0,{"$f":"+VLOOKUP(A109,'Tabla de Amortizacion'!$D$2:$M$182,MATCH(Tablas!$B$1,'Tabla de Amortizacion'!$D$2:$M$2,0))","v":0},null,{"$f":"IF([1]CALCULADORA!$F$10=\"Contractual\",ROUND('[1]Tabla de Amortizacion'!C110,8),IF([1]CALCULADORA!$F$10=\"6% (Medio)\",ROUND('[1]Tabla de Amortizacion'!F110,8),IF([1]CALCULADORA!$F$10=\"10% (Medio Alto)\",ROUND('[1]Tabla de Amortizacion'!H110,8),IF([1]CALCULADORA!$F$10=\"14% (Alto)\",ROUND('[1]Tabla de Amortizacion'!#REF!,8),IF([1]CALCULADORA!$F$10=20%,ROUND('[1]Tabla de Amortizacion'!#REF!,8),ROUND('[1]Tabla de Amortizacion'!K110,8))))))","v":0}]
["2030-07-24",0,{"$f":"+VLOOKUP(A110,'Tabla de Amortizacion'!$D$2:$M$182,MATCH(Tablas!$B$1,'Tabla de Amortizacion'!$D$2:$M$2,0))","v":0},null,{"$f":"IF([1]CALCULADORA!$F$10=\"Contractual\",ROUND('[1]Tabla de Amortizacion'!C111,8),IF([1]CALCULADORA!$F$10=\"6% (Medio)\",ROUND('[1]Tabla de Amortizacion'!F111,8),IF([1]CALCULADORA!$F$10=\"10% (Medio Alto)\",ROUND('[1]Tabla de Amortizacion'!H111,8),IF([1]CALCULADORA!$F$10=\"14% (Alto)\",ROUND('[1]Tabla de Amortizacion'!#REF!,8),IF([1]CALCULADORA!$F$10=20%,ROUND('[1]Tabla de Amortizacion'!#REF!,8),ROUND('[1]Tabla de Amortizacion'!K111,8))))))","v":0}]
["2030-08-24",0,{"$f":"+VLOOKUP(A111,'Tabla de Amortizacion'!$D$2:$M$182,MATCH(Tablas!$B$1,'Tabla de Amortizacion'!$D$2:$M$2,0))","v":0},null,{"$f":"IF([1]CALCULADORA!$F$10=\"Contractual\",ROUND('[1]Tabla de Amortizacion'!C112,8),IF([1]CALCULADORA!$F$10=\"6% (Medio)\",ROUND('[1]Tabla de Amortizacion'!F112,8),IF([1]CALCULADORA!$F$10=\"10% (Medio Alto)\",ROUND('[1]Tabla de Amortizacion'!H112,8),IF([1]CALCULADORA!$F$10=\"14% (Alto)\",ROUND('[1]Tabla de Amortizacion'!#REF!,8),IF([1]CALCULADORA!$F$10=20%,ROUND('[1]Tabla de Amortizacion'!#REF!,8),ROUND('[1]Tabla de Amortizacion'!K112,8))))))","v":0}]
["2030-09-24",0,{"$f":"+VLOOKUP(A112,'Tabla de Amortizacion'!$D$2:$M$182,MATCH(Tablas!$B$1,'Tabla de Amortizacion'!$D$2:$M$2,0))","v":0},null,{"$f":"IF([1]CALCULADORA!$F$10=\"Contractual\",ROUND('[1]Tabla de Amortizacion'!C113,8),IF([1]CALCULADORA!$F$10=\"6% (Medio)\",ROUND('[1]Tabla de Amortizacion'!F113,8),IF([1]CALCULADORA!$F$10=\"10% (Medio Alto)\",ROUND('[1]Tabla de Amortizacion'!H113,8),IF([1]CALCULADORA!$F$10=\"14% (Alto)\",ROUND('[1]Tabla de Amortizacion'!#REF!,8),IF([1]CALCULADORA!$F$10=20%,ROUND('[1]Tabla de Amortizacion'!#REF!,8),ROUND('[1]Tabla de Amortizacion'!K113,8))))))","v":0}]
["2030-10-24",0,{"$f":"+VLOOKUP(A113,'Tabla de Amortizacion'!$D$2:$M$182,MATCH(Tablas!$B$1,'Tabla de Amortizacion'!$D$2:$M$2,0))","v":0},null,{"$f":"IF([1]CALCULADORA!$F$10=\"Contractual\",ROUND('[1]Tabla de Amortizacion'!C114,8),IF([1]CALCULADORA!$F$10=\"6% (Medio)\",ROUND('[1]Tabla de Amortizacion'!F114,8),IF([1]CALCULADORA!$F$10=\"10% (Medio Alto)\",ROUND('[1]Tabla de Amortizacion'!H114,8),IF([1]CALCULADORA!$F$10=\"14% (Alto)\",ROUND('[1]Tabla de Amortizacion'!#REF!,8),IF([1]CALCULADORA!$F$10=20%,ROUND('[1]Tabla de Amortizacion'!#REF!,8),ROUND('[1]Tabla de Amortizacion'!K114,8))))))","v":0}]
["2030-11-24",0,{"$f":"+VLOOKUP(A114,'Tabla de Amortizacion'!$D$2:$M$182,MATCH(Tablas!$B$1,'Tabla de Amortizacion'!$D$2:$M$2,0))","v":0},null,{"$f":"IF([1]CALCULADORA!$F$10=\"Contractual\",ROUND('[1]Tabla de Amortizacion'!C115,8),IF([1]CALCULADORA!$F$10=\"6% (Medio)\",ROUND('[1]Tabla de Amortizacion'!F115,8),IF([1]CALCULADORA!$F$10=\"10% (Medio Alto)\",ROUND('[1]Tabla de Amortizacion'!H115,8),IF([1]CALCULADORA!$F$10=\"14% (Alto)\",ROUND('[1]Tabla de Amortizacion'!#REF!,8),IF([1]CALCULADORA!$F$10=20%,ROUND('[1]Tabla de Amortizacion'!#REF!,8),ROUND('[1]Tabla de Amortizacion'!K115,8))))))","v":0}]
["2030-12-24",0,{"$f":"+VLOOKUP(A115,'Tabla de Amortizacion'!$D$2:$M$182,MATCH(Tablas!$B$1,'Tabla de Amortizacion'!$D$2:$M$2,0))","v":0},null,{"$f":"IF([1]CALCULADORA!$F$10=\"Contractual\",ROUND('[1]Tabla de Amortizacion'!C116,8),IF([1]CALCULADORA!$F$10=\"6% (Medio)\",ROUND('[1]Tabla de Amortizacion'!F116,8),IF([1]CALCULADORA!$F$10=\"10% (Medio Alto)\",ROUND('[1]Tabla de Amortizacion'!H116,8),IF([1]CALCULADORA!$F$10=\"14% (Alto)\",ROUND('[1]Tabla de Amortizacion'!#REF!,8),IF([1]CALCULADORA!$F$10=20%,ROUND('[1]Tabla de Amortizacion'!#REF!,8),ROUND('[1]Tabla de Amortizacion'!K116,8))))))","v":0}]
["2031-01-24",4.4832999999999999E-4,{"$f":"+VLOOKUP(A116,'Tabla de Amortizacion'!$D$2:$M$182,MATCH(Tablas!$B$1,'Tabla de Amortizacion'!$D$2:$M$2,0))","v":4.4832999999999999E-4},null,{"$f":"IF([1]CALCULADORA!$F$10=\"Contractual\",ROUND('[1]Tabla de Amortizacion'!C117,8),IF([1]CALCULADORA!$F$10=\"6% (Medio)\",ROUND('[1]Tabla de Amortizacion'!F117,8),IF([1]CALCULADORA!$F$10=\"10% (Medio Alto)\",ROUND('[1]Tabla de Amortizacion'!H117,8),IF([1]CALCULADORA!$F$10=\"14% (Alto)\",ROUND('[1]Tabla de Amortizacion'!#REF!,8),IF([1]CALCULADORA!$F$10=20%,ROUND('[1]Tabla de Amortizacion'!#REF!,8),ROUND('[1]Tabla de Amortizacion'!K117,8))))))","v":0}]
["2031-02-24",3.5551300000000001E-3,{"$f":"+VLOOKUP(A117,'Tabla de Amortizacion'!$D$2:$M$182,MATCH(Tablas!$B$1,'Tabla de Amortizacion'!$D$2:$M$2,0))","v":3.5551300000000001E-3},null,{"$f":"IF([1]CALCULADORA!$F$10=\"Contractual\",ROUND('[1]Tabla de Amortizacion'!C118,8),IF([1]CALCULADORA!$F$10=\"6% (Medio)\",ROUND('[1]Tabla de Amortizacion'!F118,8),IF([1]CALCULADORA!$F$10=\"10% (Medio Alto)\",ROUND('[1]Tabla de Amortizacion'!H118,8),IF([1]CALCULADORA!$F$10=\"14% (Alto)\",ROUND('[1]Tabla de Amortizacion'!#REF!,8),IF([1]CALCULADORA!$F$10=20%,ROUND('[1]Tabla de Amortizacion'!#REF!,8),ROUND('[1]Tabla de Amortizacion'!K118,8))))))","v":0}]
["2031-03-24",3.5076999999999999E-3,{"$f":"+VLOOKUP(A118,'Tabla de Amortizacion'!$D$2:$M$182,MATCH(Tablas!$B$1,'Tabla de Amortizacion'!$D$2:$M$2,0))","v":3.5076999999999999E-3},null,{"$f":"IF([1]CALCULADORA!$F$10=\"Contractual\",ROUND('[1]Tabla de Amortizacion'!C119,8),IF([1]CALCULADORA!$F$10=\"6% (Medio)\",ROUND('[1]Tabla de Amortizacion'!F119,8),IF([1]CALCULADORA!$F$10=\"10% (Medio Alto)\",ROUND('[1]Tabla de Amortizacion'!H119,8),IF([1]CALCULADORA!$F$10=\"14% (Alto)\",ROUND('[1]Tabla de Amortizacion'!#REF!,8),IF([1]CALCULADORA!$F$10=20%,ROUND('[1]Tabla de Amortizacion'!#REF!,8),ROUND('[1]Tabla de Amortizacion'!K119,8))))))","v":0}]
["2031-04-24",3.4688499999999999E-3,{"$f":"+VLOOKUP(A119,'Tabla de Amortizacion'!$D$2:$M$182,MATCH(Tablas!$B$1,'Tabla de Amortizacion'!$D$2:$M$2,0))","v":3.4688499999999999E-3},null,{"$f":"IF([1]CALCULADORA!$F$10=\"Contractual\",ROUND('[1]Tabla de Amortizacion'!C120,8),IF([1]CALCULADORA!$F$10=\"6% (Medio)\",ROUND('[1]Tabla de Amortizacion'!F120,8),IF([1]CALCULADORA!$F$10=\"10% (Medio Alto)\",ROUND('[1]Tabla de Amortizacion'!H120,8),IF([1]CALCULADORA!$F$10=\"14% (Alto)\",ROUND('[1]Tabla de Amortizacion'!#REF!,8),IF([1]CALCULADORA!$F$10=20%,ROUND('[1]Tabla de Amortizacion'!#REF!,8),ROUND('[1]Tabla de Amortizacion'!K120,8))))))","v":0}]
["2031-05-24",3.4330599999999999E-3,{"$f":"+VLOOKUP(A120,'Tabla de Amortizacion'!$D$2:$M$182,MATCH(Tablas!$B$1,'Tabla de Amortizacion'!$D$2:$M$2,0))","v":3.4330599999999999E-3},null,{"$f":"IF([1]CALCULADORA!$F$10=\"Contractual\",ROUND('[1]Tabla de Amortizacion'!C121,8),IF([1]CALCULADORA!$F$10=\"6% (Medio)\",ROUND('[1]Tabla de Amortizacion'!F121,8),IF([1]CALCULADORA!$F$10=\"10% (Medio Alto)\",ROUND('[1]Tabla de Amortizacion'!H121,8),IF([1]CALCULADORA!$F$10=\"14% (Alto)\",ROUND('[1]Tabla de Amortizacion'!#REF!,8),IF([1]CALCULADORA!$F$10=20%,ROUND('[1]Tabla de Amortizacion'!#REF!,8),ROUND('[1]Tabla de Amortizacion'!K121,8))))))","v":0}]
["2031-06-24",3.0928000000000001E-3,{"$f":"+VLOOKUP(A121,'Tabla de Amortizacion'!$D$2:$M$182,MATCH(Tablas!$B$1,'Tabla de Amortizacion'!$D$2:$M$2,0))","v":3.0928000000000001E-3},null,{"$f":"IF([1]CALCULADORA!$F$10=\"Contractual\",ROUND('[1]Tabla de Amortizacion'!C122,8),IF([1]CALCULADORA!$F$10=\"6% (Medio)\",ROUND('[1]Tabla de Amortizacion'!F122,8),IF([1]CALCULADORA!$F$10=\"10% (Medio Alto)\",ROUND('[1]Tabla de Amortizacion'!H122,8),IF([1]CALCULADORA!$F$10=\"14% (Alto)\",ROUND('[1]Tabla de Amortizacion'!#REF!,8),IF([1]CALCULADORA!$F$10=20%,ROUND('[1]Tabla de Amortizacion'!#REF!,8),ROUND('[1]Tabla de Amortizacion'!K122,8))))))","v":0}]
["2031-07-24",3.35498E-3,{"$f":"+VLOOKUP(A122,'Tabla de Amortizacion'!$D$2:$M$182,MATCH(Tablas!$B$1,'Tabla de Amortizacion'!$D$2:$M$2,0))","v":3.35498E-3},null,{"$f":"IF([1]CALCULADORA!$F$10=\"Contractual\",ROUND('[1]Tabla de Amortizacion'!C123,8),IF([1]CALCULADORA!$F$10=\"6% (Medio)\",ROUND('[1]Tabla de Amortizacion'!F123,8),IF([1]CALCULADORA!$F$10=\"10% (Medio Alto)\",ROUND('[1]Tabla de Amortizacion'!H123,8),IF([1]CALCULADORA!$F$10=\"14% (Alto)\",ROUND('[1]Tabla de Amortizacion'!#REF!,8),IF([1]CALCULADORA!$F$10=20%,ROUND('[1]Tabla de Amortizacion'!#REF!,8),ROUND('[1]Tabla de Amortizacion'!K123,8))))))","v":0}]
["2031-08-24",3.3207800000000002E-3,{"$f":"+VLOOKUP(A123,'Tabla de Amortizacion'!$D$2:$M$182,MATCH(Tablas!$B$1,'Tabla de Amortizacion'!$D$2:$M$2,0))","v":3.3207800000000002E-3},null,{"$f":"IF([1]CALCULADORA!$F$10=\"Contractual\",ROUND('[1]Tabla de Amortizacion'!C124,8),IF([1]CALCULADORA!$F$10=\"6% (Medio)\",ROUND('[1]Tabla de Amortizacion'!F124,8),IF([1]CALCULADORA!$F$10=\"10% (Medio Alto)\",ROUND('[1]Tabla de Amortizacion'!H124,8),IF([1]CALCULADORA!$F$10=\"14% (Alto)\",ROUND('[1]Tabla de Amortizacion'!#REF!,8),IF([1]CALCULADORA!$F$10=20%,ROUND('[1]Tabla de Amortizacion'!#REF!,8),ROUND('[1]Tabla de Amortizacion'!K124,8))))))","v":0}]
["2031-09-24",3.2857400000000001E-3,{"$f":"+VLOOKUP(A124,'Tabla de Amortizacion'!$D$2:$M$182,MATCH(Tablas!$B$1,'Tabla de Amortizacion'!$D$2:$M$2,0))","v":3.2857400000000001E-3},null,{"$f":"IF([1]CALCULADORA!$F$10=\"Contractual\",ROUND('[1]Tabla de Amortizacion'!C125,8),IF([1]CALCULADORA!$F$10=\"6% (Medio)\",ROUND('[1]Tabla de Amortizacion'!F125,8),IF([1]CALCULADORA!$F$10=\"10% (Medio Alto)\",ROUND('[1]Tabla de Amortizacion'!H125,8),IF([1]CALCULADORA!$F$10=\"14% (Alto)\",ROUND('[1]Tabla de Amortizacion'!#REF!,8),IF([1]CALCULADORA!$F$10=20%,ROUND('[1]Tabla de Amortizacion'!#REF!,8),ROUND('[1]Tabla de Amortizacion'!K125,8))))))","v":0}]
["2031-10-24",3.24947E-3,{"$f":"+VLOOKUP(A125,'Tabla de Amortizacion'!$D$2:$M$182,MATCH(Tablas!$B$1,'Tabla de Amortizacion'!$D$2:$M$2,0))","v":3.24947E-3},null,{"$f":"IF([1]CALCULADORA!$F$10=\"Contractual\",ROUND('[1]Tabla de Amortizacion'!C126,8),IF([1]CALCULADORA!$F$10=\"6% (Medio)\",ROUND('[1]Tabla de Amortizacion'!F126,8),IF([1]CALCULADORA!$F$10=\"10% (Medio Alto)\",ROUND('[1]Tabla de Amortizacion'!H126,8),IF([1]CALCULADORA!$F$10=\"14% (Alto)\",ROUND('[1]Tabla de Amortizacion'!#REF!,8),IF([1]CALCULADORA!$F$10=20%,ROUND('[1]Tabla de Amortizacion'!#REF!,8),ROUND('[1]Tabla de Amortizacion'!K126,8))))))","v":0}]
["2031-11-24",3.2093400000000002E-3,{"$f":"+VLOOKUP(A126,'Tabla de Amortizacion'!$D$2:$M$182,MATCH(Tablas!$B$1,'Tabla de Amortizacion'!$D$2:$M$2,0))","v":3.2093400000000002E-3},null,{"$f":"IF([1]CALCULADORA!$F$10=\"Contractual\",ROUND('[1]Tabla de Amortizacion'!C127,8),IF([1]CALCULADORA!$F$10=\"6% (Medio)\",ROUND('[1]Tabla de Amortizacion'!F127,8),IF([1]CALCULADORA!$F$10=\"10% (Medio Alto)\",ROUND('[1]Tabla de Amortizacion'!H127,8),IF([1]CALCULADORA!$F$10=\"14% (Alto)\",ROUND('[1]Tabla de Amortizacion'!#REF!,8),IF([1]CALCULADORA!$F$10=20%,ROUND('[1]Tabla de Amortizacion'!#REF!,8),ROUND('[1]Tabla de Amortizacion'!K127,8))))))","v":0}]
["2031-12-24",3.1749899999999999E-3,{"$f":"+VLOOKUP(A127,'Tabla de Amortizacion'!$D$2:$M$182,MATCH(Tablas!$B$1,'Tabla de Amortizacion'!$D$2:$M$2,0))","v":3.1749899999999999E-3},null,{"$f":"IF([1]CALCULADORA!$F$10=\"Contractual\",ROUND('[1]Tabla de Amortizacion'!C128,8),IF([1]CALCULADORA!$F$10=\"6% (Medio)\",ROUND('[1]Tabla de Amortizacion'!F128,8),IF([1]CALCULADORA!$F$10=\"10% (Medio Alto)\",ROUND('[1]Tabla de Amortizacion'!H128,8),IF([1]CALCULADORA!$F$10=\"14% (Alto)\",ROUND('[1]Tabla de Amortizacion'!#REF!,8),IF([1]CALCULADORA!$F$10=20%,ROUND('[1]Tabla de Amortizacion'!#REF!,8),ROUND('[1]Tabla de Amortizacion'!K128,8))))))","v":0}]
["2032-01-24",2.07822E-3,{"$f":"+VLOOKUP(A128,'Tabla de Amortizacion'!$D$2:$M$182,MATCH(Tablas!$B$1,'Tabla de Amortizacion'!$D$2:$M$2,0))","v":2.07822E-3},null,{"$f":"IF([1]CALCULADORA!$F$10=\"Contractual\",ROUND('[1]Tabla de Amortizacion'!C129,8),IF([1]CALCULADORA!$F$10=\"6% (Medio)\",ROUND('[1]Tabla de Amortizacion'!F129,8),IF([1]CALCULADORA!$F$10=\"10% (Medio Alto)\",ROUND('[1]Tabla de Amortizacion'!H129,8),IF([1]CALCULADORA!$F$10=\"14% (Alto)\",ROUND('[1]Tabla de Amortizacion'!#REF!,8),IF([1]CALCULADORA!$F$10=20%,ROUND('[1]Tabla de Amortizacion'!#REF!,8),ROUND('[1]Tabla de Amortizacion'!K129,8))))))","v":0}]
["2032-02-24",0,{"$f":"+VLOOKUP(A129,'Tabla de Amortizacion'!$D$2:$M$182,MATCH(Tablas!$B$1,'Tabla de Amortizacion'!$D$2:$M$2,0))","v":0},null,{"$f":"IF([1]CALCULADORA!$F$10=\"Contractual\",ROUND('[1]Tabla de Amortizacion'!C130,8),IF([1]CALCULADORA!$F$10=\"6% (Medio)\",ROUND('[1]Tabla de Amortizacion'!F130,8),IF([1]CALCULADORA!$F$10=\"10% (Medio Alto)\",ROUND('[1]Tabla de Amortizacion'!H130,8),IF([1]CALCULADORA!$F$10=\"14% (Alto)\",ROUND('[1]Tabla de Amortizacion'!#REF!,8),IF([1]CALCULADORA!$F$10=20%,ROUND('[1]Tabla de Amortizacion'!#REF!,8),ROUND('[1]Tabla de Amortizacion'!K130,8))))))","v":0}]
["2032-03-24",0,{"$f":"+VLOOKUP(A130,'Tabla de Amortizacion'!$D$2:$M$182,MATCH(Tablas!$B$1,'Tabla de Amortizacion'!$D$2:$M$2,0))","v":0},null,{"$f":"IF([1]CALCULADORA!$F$10=\"Contractual\",ROUND('[1]Tabla de Amortizacion'!C131,8),IF([1]CALCULADORA!$F$10=\"6% (Medio)\",ROUND('[1]Tabla de Amortizacion'!F131,8),IF([1]CALCULADORA!$F$10=\"10% (Medio Alto)\",ROUND('[1]Tabla de Amortizacion'!H131,8),IF([1]CALCULADORA!$F$10=\"14% (Alto)\",ROUND('[1]Tabla de Amortizacion'!#REF!,8),IF([1]CALCULADORA!$F$10=20%,ROUND('[1]Tabla de Amortizacion'!#REF!,8),ROUND('[1]Tabla de Amortizacion'!K131,8))))))","v":0}]
[{"$f":"EDATE(A130,1)","v":"2032-04-24"},{"$f":"+ROUND(C131,8)","v":0},{"$f":"+VLOOKUP(A131,'Tabla de Amortizacion'!$D$2:$M$182,MATCH(Tablas!$B$1,'Tabla de Amortizacion'!$D$2:$M$2,0))","v":0},null,{"$f":"IF([1]CALCULADORA!$F$10=\"Contractual\",ROUND('[1]Tabla de Amortizacion'!C132,8),IF([1]CALCULADORA!$F$10=\"6% (Medio)\",ROUND('[1]Tabla de Amortizacion'!F132,8),IF([1]CALCULADORA!$F$10=\"10% (Medio Alto)\",ROUND('[1]Tabla de Amortizacion'!H132,8),IF([1]CALCULADORA!$F$10=\"14% (Alto)\",ROUND('[1]Tabla de Amortizacion'!#REF!,8),IF([1]CALCULADORA!$F$10=20%,ROUND('[1]Tabla de Amortizacion'!#REF!,8),ROUND('[1]Tabla de Amortizacion'!K132,8))))))","v":0}]
["2032-05-24",0,{"$f":"+VLOOKUP(A132,'Tabla de Amortizacion'!$D$2:$M$182,MATCH(Tablas!$B$1,'Tabla de Amortizacion'!$D$2:$M$2,0))","v":0},null,{"$f":"IF([1]CALCULADORA!$F$10=\"Contractual\",ROUND('[1]Tabla de Amortizacion'!C133,8),IF([1]CALCULADORA!$F$10=\"6% (Medio)\",ROUND('[1]Tabla de Amortizacion'!F133,8),IF([1]CALCULADORA!$F$10=\"10% (Medio Alto)\",ROUND('[1]Tabla de Amortizacion'!H133,8),IF([1]CALCULADORA!$F$10=\"14% (Alto)\",ROUND('[1]Tabla de Amortizacion'!#REF!,8),IF([1]CALCULADORA!$F$10=20%,ROUND('[1]Tabla de Amortizacion'!#REF!,8),ROUND('[1]Tabla de Amortizacion'!K133,8))))))","v":0}]
["2032-06-24",0,{"$f":"+VLOOKUP(A133,'Tabla de Amortizacion'!$D$2:$M$182,MATCH(Tablas!$B$1,'Tabla de Amortizacion'!$D$2:$M$2,0))","v":0},null,{"$f":"IF([1]CALCULADORA!$F$10=\"Contractual\",ROUND('[1]Tabla de Amortizacion'!C134,8),IF([1]CALCULADORA!$F$10=\"6% (Medio)\",ROUND('[1]Tabla de Amortizacion'!F134,8),IF([1]CALCULADORA!$F$10=\"10% (Medio Alto)\",ROUND('[1]Tabla de Amortizacion'!H134,8),IF([1]CALCULADORA!$F$10=\"14% (Alto)\",ROUND('[1]Tabla de Amortizacion'!#REF!,8),IF([1]CALCULADORA!$F$10=20%,ROUND('[1]Tabla de Amortizacion'!#REF!,8),ROUND('[1]Tabla de Amortizacion'!K134,8))))))","v":0}]
["2032-07-24",0,{"$f":"+VLOOKUP(A134,'Tabla de Amortizacion'!$D$2:$M$182,MATCH(Tablas!$B$1,'Tabla de Amortizacion'!$D$2:$M$2,0))","v":0},null,{"$f":"IF([1]CALCULADORA!$F$10=\"Contractual\",ROUND('[1]Tabla de Amortizacion'!C135,8),IF([1]CALCULADORA!$F$10=\"6% (Medio)\",ROUND('[1]Tabla de Amortizacion'!F135,8),IF([1]CALCULADORA!$F$10=\"10% (Medio Alto)\",ROUND('[1]Tabla de Amortizacion'!H135,8),IF([1]CALCULADORA!$F$10=\"14% (Alto)\",ROUND('[1]Tabla de Amortizacion'!#REF!,8),IF([1]CALCULADORA!$F$10=20%,ROUND('[1]Tabla de Amortizacion'!#REF!,8),ROUND('[1]Tabla de Amortizacion'!K135,8))))))","v":0}]
["2032-08-24",0,{"$f":"+VLOOKUP(A135,'Tabla de Amortizacion'!$D$2:$M$182,MATCH(Tablas!$B$1,'Tabla de Amortizacion'!$D$2:$M$2,0))","v":0},null,{"$f":"IF([1]CALCULADORA!$F$10=\"Contractual\",ROUND('[1]Tabla de Amortizacion'!C136,8),IF([1]CALCULADORA!$F$10=\"6% (Medio)\",ROUND('[1]Tabla de Amortizacion'!F136,8),IF([1]CALCULADORA!$F$10=\"10% (Medio Alto)\",ROUND('[1]Tabla de Amortizacion'!H136,8),IF([1]CALCULADORA!$F$10=\"14% (Alto)\",ROUND('[1]Tabla de Amortizacion'!#REF!,8),IF([1]CALCULADORA!$F$10=20%,ROUND('[1]Tabla de Amortizacion'!#REF!,8),ROUND('[1]Tabla de Amortizacion'!K136,8))))))","v":0}]
["2032-09-24",0,{"$f":"+VLOOKUP(A136,'Tabla de Amortizacion'!$D$2:$M$182,MATCH(Tablas!$B$1,'Tabla de Amortizacion'!$D$2:$M$2,0))","v":0},null,{"$f":"IF([1]CALCULADORA!$F$10=\"Contractual\",ROUND('[1]Tabla de Amortizacion'!C137,8),IF([1]CALCULADORA!$F$10=\"6% (Medio)\",ROUND('[1]Tabla de Amortizacion'!F137,8),IF([1]CALCULADORA!$F$10=\"10% (Medio Alto)\",ROUND('[1]Tabla de Amortizacion'!H137,8),IF([1]CALCULADORA!$F$10=\"14% (Alto)\",ROUND('[1]Tabla de Amortizacion'!#REF!,8),IF([1]CALCULADORA!$F$10=20%,ROUND('[1]Tabla de Amortizacion'!#REF!,8),ROUND('[1]Tabla de Amortizacion'!K137,8))))))","v":0}]
["2032-10-24",0,{"$f":"+VLOOKUP(A137,'Tabla de Amortizacion'!$D$2:$M$182,MATCH(Tablas!$B$1,'Tabla de Amortizacion'!$D$2:$M$2,0))","v":0},null,{"$f":"IF([1]CALCULADORA!$F$10=\"Contractual\",ROUND('[1]Tabla de Amortizacion'!C138,8),IF([1]CALCULADORA!$F$10=\"6% (Medio)\",ROUND('[1]Tabla de Amortizacion'!F138,8),IF([1]CALCULADORA!$F$10=\"10% (Medio Alto)\",ROUND('[1]Tabla de Amortizacion'!H138,8),IF([1]CALCULADORA!$F$10=\"14% (Alto)\",ROUND('[1]Tabla de Amortizacion'!#REF!,8),IF([1]CALCULADORA!$F$10=20%,ROUND('[1]Tabla de Amortizacion'!#REF!,8),ROUND('[1]Tabla de Amortizacion'!K138,8))))))","v":0}]
["2032-11-24",0,{"$f":"+VLOOKUP(A138,'Tabla de Amortizacion'!$D$2:$M$182,MATCH(Tablas!$B$1,'Tabla de Amortizacion'!$D$2:$M$2,0))","v":0},null,{"$f":"IF([1]CALCULADORA!$F$10=\"Contractual\",ROUND('[1]Tabla de Amortizacion'!C139,8),IF([1]CALCULADORA!$F$10=\"6% (Medio)\",ROUND('[1]Tabla de Amortizacion'!F139,8),IF([1]CALCULADORA!$F$10=\"10% (Medio Alto)\",ROUND('[1]Tabla de Amortizacion'!H139,8),IF([1]CALCULADORA!$F$10=\"14% (Alto)\",ROUND('[1]Tabla de Amortizacion'!#REF!,8),IF([1]CALCULADORA!$F$10=20%,ROUND('[1]Tabla de Amortizacion'!#REF!,8),ROUND('[1]Tabla de Amortizacion'!K139,8))))))","v":0}]
["2032-12-24",0,{"$f":"+VLOOKUP(A139,'Tabla de Amortizacion'!$D$2:$M$182,MATCH(Tablas!$B$1,'Tabla de Amortizacion'!$D$2:$M$2,0))","v":0},null,{"$f":"IF([1]CALCULADORA!$F$10=\"Contractual\",ROUND('[1]Tabla de Amortizacion'!C140,8),IF([1]CALCULADORA!$F$10=\"6% (Medio)\",ROUND('[1]Tabla de Amortizacion'!F140,8),IF([1]CALCULADORA!$F$10=\"10% (Medio Alto)\",ROUND('[1]Tabla de Amortizacion'!H140,8),IF([1]CALCULADORA!$F$10=\"14% (Alto)\",ROUND('[1]Tabla de Amortizacion'!#REF!,8),IF([1]CALCULADORA!$F$10=20%,ROUND('[1]Tabla de Amortizacion'!#REF!,8),ROUND('[1]Tabla de Amortizacion'!K140,8))))))","v":0}]
["2033-01-24",0,{"$f":"+VLOOKUP(A140,'Tabla de Amortizacion'!$D$2:$M$182,MATCH(Tablas!$B$1,'Tabla de Amortizacion'!$D$2:$M$2,0))","v":0},null,{"$f":"IF([1]CALCULADORA!$F$10=\"Contractual\",ROUND('[1]Tabla de Amortizacion'!C141,8),IF([1]CALCULADORA!$F$10=\"6% (Medio)\",ROUND('[1]Tabla de Amortizacion'!F141,8),IF([1]CALCULADORA!$F$10=\"10% (Medio Alto)\",ROUND('[1]Tabla de Amortizacion'!H141,8),IF([1]CALCULADORA!$F$10=\"14% (Alto)\",ROUND('[1]Tabla de Amortizacion'!#REF!,8),IF([1]CALCULADORA!$F$10=20%,ROUND('[1]Tabla de Amortizacion'!#REF!,8),ROUND('[1]Tabla de Amortizacion'!K141,8))))))","v":0}]
["2033-02-24",0,{"$f":"+VLOOKUP(A141,'Tabla de Amortizacion'!$D$2:$M$182,MATCH(Tablas!$B$1,'Tabla de Amortizacion'!$D$2:$M$2,0))","v":0},null,{"$f":"IF([1]CALCULADORA!$F$10=\"Contractual\",ROUND('[1]Tabla de Amortizacion'!C142,8),IF([1]CALCULADORA!$F$10=\"6% (Medio)\",ROUND('[1]Tabla de Amortizacion'!F142,8),IF([1]CALCULADORA!$F$10=\"10% (Medio Alto)\",ROUND('[1]Tabla de Amortizacion'!H142,8),IF([1]CALCULADORA!$F$10=\"14% (Alto)\",ROUND('[1]Tabla de Amortizacion'!#REF!,8),IF([1]CALCULADORA!$F$10=20%,ROUND('[1]Tabla de Amortizacion'!#REF!,8),ROUND('[1]Tabla de Amortizacion'!K142,8))))))","v":0}]
["2033-03-24",0,{"$f":"+VLOOKUP(A142,'Tabla de Amortizacion'!$D$2:$M$182,MATCH(Tablas!$B$1,'Tabla de Amortizacion'!$D$2:$M$2,0))","v":0},null,{"$f":"IF([1]CALCULADORA!$F$10=\"Contractual\",ROUND('[1]Tabla de Amortizacion'!C143,8),IF([1]CALCULADORA!$F$10=\"6% (Medio)\",ROUND('[1]Tabla de Amortizacion'!F143,8),IF([1]CALCULADORA!$F$10=\"10% (Medio Alto)\",ROUND('[1]Tabla de Amortizacion'!H143,8),IF([1]CALCULADORA!$F$10=\"14% (Alto)\",ROUND('[1]Tabla de Amortizacion'!#REF!,8),IF([1]CALCULADORA!$F$10=20%,ROUND('[1]Tabla de Amortizacion'!#REF!,8),ROUND('[1]Tabla de Amortizacion'!K143,8))))))","v":0}]
["2033-04-24",0,{"$f":"+VLOOKUP(A143,'Tabla de Amortizacion'!$D$2:$M$182,MATCH(Tablas!$B$1,'Tabla de Amortizacion'!$D$2:$M$2,0))","v":0},null,{"$f":"IF([1]CALCULADORA!$F$10=\"Contractual\",ROUND('[1]Tabla de Amortizacion'!C144,8),IF([1]CALCULADORA!$F$10=\"6% (Medio)\",ROUND('[1]Tabla de Amortizacion'!F144,8),IF([1]CALCULADORA!$F$10=\"10% (Medio Alto)\",ROUND('[1]Tabla de Amortizacion'!H144,8),IF([1]CALCULADORA!$F$10=\"14% (Alto)\",ROUND('[1]Tabla de Amortizacion'!#REF!,8),IF([1]CALCULADORA!$F$10=20%,ROUND('[1]Tabla de Amortizacion'!#REF!,8),ROUND('[1]Tabla de Amortizacion'!K144,8))))))","v":0}]
["2033-05-24",0,{"$f":"+VLOOKUP(A144,'Tabla de Amortizacion'!$D$2:$M$182,MATCH(Tablas!$B$1,'Tabla de Amortizacion'!$D$2:$M$2,0))","v":0},null,{"$f":"IF([1]CALCULADORA!$F$10=\"Contractual\",ROUND('[1]Tabla de Amortizacion'!C145,8),IF([1]CALCULADORA!$F$10=\"6% (Medio)\",ROUND('[1]Tabla de Amortizacion'!F145,8),IF([1]CALCULADORA!$F$10=\"10% (Medio Alto)\",ROUND('[1]Tabla de Amortizacion'!H145,8),IF([1]CALCULADORA!$F$10=\"14% (Alto)\",ROUND('[1]Tabla de Amortizacion'!#REF!,8),IF([1]CALCULADORA!$F$10=20%,ROUND('[1]Tabla de Amortizacion'!#REF!,8),ROUND('[1]Tabla de Amortizacion'!K145,8))))))","v":0}]
["2033-06-24",0,{"$f":"+VLOOKUP(A145,'Tabla de Amortizacion'!$D$2:$M$182,MATCH(Tablas!$B$1,'Tabla de Amortizacion'!$D$2:$M$2,0))","v":0},null,{"$f":"IF([1]CALCULADORA!$F$10=\"Contractual\",ROUND('[1]Tabla de Amortizacion'!C146,8),IF([1]CALCULADORA!$F$10=\"6% (Medio)\",ROUND('[1]Tabla de Amortizacion'!F146,8),IF([1]CALCULADORA!$F$10=\"10% (Medio Alto)\",ROUND('[1]Tabla de Amortizacion'!H146,8),IF([1]CALCULADORA!$F$10=\"14% (Alto)\",ROUND('[1]Tabla de Amortizacion'!#REF!,8),IF([1]CALCULADORA!$F$10=20%,ROUND('[1]Tabla de Amortizacion'!#REF!,8),ROUND('[1]Tabla de Amortizacion'!K146,8))))))","v":0}]
["2033-07-24",0,{"$f":"+VLOOKUP(A146,'Tabla de Amortizacion'!$D$2:$M$182,MATCH(Tablas!$B$1,'Tabla de Amortizacion'!$D$2:$M$2,0))","v":0},null,{"$f":"IF([1]CALCULADORA!$F$10=\"Contractual\",ROUND('[1]Tabla de Amortizacion'!C147,8),IF([1]CALCULADORA!$F$10=\"6% (Medio)\",ROUND('[1]Tabla de Amortizacion'!F147,8),IF([1]CALCULADORA!$F$10=\"10% (Medio Alto)\",ROUND('[1]Tabla de Amortizacion'!H147,8),IF([1]CALCULADORA!$F$10=\"14% (Alto)\",ROUND('[1]Tabla de Amortizacion'!#REF!,8),IF([1]CALCULADORA!$F$10=20%,ROUND('[1]Tabla de Amortizacion'!#REF!,8),ROUND('[1]Tabla de Amortizacion'!K147,8))))))","v":0}]
["2033-08-24",0,{"$f":"+VLOOKUP(A147,'Tabla de Amortizacion'!$D$2:$M$182,MATCH(Tablas!$B$1,'Tabla de Amortizacion'!$D$2:$M$2,0))","v":0},null,{"$f":"IF([1]CALCULADORA!$F$10=\"Contractual\",ROUND('[1]Tabla de Amortizacion'!C148,8),IF([1]CALCULADORA!$F$10=\"6% (Medio)\",ROUND('[1]Tabla de Amortizacion'!F148,8),IF([1]CALCULADORA!$F$10=\"10% (Medio Alto)\",ROUND('[1]Tabla de Amortizacion'!H148,8),IF([1]CALCULADORA!$F$10=\"14% (Alto)\",ROUND('[1]Tabla de Amortizacion'!#REF!,8),IF([1]CALCULADORA!$F$10=20%,ROUND('[1]Tabla de Amortizacion'!#REF!,8),ROUND('[1]Tabla de Amortizacion'!K148,8))))))","v":0}]
["2033-09-24",0,{"$f":"+VLOOKUP(A148,'Tabla de Amortizacion'!$D$2:$M$182,MATCH(Tablas!$B$1,'Tabla de Amortizacion'!$D$2:$M$2,0))","v":0},null,{"$f":"IF([1]CALCULADORA!$F$10=\"Contractual\",ROUND('[1]Tabla de Amortizacion'!C149,8),IF([1]CALCULADORA!$F$10=\"6% (Medio)\",ROUND('[1]Tabla de Amortizacion'!F149,8),IF([1]CALCULADORA!$F$10=\"10% (Medio Alto)\",ROUND('[1]Tabla de Amortizacion'!H149,8),IF([1]CALCULADORA!$F$10=\"14% (Alto)\",ROUND('[1]Tabla de Amortizacion'!#REF!,8),IF([1]CALCULADORA!$F$10=20%,ROUND('[1]Tabla de Amortizacion'!#REF!,8),ROUND('[1]Tabla de Amortizacion'!K149,8))))))","v":0}]
["2033-10-24",0,{"$f":"+VLOOKUP(A149,'Tabla de Amortizacion'!$D$2:$M$182,MATCH(Tablas!$B$1,'Tabla de Amortizacion'!$D$2:$M$2,0))","v":0},null,{"$f":"IF([1]CALCULADORA!$F$10=\"Contractual\",ROUND('[1]Tabla de Amortizacion'!C150,8),IF([1]CALCULADORA!$F$10=\"6% (Medio)\",ROUND('[1]Tabla de Amortizacion'!F150,8),IF([1]CALCULADORA!$F$10=\"10% (Medio Alto)\",ROUND('[1]Tabla de Amortizacion'!H150,8),IF([1]CALCULADORA!$F$10=\"14% (Alto)\",ROUND('[1]Tabla de Amortizacion'!#REF!,8),IF([1]CALCULADORA!$F$10=20%,ROUND('[1]Tabla de Amortizacion'!#REF!,8),ROUND('[1]Tabla de Amortizacion'!K150,8))))))","v":0}]
["2033-11-24",0,{"$f":"+VLOOKUP(A150,'Tabla de Amortizacion'!$D$2:$M$182,MATCH(Tablas!$B$1,'Tabla de Amortizacion'!$D$2:$M$2,0))","v":0},null,{"$f":"IF([1]CALCULADORA!$F$10=\"Contractual\",ROUND('[1]Tabla de Amortizacion'!C151,8),IF([1]CALCULADORA!$F$10=\"6% (Medio)\",ROUND('[1]Tabla de Amortizacion'!F151,8),IF([1]CALCULADORA!$F$10=\"10% (Medio Alto)\",ROUND('[1]Tabla de Amortizacion'!H151,8),IF([1]CALCULADORA!$F$10=\"14% (Alto)\",ROUND('[1]Tabla de Amortizacion'!#REF!,8),IF([1]CALCULADORA!$F$10=20%,ROUND('[1]Tabla de Amortizacion'!#REF!,8),ROUND('[1]Tabla de Amortizacion'!K151,8))))))","v":0}]
["2033-12-24",0,{"$f":"+VLOOKUP(A151,'Tabla de Amortizacion'!$D$2:$M$182,MATCH(Tablas!$B$1,'Tabla de Amortizacion'!$D$2:$M$2,0))","v":0},null,{"$f":"IF([1]CALCULADORA!$F$10=\"Contractual\",ROUND('[1]Tabla de Amortizacion'!C152,8),IF([1]CALCULADORA!$F$10=\"6% (Medio)\",ROUND('[1]Tabla de Amortizacion'!F152,8),IF([1]CALCULADORA!$F$10=\"10% (Medio Alto)\",ROUND('[1]Tabla de Amortizacion'!H152,8),IF([1]CALCULADORA!$F$10=\"14% (Alto)\",ROUND('[1]Tabla de Amortizacion'!#REF!,8),IF([1]CALCULADORA!$F$10=20%,ROUND('[1]Tabla de Amortizacion'!#REF!,8),ROUND('[1]Tabla de Amortizacion'!K152,8))))))","v":0}]
["2034-01-24",0,{"$f":"+VLOOKUP(A152,'Tabla de Amortizacion'!$D$2:$M$182,MATCH(Tablas!$B$1,'Tabla de Amortizacion'!$D$2:$M$2,0))","v":0},null,{"$f":"IF([1]CALCULADORA!$F$10=\"Contractual\",ROUND('[1]Tabla de Amortizacion'!C153,8),IF([1]CALCULADORA!$F$10=\"6% (Medio)\",ROUND('[1]Tabla de Amortizacion'!F153,8),IF([1]CALCULADORA!$F$10=\"10% (Medio Alto)\",ROUND('[1]Tabla de Amortizacion'!H153,8),IF([1]CALCULADORA!$F$10=\"14% (Alto)\",ROUND('[1]Tabla de Amortizacion'!#REF!,8),IF([1]CALCULADORA!$F$10=20%,ROUND('[1]Tabla de Amortizacion'!#REF!,8),ROUND('[1]Tabla de Amortizacion'!K153,8))))))","v":0}]
["2034-02-24",0,{"$f":"+VLOOKUP(A153,'Tabla de Amortizacion'!$D$2:$M$182,MATCH(Tablas!$B$1,'Tabla de Amortizacion'!$D$2:$M$2,0))","v":0},null,{"$f":"IF([1]CALCULADORA!$F$10=\"Contractual\",ROUND('[1]Tabla de Amortizacion'!C154,8),IF([1]CALCULADORA!$F$10=\"6% (Medio)\",ROUND('[1]Tabla de Amortizacion'!F154,8),IF([1]CALCULADORA!$F$10=\"10% (Medio Alto)\",ROUND('[1]Tabla de Amortizacion'!H154,8),IF([1]CALCULADORA!$F$10=\"14% (Alto)\",ROUND('[1]Tabla de Amortizacion'!#REF!,8),IF([1]CALCULADORA!$F$10=20%,ROUND('[1]Tabla de Amortizacion'!#REF!,8),ROUND('[1]Tabla de Amortizacion'!K154,8))))))","v":0}]
["2034-03-24",0,{"$f":"+VLOOKUP(A154,'Tabla de Amortizacion'!$D$2:$M$182,MATCH(Tablas!$B$1,'Tabla de Amortizacion'!$D$2:$M$2,0))","v":0},null,{"$f":"IF([1]CALCULADORA!$F$10=\"Contractual\",ROUND('[1]Tabla de Amortizacion'!C155,8),IF([1]CALCULADORA!$F$10=\"6% (Medio)\",ROUND('[1]Tabla de Amortizacion'!F155,8),IF([1]CALCULADORA!$F$10=\"10% (Medio Alto)\",ROUND('[1]Tabla de Amortizacion'!H155,8),IF([1]CALCULADORA!$F$10=\"14% (Alto)\",ROUND('[1]Tabla de Amortizacion'!#REF!,8),IF([1]CALCULADORA!$F$10=20%,ROUND('[1]Tabla de Amortizacion'!#REF!,8),ROUND('[1]Tabla de Amortizacion'!K155,8))))))","v":0}]
["2034-04-24",0,{"$f":"+VLOOKUP(A155,'Tabla de Amortizacion'!$D$2:$M$182,MATCH(Tablas!$B$1,'Tabla de Amortizacion'!$D$2:$M$2,0))","v":0},null,{"$f":"IF([1]CALCULADORA!$F$10=\"Contractual\",ROUND('[1]Tabla de Amortizacion'!C156,8),IF([1]CALCULADORA!$F$10=\"6% (Medio)\",ROUND('[1]Tabla de Amortizacion'!F156,8),IF([1]CALCULADORA!$F$10=\"10% (Medio Alto)\",ROUND('[1]Tabla de Amortizacion'!H156,8),IF([1]CALCULADORA!$F$10=\"14% (Alto)\",ROUND('[1]Tabla de Amortizacion'!#REF!,8),IF([1]CALCULADORA!$F$10=20%,ROUND('[1]Tabla de Amortizacion'!#REF!,8),ROUND('[1]Tabla de Amortizacion'!K156,8))))))","v":0}]
["2034-05-24",0,{"$f":"+VLOOKUP(A156,'Tabla de Amortizacion'!$D$2:$M$182,MATCH(Tablas!$B$1,'Tabla de Amortizacion'!$D$2:$M$2,0))","v":0},null,{"$f":"IF([1]CALCULADORA!$F$10=\"Contractual\",ROUND('[1]Tabla de Amortizacion'!C157,8),IF([1]CALCULADORA!$F$10=\"6% (Medio)\",ROUND('[1]Tabla de Amortizacion'!F157,8),IF([1]CALCULADORA!$F$10=\"10% (Medio Alto)\",ROUND('[1]Tabla de Amortizacion'!H157,8),IF([1]CALCULADORA!$F$10=\"14% (Alto)\",ROUND('[1]Tabla de Amortizacion'!#REF!,8),IF([1]CALCULADORA!$F$10=20%,ROUND('[1]Tabla de Amortizacion'!#REF!,8),ROUND('[1]Tabla de Amortizacion'!K157,8))))))","v":0}]
["2034-06-24",0,{"$f":"+VLOOKUP(A157,'Tabla de Amortizacion'!$D$2:$M$182,MATCH(Tablas!$B$1,'Tabla de Amortizacion'!$D$2:$M$2,0))","v":0},null,{"$f":"IF([1]CALCULADORA!$F$10=\"Contractual\",ROUND('[1]Tabla de Amortizacion'!C158,8),IF([1]CALCULADORA!$F$10=\"6% (Medio)\",ROUND('[1]Tabla de Amortizacion'!F158,8),IF([1]CALCULADORA!$F$10=\"10% (Medio Alto)\",ROUND('[1]Tabla de Amortizacion'!H158,8),IF([1]CALCULADORA!$F$10=\"14% (Alto)\",ROUND('[1]Tabla de Amortizacion'!#REF!,8),IF([1]CALCULADORA!$F$10=20%,ROUND('[1]Tabla de Amortizacion'!#REF!,8),ROUND('[1]Tabla de Amortizacion'!K158,8))))))","v":0}]
["2034-07-24",0,{"$f":"+VLOOKUP(A158,'Tabla de Amortizacion'!$D$2:$M$182,MATCH(Tablas!$B$1,'Tabla de Amortizacion'!$D$2:$M$2,0))","v":0},null,{"$f":"IF([1]CALCULADORA!$F$10=\"Contractual\",ROUND('[1]Tabla de Amortizacion'!C159,8),IF([1]CALCULADORA!$F$10=\"6% (Medio)\",ROUND('[1]Tabla de Amortizacion'!F159,8),IF([1]CALCULADORA!$F$10=\"10% (Medio Alto)\",ROUND('[1]Tabla de Amortizacion'!H159,8),IF([1]CALCULADORA!$F$10=\"14% (Alto)\",ROUND('[1]Tabla de Amortizacion'!#REF!,8),IF([1]CALCULADORA!$F$10=20%,ROUND('[1]Tabla de Amortizacion'!#REF!,8),ROUND('[1]Tabla de Amortizacion'!K159,8))))))","v":0}]
["2034-08-24",0,{"$f":"+VLOOKUP(A159,'Tabla de Amortizacion'!$D$2:$M$182,MATCH(Tablas!$B$1,'Tabla de Amortizacion'!$D$2:$M$2,0))","v":0},null,{"$f":"IF([1]CALCULADORA!$F$10=\"Contractual\",ROUND('[1]Tabla de Amortizacion'!C160,8),IF([1]CALCULADORA!$F$10=\"6% (Medio)\",ROUND('[1]Tabla de Amortizacion'!F160,8),IF([1]CALCULADORA!$F$10=\"10% (Medio Alto)\",ROUND('[1]Tabla de Amortizacion'!H160,8),IF([1]CALCULADORA!$F$10=\"14% (Alto)\",ROUND('[1]Tabla de Amortizacion'!#REF!,8),IF([1]CALCULADORA!$F$10=20%,ROUND('[1]Tabla de Amortizacion'!#REF!,8),ROUND('[1]Tabla de Amortizacion'!K160,8))))))","v":0}]
["2034-09-24",0,{"$f":"+VLOOKUP(A160,'Tabla de Amortizacion'!$D$2:$M$182,MATCH(Tablas!$B$1,'Tabla de Amortizacion'!$D$2:$M$2,0))","v":0},null,{"$f":"IF([1]CALCULADORA!$F$10=\"Contractual\",ROUND('[1]Tabla de Amortizacion'!C161,8),IF([1]CALCULADORA!$F$10=\"6% (Medio)\",ROUND('[1]Tabla de Amortizacion'!F161,8),IF([1]CALCULADORA!$F$10=\"10% (Medio Alto)\",ROUND('[1]Tabla de Amortizacion'!H161,8),IF([1]CALCULADORA!$F$10=\"14% (Alto)\",ROUND('[1]Tabla de Amortizacion'!#REF!,8),IF([1]CALCULADORA!$F$10=20%,ROUND('[1]Tabla de Amortizacion'!#REF!,8),ROUND('[1]Tabla de Amortizacion'!K161,8))))))","v":0}]
["2034-10-24",0,{"$f":"+VLOOKUP(A161,'Tabla de Amortizacion'!$D$2:$M$182,MATCH(Tablas!$B$1,'Tabla de Amortizacion'!$D$2:$M$2,0))","v":0},null,{"$f":"IF([1]CALCULADORA!$F$10=\"Contractual\",ROUND('[1]Tabla de Amortizacion'!C162,8),IF([1]CALCULADORA!$F$10=\"6% (Medio)\",ROUND('[1]Tabla de Amortizacion'!F162,8),IF([1]CALCULADORA!$F$10=\"10% (Medio Alto)\",ROUND('[1]Tabla de Amortizacion'!H162,8),IF([1]CALCULADORA!$F$10=\"14% (Alto)\",ROUND('[1]Tabla de Amortizacion'!#REF!,8),IF([1]CALCULADORA!$F$10=20%,ROUND('[1]Tabla de Amortizacion'!#REF!,8),ROUND('[1]Tabla de Amortizacion'!K162,8))))))","v":0}]
["2034-11-24",0,{"$f":"+VLOOKUP(A162,'Tabla de Amortizacion'!$D$2:$M$182,MATCH(Tablas!$B$1,'Tabla de Amortizacion'!$D$2:$M$2,0))","v":0},null,{"$f":"IF([1]CALCULADORA!$F$10=\"Contractual\",ROUND('[1]Tabla de Amortizacion'!C163,8),IF([1]CALCULADORA!$F$10=\"6% (Medio)\",ROUND('[1]Tabla de Amortizacion'!F163,8),IF([1]CALCULADORA!$F$10=\"10% (Medio Alto)\",ROUND('[1]Tabla de Amortizacion'!H163,8),IF([1]CALCULADORA!$F$10=\"14% (Alto)\",ROUND('[1]Tabla de Amortizacion'!#REF!,8),IF([1]CALCULADORA!$F$10=20%,ROUND('[1]Tabla de Amortizacion'!#REF!,8),ROUND('[1]Tabla de Amortizacion'!K163,8))))))","v":0}]
["2034-12-24",0,{"$f":"+VLOOKUP(A163,'Tabla de Amortizacion'!$D$2:$M$182,MATCH(Tablas!$B$1,'Tabla de Amortizacion'!$D$2:$M$2,0))","v":0},null,{"$f":"IF([1]CALCULADORA!$F$10=\"Contractual\",ROUND('[1]Tabla de Amortizacion'!C164,8),IF([1]CALCULADORA!$F$10=\"6% (Medio)\",ROUND('[1]Tabla de Amortizacion'!F164,8),IF([1]CALCULADORA!$F$10=\"10% (Medio Alto)\",ROUND('[1]Tabla de Amortizacion'!H164,8),IF([1]CALCULADORA!$F$10=\"14% (Alto)\",ROUND('[1]Tabla de Amortizacion'!#REF!,8),IF([1]CALCULADORA!$F$10=20%,ROUND('[1]Tabla de Amortizacion'!#REF!,8),ROUND('[1]Tabla de Amortizacion'!K164,8))))))","v":0}]
["2035-01-24",0,{"$f":"+VLOOKUP(A164,'Tabla de Amortizacion'!$D$2:$M$182,MATCH(Tablas!$B$1,'Tabla de Amortizacion'!$D$2:$M$2,0))","v":0},null,{"$f":"IF([1]CALCULADORA!$F$10=\"Contractual\",ROUND('[1]Tabla de Amortizacion'!C165,8),IF([1]CALCULADORA!$F$10=\"6% (Medio)\",ROUND('[1]Tabla de Amortizacion'!F165,8),IF([1]CALCULADORA!$F$10=\"10% (Medio Alto)\",ROUND('[1]Tabla de Amortizacion'!H165,8),IF([1]CALCULADORA!$F$10=\"14% (Alto)\",ROUND('[1]Tabla de Amortizacion'!#REF!,8),IF([1]CALCULADORA!$F$10=20%,ROUND('[1]Tabla de Amortizacion'!#REF!,8),ROUND('[1]Tabla de Amortizacion'!K165,8))))))","v":0}]
["2035-02-24",0,{"$f":"+VLOOKUP(A165,'Tabla de Amortizacion'!$D$2:$M$182,MATCH(Tablas!$B$1,'Tabla de Amortizacion'!$D$2:$M$2,0))","v":0},null,{"$f":"IF([1]CALCULADORA!$F$10=\"Contractual\",ROUND('[1]Tabla de Amortizacion'!C166,8),IF([1]CALCULADORA!$F$10=\"6% (Medio)\",ROUND('[1]Tabla de Amortizacion'!F166,8),IF([1]CALCULADORA!$F$10=\"10% (Medio Alto)\",ROUND('[1]Tabla de Amortizacion'!H166,8),IF([1]CALCULADORA!$F$10=\"14% (Alto)\",ROUND('[1]Tabla de Amortizacion'!#REF!,8),IF([1]CALCULADORA!$F$10=20%,ROUND('[1]Tabla de Amortizacion'!#REF!,8),ROUND('[1]Tabla de Amortizacion'!K166,8))))))","v":0}]
["2035-03-24",0,{"$f":"+VLOOKUP(A166,'Tabla de Amortizacion'!$D$2:$M$182,MATCH(Tablas!$B$1,'Tabla de Amortizacion'!$D$2:$M$2,0))","v":0},null,{"$f":"IF([1]CALCULADORA!$F$10=\"Contractual\",ROUND('[1]Tabla de Amortizacion'!C167,8),IF([1]CALCULADORA!$F$10=\"6% (Medio)\",ROUND('[1]Tabla de Amortizacion'!F167,8),IF([1]CALCULADORA!$F$10=\"10% (Medio Alto)\",ROUND('[1]Tabla de Amortizacion'!H167,8),IF([1]CALCULADORA!$F$10=\"14% (Alto)\",ROUND('[1]Tabla de Amortizacion'!#REF!,8),IF([1]CALCULADORA!$F$10=20%,ROUND('[1]Tabla de Amortizacion'!#REF!,8),ROUND('[1]Tabla de Amortizacion'!K167,8))))))","v":0}]
["2035-04-24",0,{"$f":"+VLOOKUP(A167,'Tabla de Amortizacion'!$D$2:$M$182,MATCH(Tablas!$B$1,'Tabla de Amortizacion'!$D$2:$M$2,0))","v":0},null,{"$f":"IF([1]CALCULADORA!$F$10=\"Contractual\",ROUND('[1]Tabla de Amortizacion'!C168,8),IF([1]CALCULADORA!$F$10=\"6% (Medio)\",ROUND('[1]Tabla de Amortizacion'!F168,8),IF([1]CALCULADORA!$F$10=\"10% (Medio Alto)\",ROUND('[1]Tabla de Amortizacion'!H168,8),IF([1]CALCULADORA!$F$10=\"14% (Alto)\",ROUND('[1]Tabla de Amortizacion'!#REF!,8),IF([1]CALCULADORA!$F$10=20%,ROUND('[1]Tabla de Amortizacion'!#REF!,8),ROUND('[1]Tabla de Amortizacion'!K168,8))))))","v":0}]
["2035-05-24",0,{"$f":"+VLOOKUP(A168,'Tabla de Amortizacion'!$D$2:$M$182,MATCH(Tablas!$B$1,'Tabla de Amortizacion'!$D$2:$M$2,0))","v":0},null,{"$f":"IF([1]CALCULADORA!$F$10=\"Contractual\",ROUND('[1]Tabla de Amortizacion'!C169,8),IF([1]CALCULADORA!$F$10=\"6% (Medio)\",ROUND('[1]Tabla de Amortizacion'!F169,8),IF([1]CALCULADORA!$F$10=\"10% (Medio Alto)\",ROUND('[1]Tabla de Amortizacion'!H169,8),IF([1]CALCULADORA!$F$10=\"14% (Alto)\",ROUND('[1]Tabla de Amortizacion'!#REF!,8),IF([1]CALCULADORA!$F$10=20%,ROUND('[1]Tabla de Amortizacion'!#REF!,8),ROUND('[1]Tabla de Amortizacion'!K169,8))))))","v":0}]
["2035-06-24",0,{"$f":"+VLOOKUP(A169,'Tabla de Amortizacion'!$D$2:$M$182,MATCH(Tablas!$B$1,'Tabla de Amortizacion'!$D$2:$M$2,0))","v":0},null,{"$f":"IF([1]CALCULADORA!$F$10=\"Contractual\",ROUND('[1]Tabla de Amortizacion'!C170,8),IF([1]CALCULADORA!$F$10=\"6% (Medio)\",ROUND('[1]Tabla de Amortizacion'!F170,8),IF([1]CALCULADORA!$F$10=\"10% (Medio Alto)\",ROUND('[1]Tabla de Amortizacion'!H170,8),IF([1]CALCULADORA!$F$10=\"14% (Alto)\",ROUND('[1]Tabla de Amortizacion'!#REF!,8),IF([1]CALCULADORA!$F$10=20%,ROUND('[1]Tabla de Amortizacion'!#REF!,8),ROUND('[1]Tabla de Amortizacion'!K170,8))))))","v":0}]
["2035-07-24",0,{"$f":"+VLOOKUP(A170,'Tabla de Amortizacion'!$D$2:$M$182,MATCH(Tablas!$B$1,'Tabla de Amortizacion'!$D$2:$M$2,0))","v":0},null,{"$f":"IF([1]CALCULADORA!$F$10=\"Contractual\",ROUND('[1]Tabla de Amortizacion'!C171,8),IF([1]CALCULADORA!$F$10=\"6% (Medio)\",ROUND('[1]Tabla de Amortizacion'!F171,8),IF([1]CALCULADORA!$F$10=\"10% (Medio Alto)\",ROUND('[1]Tabla de Amortizacion'!H171,8),IF([1]CALCULADORA!$F$10=\"14% (Alto)\",ROUND('[1]Tabla de Amortizacion'!#REF!,8),IF([1]CALCULADORA!$F$10=20%,ROUND('[1]Tabla de Amortizacion'!#REF!,8),ROUND('[1]Tabla de Amortizacion'!K171,8))))))","v":0}]
["2035-08-24",0,{"$f":"+VLOOKUP(A171,'Tabla de Amortizacion'!$D$2:$M$182,MATCH(Tablas!$B$1,'Tabla de Amortizacion'!$D$2:$M$2,0))","v":0},null,{"$f":"IF([1]CALCULADORA!$F$10=\"Contractual\",ROUND('[1]Tabla de Amortizacion'!C172,8),IF([1]CALCULADORA!$F$10=\"6% (Medio)\",ROUND('[1]Tabla de Amortizacion'!F172,8),IF([1]CALCULADORA!$F$10=\"10% (Medio Alto)\",ROUND('[1]Tabla de Amortizacion'!H172,8),IF([1]CALCULADORA!$F$10=\"14% (Alto)\",ROUND('[1]Tabla de Amortizacion'!#REF!,8),IF([1]CALCULADORA!$F$10=20%,ROUND('[1]Tabla de Amortizacion'!#REF!,8),ROUND('[1]Tabla de Amortizacion'!K172,8))))))","v":0}]
["2035-09-24",0,{"$f":"+VLOOKUP(A172,'Tabla de Amortizacion'!$D$2:$M$182,MATCH(Tablas!$B$1,'Tabla de Amortizacion'!$D$2:$M$2,0))","v":0},null,{"$f":"IF([1]CALCULADORA!$F$10=\"Contractual\",ROUND('[1]Tabla de Amortizacion'!C173,8),IF([1]CALCULADORA!$F$10=\"6% (Medio)\",ROUND('[1]Tabla de Amortizacion'!F173,8),IF([1]CALCULADORA!$F$10=\"10% (Medio Alto)\",ROUND('[1]Tabla de Amortizacion'!H173,8),IF([1]CALCULADORA!$F$10=\"14% (Alto)\",ROUND('[1]Tabla de Amortizacion'!#REF!,8),IF([1]CALCULADORA!$F$10=20%,ROUND('[1]Tabla de Amortizacion'!#REF!,8),ROUND('[1]Tabla de Amortizacion'!K173,8))))))","v":0}]
["2035-10-24",0,{"$f":"+VLOOKUP(A173,'Tabla de Amortizacion'!$D$2:$M$182,MATCH(Tablas!$B$1,'Tabla de Amortizacion'!$D$2:$M$2,0))","v":0},null,{"$f":"IF([1]CALCULADORA!$F$10=\"Contractual\",ROUND('[1]Tabla de Amortizacion'!C174,8),IF([1]CALCULADORA!$F$10=\"6% (Medio)\",ROUND('[1]Tabla de Amortizacion'!F174,8),IF([1]CALCULADORA!$F$10=\"10% (Medio Alto)\",ROUND('[1]Tabla de Amortizacion'!H174,8),IF([1]CALCULADORA!$F$10=\"14% (Alto)\",ROUND('[1]Tabla de Amortizacion'!#REF!,8),IF([1]CALCULADORA!$F$10=20%,ROUND('[1]Tabla de Amortizacion'!#REF!,8),ROUND('[1]Tabla de Amortizacion'!K174,8))))))","v":0}]
["2035-11-24",0,{"$f":"+VLOOKUP(A174,'Tabla de Amortizacion'!$D$2:$M$182,MATCH(Tablas!$B$1,'Tabla de Amortizacion'!$D$2:$M$2,0))","v":0},null,{"$f":"IF([1]CALCULADORA!$F$10=\"Contractual\",ROUND('[1]Tabla de Amortizacion'!C175,8),IF([1]CALCULADORA!$F$10=\"6% (Medio)\",ROUND('[1]Tabla de Amortizacion'!F175,8),IF([1]CALCULADORA!$F$10=\"10% (Medio Alto)\",ROUND('[1]Tabla de Amortizacion'!H175,8),IF([1]CALCULADORA!$F$10=\"14% (Alto)\",ROUND('[1]Tabla de Amortizacion'!#REF!,8),IF([1]CALCULADORA!$F$10=20%,ROUND('[1]Tabla de Amortizacion'!#REF!,8),ROUND('[1]Tabla de Amortizacion'!K175,8))))))","v":0}]
["2035-12-24",0,{"$f":"+VLOOKUP(A175,'Tabla de Amortizacion'!$D$2:$M$182,MATCH(Tablas!$B$1,'Tabla de Amortizacion'!$D$2:$M$2,0))","v":0},null,{"$f":"IF([1]CALCULADORA!$F$10=\"Contractual\",ROUND('[1]Tabla de Amortizacion'!C176,8),IF([1]CALCULADORA!$F$10=\"6% (Medio)\",ROUND('[1]Tabla de Amortizacion'!F176,8),IF([1]CALCULADORA!$F$10=\"10% (Medio Alto)\",ROUND('[1]Tabla de Amortizacion'!H176,8),IF([1]CALCULADORA!$F$10=\"14% (Alto)\",ROUND('[1]Tabla de Amortizacion'!#REF!,8),IF([1]CALCULADORA!$F$10=20%,ROUND('[1]Tabla de Amortizacion'!#REF!,8),ROUND('[1]Tabla de Amortizacion'!K176,8))))))","v":0}]
["2036-01-24",0,{"$f":"+VLOOKUP(A176,'Tabla de Amortizacion'!$D$2:$M$182,MATCH(Tablas!$B$1,'Tabla de Amortizacion'!$D$2:$M$2,0))","v":0},null,{"$f":"IF([1]CALCULADORA!$F$10=\"Contractual\",ROUND('[1]Tabla de Amortizacion'!C177,8),IF([1]CALCULADORA!$F$10=\"6% (Medio)\",ROUND('[1]Tabla de Amortizacion'!F177,8),IF([1]CALCULADORA!$F$10=\"10% (Medio Alto)\",ROUND('[1]Tabla de Amortizacion'!H177,8),IF([1]CALCULADORA!$F$10=\"14% (Alto)\",ROUND('[1]Tabla de Amortizacion'!#REF!,8),IF([1]CALCULADORA!$F$10=20%,ROUND('[1]Tabla de Amortizacion'!#REF!,8),ROUND('[1]Tabla de Amortizacion'!K177,8))))))","v":0}]
["2036-02-24",0,{"$f":"+VLOOKUP(A177,'Tabla de Amortizacion'!$D$2:$M$182,MATCH(Tablas!$B$1,'Tabla de Amortizacion'!$D$2:$M$2,0))","v":0},null,{"$f":"IF([1]CALCULADORA!$F$10=\"Contractual\",ROUND('[1]Tabla de Amortizacion'!C178,8),IF([1]CALCULADORA!$F$10=\"6% (Medio)\",ROUND('[1]Tabla de Amortizacion'!F178,8),IF([1]CALCULADORA!$F$10=\"10% (Medio Alto)\",ROUND('[1]Tabla de Amortizacion'!H178,8),IF([1]CALCULADORA!$F$10=\"14% (Alto)\",ROUND('[1]Tabla de Amortizacion'!#REF!,8),IF([1]CALCULADORA!$F$10=20%,ROUND('[1]Tabla de Amortizacion'!#REF!,8),ROUND('[1]Tabla de Amortizacion'!K178,8))))))","v":0}]
["2036-03-24",0,{"$f":"+VLOOKUP(A178,'Tabla de Amortizacion'!$D$2:$M$182,MATCH(Tablas!$B$1,'Tabla de Amortizacion'!$D$2:$M$2,0))","v":0},null,{"$f":"IF([1]CALCULADORA!$F$10=\"Contractual\",ROUND('[1]Tabla de Amortizacion'!C179,8),IF([1]CALCULADORA!$F$10=\"6% (Medio)\",ROUND('[1]Tabla de Amortizacion'!F179,8),IF([1]CALCULADORA!$F$10=\"10% (Medio Alto)\",ROUND('[1]Tabla de Amortizacion'!H179,8),IF([1]CALCULADORA!$F$10=\"14% (Alto)\",ROUND('[1]Tabla de Amortizacion'!#REF!,8),IF([1]CALCULADORA!$F$10=20%,ROUND('[1]Tabla de Amortizacion'!#REF!,8),ROUND('[1]Tabla de Amortizacion'!K179,8))))))","v":0}]
["2036-04-24",0,{"$f":"+VLOOKUP(A179,'Tabla de Amortizacion'!$D$2:$M$182,MATCH(Tablas!$B$1,'Tabla de Amortizacion'!$D$2:$M$2,0))","v":0},null,{"$f":"IF([1]CALCULADORA!$F$10=\"Contractual\",ROUND('[1]Tabla de Amortizacion'!C180,8),IF([1]CALCULADORA!$F$10=\"6% (Medio)\",ROUND('[1]Tabla de Amortizacion'!F180,8),IF([1]CALCULADORA!$F$10=\"10% (Medio Alto)\",ROUND('[1]Tabla de Amortizacion'!H180,8),IF([1]CALCULADORA!$F$10=\"14% (Alto)\",ROUND('[1]Tabla de Amortizacion'!#REF!,8),IF([1]CALCULADORA!$F$10=20%,ROUND('[1]Tabla de Amortizacion'!#REF!,8),ROUND('[1]Tabla de Amortizacion'!K180,8))))))","v":0}]
["2036-05-24",0,{"$f":"+VLOOKUP(A180,'Tabla de Amortizacion'!$D$2:$M$182,MATCH(Tablas!$B$1,'Tabla de Amortizacion'!$D$2:$M$2,0))","v":0},null,{"$f":"IF([1]CALCULADORA!$F$10=\"Contractual\",ROUND('[1]Tabla de Amortizacion'!C181,8),IF([1]CALCULADORA!$F$10=\"6% (Medio)\",ROUND('[1]Tabla de Amortizacion'!F181,8),IF([1]CALCULADORA!$F$10=\"10% (Medio Alto)\",ROUND('[1]Tabla de Amortizacion'!H181,8),IF([1]CALCULADORA!$F$10=\"14% (Alto)\",ROUND('[1]Tabla de Amortizacion'!#REF!,8),IF([1]CALCULADORA!$F$10=20%,ROUND('[1]Tabla de Amortizacion'!#REF!,8),ROUND('[1]Tabla de Amortizacion'!K181,8))))))","v":0}]
["2036-06-24",0,{"$f":"+VLOOKUP(A181,'Tabla de Amortizacion'!$D$2:$M$182,MATCH(Tablas!$B$1,'Tabla de Amortizacion'!$D$2:$M$2,0))","v":0},null,{"$f":"IF([1]CALCULADORA!$F$10=\"Contractual\",ROUND('[1]Tabla de Amortizacion'!C182,8),IF([1]CALCULADORA!$F$10=\"6% (Medio)\",ROUND('[1]Tabla de Amortizacion'!F182,8),IF([1]CALCULADORA!$F$10=\"10% (Medio Alto)\",ROUND('[1]Tabla de Amortizacion'!H182,8),IF([1]CALCULADORA!$F$10=\"14% (Alto)\",ROUND('[1]Tabla de Amortizacion'!#REF!,8),IF([1]CALCULADORA!$F$10=20%,ROUND('[1]Tabla de Amortizacion'!#REF!,8),ROUND('[1]Tabla de Amortizacion'!K182,8))))))","v":0}]

{"sheet":"Exclusión","index":6,"n_rows":1,"n_cols":1,"rows_kept":1,"cut":false,"hidden":false,"merged":[[0,0,13,7]]}
["“Titularizadora Colombiana S.A publica el presente documento con un carácter estrictamente informativo para los inversionistas. Aunque la información aquí contenida ha sido obtenida de fuentes que la compañía considera confiables, Titularizadora Colombiana S.A no garantiza su exactitud. En ningún caso su contenido se puede considerar como una opinión financiera o legal ni como una recomendación de negocios o de inversión por parte de nuestra compañía. Tampoco puede ser considerado como una invitación a realizar negocios ni como una oferta para comprar o vender ningún tipo de valor. En ningún caso Titularizadora Colombiana S.A asume responsabilidad por las decisiones de inversión que se tomen, o el resultado de cualquier operación que se efectúe por parte de los destinatarios o de terceras personas, sobre la información aquí contenida. Tal responsabilidad es exclusiva de los inversionistas que hagan uso de ella. Dicha información puede tener variaciones posteriores a la fecha de su publicación razón por la cual Titularizadora Colombiana S.A se reserva el derecho de modificarla o actualizarla en cualquier tiempo y sin previo aviso.”"]